| Back to Multiple platform build/check report for BioC 3.7 | 
 | 
This page was generated on 2018-10-17 08:35:30 -0400 (Wed, 17 Oct 2018).
| Package 308/1561 | Hostname | OS / Arch | INSTALL | BUILD | CHECK | BUILD BIN | ||||||
| Cormotif 1.26.0 Yingying Wei 
 | malbec2 | Linux (Ubuntu 16.04.1 LTS) / x86_64 | OK | OK | OK |  | ||||||
| tokay2 | Windows Server 2012 R2 Standard / x64 | [ OK ] | OK | OK | OK |  | ||||||
| merida2 | OS X 10.11.6 El Capitan / x86_64 | OK | OK | OK | OK |  | 
| Package: Cormotif | 
| Version: 1.26.0 | 
| Command: C:\cygwin\bin\curl.exe -O https://malbec2.bioconductor.org/BBS/3.7/bioc/src/contrib/Cormotif_1.26.0.tar.gz && rm -rf Cormotif.buildbin-libdir && mkdir Cormotif.buildbin-libdir && C:\Users\biocbuild\bbs-3.7-bioc\R\bin\R.exe CMD INSTALL --merge-multiarch --build --library=Cormotif.buildbin-libdir Cormotif_1.26.0.tar.gz && C:\Users\biocbuild\bbs-3.7-bioc\R\bin\R.exe CMD INSTALL Cormotif_1.26.0.zip && rm Cormotif_1.26.0.tar.gz Cormotif_1.26.0.zip | 
| StartedAt: 2018-10-16 19:53:04 -0400 (Tue, 16 Oct 2018) | 
| EndedAt: 2018-10-16 19:53:25 -0400 (Tue, 16 Oct 2018) | 
| EllapsedTime: 20.5 seconds | 
| RetCode: 0 | 
| Status: OK | 
##############################################################################
##############################################################################
###
### Running command:
###
###   C:\cygwin\bin\curl.exe -O https://malbec2.bioconductor.org/BBS/3.7/bioc/src/contrib/Cormotif_1.26.0.tar.gz && rm -rf Cormotif.buildbin-libdir && mkdir Cormotif.buildbin-libdir && C:\Users\biocbuild\bbs-3.7-bioc\R\bin\R.exe CMD INSTALL --merge-multiarch --build --library=Cormotif.buildbin-libdir Cormotif_1.26.0.tar.gz && C:\Users\biocbuild\bbs-3.7-bioc\R\bin\R.exe CMD INSTALL Cormotif_1.26.0.zip && rm Cormotif_1.26.0.tar.gz Cormotif_1.26.0.zip
###
##############################################################################
##############################################################################
  % Total    % Received % Xferd  Average Speed   Time    Time     Time  Current
                                 Dload  Upload   Total   Spent    Left  Speed
  0     0    0     0    0     0      0      0 --:--:-- --:--:-- --:--:--     0
100  166k  100  166k    0     0  2715k      0 --:--:-- --:--:-- --:--:-- 3033k
install for i386
* installing *source* package 'Cormotif' ...
** R
** data
** inst
** byte-compile and prepare package for lazy loading
** help
*** installing help indices
  converting help for package 'Cormotif'
    finding HTML links ... done
    cormotif-internal                       html  
    cormotiffit                             html  
    cormotiffitall                          html  
    cormotiffitfull                         html  
    cormotiffitsep                          html  
    generank                                html  
    plotIC                                  html  
    plotMotif                               html  
    simudata2                               html  
** building package indices
** installing vignettes
** testing if installed package can be loaded
In R CMD INSTALL
install for x64
* installing *source* package 'Cormotif' ...
** testing if installed package can be loaded
* MD5 sums
packaged installation of 'Cormotif' as Cormotif_1.26.0.zip
* DONE (Cormotif)
In R CMD INSTALL
In R CMD INSTALL
* installing to library 'C:/Users/biocbuild/bbs-3.7-bioc/R/library'
package 'Cormotif' successfully unpacked and MD5 sums checked
In R CMD INSTALL