| Back to Multiple platform build/check report for BioC 3.7 |
|
This page was generated on 2018-10-17 08:44:12 -0400 (Wed, 17 Oct 2018).
| Package 262/1561 | Hostname | OS / Arch | INSTALL | BUILD | CHECK | BUILD BIN | ||||||
| ClusterJudge 1.2.0 Adrian Pasculescu
| malbec2 | Linux (Ubuntu 16.04.1 LTS) / x86_64 | OK | OK | OK | |||||||
| tokay2 | Windows Server 2012 R2 Standard / x64 | [ OK ] | OK | ERROR | OK | |||||||
| merida2 | OS X 10.11.6 El Capitan / x86_64 | OK | OK | OK | OK |
| Package: ClusterJudge |
| Version: 1.2.0 |
| Command: C:\cygwin\bin\curl.exe -O https://malbec2.bioconductor.org/BBS/3.7/bioc/src/contrib/ClusterJudge_1.2.0.tar.gz && rm -rf ClusterJudge.buildbin-libdir && mkdir ClusterJudge.buildbin-libdir && C:\Users\biocbuild\bbs-3.7-bioc\R\bin\R.exe CMD INSTALL --merge-multiarch --build --library=ClusterJudge.buildbin-libdir ClusterJudge_1.2.0.tar.gz && C:\Users\biocbuild\bbs-3.7-bioc\R\bin\R.exe CMD INSTALL ClusterJudge_1.2.0.zip && rm ClusterJudge_1.2.0.tar.gz ClusterJudge_1.2.0.zip |
| StartedAt: 2018-10-16 18:56:17 -0400 (Tue, 16 Oct 2018) |
| EndedAt: 2018-10-16 18:57:32 -0400 (Tue, 16 Oct 2018) |
| EllapsedTime: 75.6 seconds |
| RetCode: 0 |
| Status: OK |
##############################################################################
##############################################################################
###
### Running command:
###
### C:\cygwin\bin\curl.exe -O https://malbec2.bioconductor.org/BBS/3.7/bioc/src/contrib/ClusterJudge_1.2.0.tar.gz && rm -rf ClusterJudge.buildbin-libdir && mkdir ClusterJudge.buildbin-libdir && C:\Users\biocbuild\bbs-3.7-bioc\R\bin\R.exe CMD INSTALL --merge-multiarch --build --library=ClusterJudge.buildbin-libdir ClusterJudge_1.2.0.tar.gz && C:\Users\biocbuild\bbs-3.7-bioc\R\bin\R.exe CMD INSTALL ClusterJudge_1.2.0.zip && rm ClusterJudge_1.2.0.tar.gz ClusterJudge_1.2.0.zip
###
##############################################################################
##############################################################################
% Total % Received % Xferd Average Speed Time Time Time Current
Dload Upload Total Spent Left Speed
0 0 0 0 0 0 0 0 --:--:-- --:--:-- --:--:-- 0
100 798k 100 798k 0 0 10.8M 0 --:--:-- --:--:-- --:--:-- 12.1M
install for i386
* installing *source* package 'ClusterJudge' ...
** R
** data
*** moving datasets to lazyload DB
** byte-compile and prepare package for lazy loading
** help
*** installing help indices
converting help for package 'ClusterJudge'
finding HTML links ... done
ClusterJudge-package html
Yeast.GO.assocs html
attribute_mut_inf html
clusterJudge html
clusterJudge_z_score html
consolidate_entity_attribute html
convert_Yeast_SGDId_2_systematic html
download_Yeast_GO_mapping html
download_Yeast_Go_terms html
entities_attribute_stats html
mi.GO.Yeast html
validate_association html
** building package indices
** installing vignettes
** testing if installed package can be loaded
In R CMD INSTALL
install for x64
* installing *source* package 'ClusterJudge' ...
** testing if installed package can be loaded
* MD5 sums
packaged installation of 'ClusterJudge' as ClusterJudge_1.2.0.zip
* DONE (ClusterJudge)
In R CMD INSTALL
In R CMD INSTALL
* installing to library 'C:/Users/biocbuild/bbs-3.7-bioc/R/library'
package 'ClusterJudge' successfully unpacked and MD5 sums checked
In R CMD INSTALL