| Back to Multiple platform build/check report for BioC 3.7 |
|
This page was generated on 2018-10-17 08:48:59 -0400 (Wed, 17 Oct 2018).
| Package 256/1561 | Hostname | OS / Arch | INSTALL | BUILD | CHECK | BUILD BIN | ||||||
| Clonality 1.28.0 Irina Ostrovnaya
| malbec2 | Linux (Ubuntu 16.04.1 LTS) / x86_64 | OK | OK | OK | |||||||
| tokay2 | Windows Server 2012 R2 Standard / x64 | OK | OK | OK | OK | |||||||
| merida2 | OS X 10.11.6 El Capitan / x86_64 | OK | OK | [ OK ] | OK |
| Package: Clonality |
| Version: 1.28.0 |
| Command: /Library/Frameworks/R.framework/Versions/Current/Resources/bin/R CMD check --install=check:Clonality.install-out.txt --library=/Library/Frameworks/R.framework/Versions/Current/Resources/library --no-vignettes --timings Clonality_1.28.0.tar.gz |
| StartedAt: 2018-10-16 20:31:25 -0400 (Tue, 16 Oct 2018) |
| EndedAt: 2018-10-16 20:35:42 -0400 (Tue, 16 Oct 2018) |
| EllapsedTime: 256.7 seconds |
| RetCode: 0 |
| Status: OK |
| CheckDir: Clonality.Rcheck |
| Warnings: 0 |
##############################################################################
##############################################################################
###
### Running command:
###
### /Library/Frameworks/R.framework/Versions/Current/Resources/bin/R CMD check --install=check:Clonality.install-out.txt --library=/Library/Frameworks/R.framework/Versions/Current/Resources/library --no-vignettes --timings Clonality_1.28.0.tar.gz
###
##############################################################################
##############################################################################
* using log directory ‘/Users/biocbuild/bbs-3.7-bioc/meat/Clonality.Rcheck’
* using R version 3.5.1 Patched (2018-07-12 r74967)
* using platform: x86_64-apple-darwin15.6.0 (64-bit)
* using session charset: UTF-8
* using option ‘--no-vignettes’
* checking for file ‘Clonality/DESCRIPTION’ ... OK
* checking extension type ... Package
* this is package ‘Clonality’ version ‘1.28.0’
* checking package namespace information ... OK
* checking package dependencies ... OK
* checking if this is a source package ... OK
* checking if there is a namespace ... OK
* checking for hidden files and directories ... OK
* checking for portable file names ... OK
* checking for sufficient/correct file permissions ... OK
* checking whether package ‘Clonality’ can be installed ... OK
* checking installed package size ... OK
* checking package directory ... OK
* checking ‘build’ directory ... OK
* checking DESCRIPTION meta-information ... NOTE
Malformed Description field: should contain one or more complete sentences.
* checking top-level files ... OK
* checking for left-over files ... OK
* checking index information ... OK
* checking package subdirectories ... OK
* checking R files for non-ASCII characters ... OK
* checking R files for syntax errors ... OK
* checking whether the package can be loaded ... OK
* checking whether the package can be loaded with stated dependencies ... OK
* checking whether the package can be unloaded cleanly ... OK
* checking whether the namespace can be loaded with stated dependencies ... OK
* checking whether the namespace can be unloaded cleanly ... OK
* checking dependencies in R code ... OK
* checking S3 generic/method consistency ... OK
* checking replacement functions ... OK
* checking foreign function calls ... NOTE
Foreign function call to a different package:
.Fortran("fndcpt", ..., PACKAGE = "DNAcopy")
See chapter ‘System and foreign language interfaces’ in the ‘Writing R
Extensions’ manual.
* checking R code for possible problems ... OK
* checking Rd files ... OK
* checking Rd metadata ... OK
* checking Rd cross-references ... OK
* checking for missing documentation entries ... OK
* checking for code/documentation mismatches ... OK
* checking Rd \usage sections ... OK
* checking Rd contents ... OK
* checking for unstated dependencies in examples ... OK
* checking contents of ‘data’ directory ... OK
* checking data for non-ASCII characters ... OK
* checking data for ASCII and uncompressed saves ... OK
* checking sizes of PDF files under ‘inst/doc’ ... OK
* checking files in ‘vignettes’ ... OK
* checking examples ... OK
Examples with CPU or elapsed time > 5s
user system elapsed
clonality.analysis 101.908 0.429 103.609
LRtesting3or4tumors 76.184 0.135 77.251
LOHclonality 11.154 0.397 11.661
ECMtesting 8.994 0.035 9.116
* checking for unstated dependencies in vignettes ... OK
* checking package vignettes in ‘inst/doc’ ... OK
* checking running R code from vignettes ... SKIPPED
* checking re-building of vignette outputs ... SKIPPED
* checking PDF version of manual ... OK
* DONE
Status: 2 NOTEs
See
‘/Users/biocbuild/bbs-3.7-bioc/meat/Clonality.Rcheck/00check.log’
for details.
Clonality.Rcheck/00install.out
############################################################################## ############################################################################## ### ### Running command: ### ### /Library/Frameworks/R.framework/Versions/Current/Resources/bin/R CMD INSTALL Clonality ### ############################################################################## ############################################################################## * installing to library ‘/Library/Frameworks/R.framework/Versions/3.5/Resources/library’ * installing *source* package ‘Clonality’ ... ** R ** data ** byte-compile and prepare package for lazy loading ** help *** installing help indices ** building package indices ** installing vignettes ** testing if installed package can be loaded * DONE (Clonality)
Clonality.Rcheck/Clonality-Ex.timings
| name | user | system | elapsed | |
| ECMtesting | 8.994 | 0.035 | 9.116 | |
| LOHclonality | 11.154 | 0.397 | 11.661 | |
| LRtesting3or4tumors | 76.184 | 0.135 | 77.251 | |
| SNVtest | 0.441 | 0.053 | 0.495 | |
| ave.adj.probes | 1.740 | 0.055 | 1.812 | |
| chromosomePlots | 0.001 | 0.000 | 0.002 | |
| clonality.analysis | 101.908 | 0.429 | 103.609 | |
| genomewidePlots | 0.001 | 0.000 | 0.002 | |
| histogramPlot | 0.001 | 0.000 | 0.002 | |
| mutation.proba | 0.863 | 0.009 | 0.880 | |
| mutation.rem | 2.712 | 0.024 | 2.769 | |
| splitChromosomes | 0.008 | 0.001 | 0.009 | |