| Back to Multiple platform build/check report for BioC 3.7 |
|
This page was generated on 2018-10-17 08:37:36 -0400 (Wed, 17 Oct 2018).
| Package 221/1561 | Hostname | OS / Arch | INSTALL | BUILD | CHECK | BUILD BIN | ||||||
| ChemmineOB 1.18.0 Thomas Girke
| malbec2 | Linux (Ubuntu 16.04.1 LTS) / x86_64 | OK | OK | OK | |||||||
| tokay2 | Windows Server 2012 R2 Standard / x64 | [ OK ] | OK | OK | OK | |||||||
| merida2 | OS X 10.11.6 El Capitan / x86_64 | OK | OK | WARNINGS | OK |
| Package: ChemmineOB |
| Version: 1.18.0 |
| Command: C:\cygwin\bin\curl.exe -O https://malbec2.bioconductor.org/BBS/3.7/bioc/src/contrib/ChemmineOB_1.18.0.tar.gz && rm -rf ChemmineOB.buildbin-libdir && mkdir ChemmineOB.buildbin-libdir && C:\Users\biocbuild\bbs-3.7-bioc\R\bin\R.exe CMD INSTALL --merge-multiarch --build --library=ChemmineOB.buildbin-libdir ChemmineOB_1.18.0.tar.gz && C:\Users\biocbuild\bbs-3.7-bioc\R\bin\R.exe CMD INSTALL ChemmineOB_1.18.0.zip && rm ChemmineOB_1.18.0.tar.gz ChemmineOB_1.18.0.zip |
| StartedAt: 2018-10-16 19:19:30 -0400 (Tue, 16 Oct 2018) |
| EndedAt: 2018-10-16 19:32:55 -0400 (Tue, 16 Oct 2018) |
| EllapsedTime: 805.3 seconds |
| RetCode: 0 |
| Status: OK |
##############################################################################
##############################################################################
###
### Running command:
###
### C:\cygwin\bin\curl.exe -O https://malbec2.bioconductor.org/BBS/3.7/bioc/src/contrib/ChemmineOB_1.18.0.tar.gz && rm -rf ChemmineOB.buildbin-libdir && mkdir ChemmineOB.buildbin-libdir && C:\Users\biocbuild\bbs-3.7-bioc\R\bin\R.exe CMD INSTALL --merge-multiarch --build --library=ChemmineOB.buildbin-libdir ChemmineOB_1.18.0.tar.gz && C:\Users\biocbuild\bbs-3.7-bioc\R\bin\R.exe CMD INSTALL ChemmineOB_1.18.0.zip && rm ChemmineOB_1.18.0.tar.gz ChemmineOB_1.18.0.zip
###
##############################################################################
##############################################################################
% Total % Received % Xferd Average Speed Time Time Time Current
Dload Upload Total Spent Left Speed
0 0 0 0 0 0 0 0 --:--:-- --:--:-- --:--:-- 0
100 958k 100 958k 0 0 12.6M 0 --:--:-- --:--:-- --:--:-- 13.9M
install for i386
* installing *source* package 'ChemmineOB' ...
**********************************************
WARNING: this package has a configure script
It probably needs manual configuration
**********************************************
** libs
C:/Rtools/mingw_32/bin/g++ -I"C:/Users/BIOCBU˜1/BBS-3˜1.7-B/R/include" -DNDEBUG -I"C:/Users/biocbuild/bbs-3.7-bioc/R/library/BH/include" -I"C:/Users/biocbuild/bbs-3.7-bioc/R/library/Rcpp/include" -I"C:/extsoft/include" -IC:/openbabel/src/i386/include -O2 -Wall -mtune=generic -c ChemmineOB.cpp -o ChemmineOB.o
ChemmineOB.cpp: In function 'SEXPREC* SWIG_MakePtr(void*, const char*, R_SWIG_Owner)':
ChemmineOB.cpp:953:15: warning: variable 'p' set but not used [-Wunused-but-set-variable]
const char *p = typeName;
^
C:/Rtools/mingw_32/bin/g++ -I"C:/Users/BIOCBU˜1/BBS-3˜1.7-B/R/include" -DNDEBUG -I"C:/Users/biocbuild/bbs-3.7-bioc/R/library/BH/include" -I"C:/Users/biocbuild/bbs-3.7-bioc/R/library/Rcpp/include" -I"C:/extsoft/include" -IC:/openbabel/src/i386/include -O2 -Wall -mtune=generic -c canonical.cpp -o canonical.o
C:/Rtools/mingw_32/bin/g++ -shared -s -static-libgcc -o ChemmineOB.dll tmp.def ChemmineOB.o canonical.o -LC:/openbabel/bin/i386/bin -lopenbabel -LC:/Users/biocbuild/bbs-3.7-bioc/R/library/zlibbioc/libs/i386 -lzlib1bioc -LC:/extsoft/lib/i386 -LC:/extsoft/lib -LC:/Users/BIOCBU˜1/BBS-3˜1.7-B/R/bin/i386 -lR
installing to C:/Users/biocbuild/bbs-3.7-bioc/meat/ChemmineOB.buildbin-libdir/ChemmineOB/libs/i386
** R
** inst
** byte-compile and prepare package for lazy loading
in method for 'copyToR' with signature '"_p_std::pair<(unsigned int,unsigned int)>"': no definition for class "_p_std::pair<(unsigned int,unsigned int)>"
in method for 'copyToR' with signature '"_p_OpenBabel::DoubleType"': no definition for class "_p_OpenBabel::DoubleType"
in method for 'copyToR' with signature '"_p_OpenBabel::CharPtrLess"': no definition for class "_p_OpenBabel::CharPtrLess"
in method for 'copyToR' with signature '"_p_OpenBabel::FptIndexHeader"': no definition for class "_p_OpenBabel::FptIndexHeader"
in method for 'copyToR' with signature '"_p_OpenBabel::LineSearchType"': no definition for class "_p_OpenBabel::LineSearchType"
** help
*** installing help indices
converting help for package 'ChemmineOB'
finding HTML links ... done
OB-classes html
canonicalNumbering_OB html
convertFormat html
convertFormatFile html
convertToImage html
exactMass_OB html
fingerprint_OB html
forEachMol html
prop_OB html
smartsSearch_OB html
** building package indices
** installing vignettes
** testing if installed package can be loaded
In R CMD INSTALL
install for x64
* installing *source* package 'ChemmineOB' ...
**********************************************
WARNING: this package has a configure script
It probably needs manual configuration
**********************************************
** libs
C:/Rtools/mingw_64/bin/g++ -I"C:/Users/BIOCBU˜1/BBS-3˜1.7-B/R/include" -DNDEBUG -I"C:/Users/biocbuild/bbs-3.7-bioc/R/library/BH/include" -I"C:/Users/biocbuild/bbs-3.7-bioc/R/library/Rcpp/include" -I"C:/extsoft/include" -IC:/openbabel/src/x64/include -O2 -Wall -mtune=generic -c ChemmineOB.cpp -o ChemmineOB.o
ChemmineOB.cpp: In function 'SEXPREC* SWIG_MakePtr(void*, const char*, R_SWIG_Owner)':
ChemmineOB.cpp:953:15: warning: variable 'p' set but not used [-Wunused-but-set-variable]
const char *p = typeName;
^
C:/Rtools/mingw_64/bin/g++ -I"C:/Users/BIOCBU˜1/BBS-3˜1.7-B/R/include" -DNDEBUG -I"C:/Users/biocbuild/bbs-3.7-bioc/R/library/BH/include" -I"C:/Users/biocbuild/bbs-3.7-bioc/R/library/Rcpp/include" -I"C:/extsoft/include" -IC:/openbabel/src/x64/include -O2 -Wall -mtune=generic -c canonical.cpp -o canonical.o
C:/Rtools/mingw_64/bin/g++ -shared -s -static-libgcc -o ChemmineOB.dll tmp.def ChemmineOB.o canonical.o -LC:/openbabel/bin/x64/bin -lopenbabel -LC:/Users/biocbuild/bbs-3.7-bioc/R/library/zlibbioc/libs/x64 -lzlib1bioc -LC:/extsoft/lib/x64 -LC:/extsoft/lib -LC:/Users/BIOCBU˜1/BBS-3˜1.7-B/R/bin/x64 -lR
installing to C:/Users/biocbuild/bbs-3.7-bioc/meat/ChemmineOB.buildbin-libdir/ChemmineOB/libs/x64
** testing if installed package can be loaded
* MD5 sums
packaged installation of 'ChemmineOB' as ChemmineOB_1.18.0.zip
* DONE (ChemmineOB)
In R CMD INSTALL
In R CMD INSTALL
* installing to library 'C:/Users/biocbuild/bbs-3.7-bioc/R/library'
package 'ChemmineOB' successfully unpacked and MD5 sums checked
In R CMD INSTALL