| Back to Multiple platform build/check report for BioC 3.7 |
|
This page was generated on 2018-10-17 08:21:29 -0400 (Wed, 17 Oct 2018).
| Package 192/1561 | Hostname | OS / Arch | INSTALL | BUILD | CHECK | BUILD BIN | ||||||
| Category 2.46.0 Bioconductor Package Maintainer
| malbec2 | Linux (Ubuntu 16.04.1 LTS) / x86_64 | OK | OK | [ OK ] | |||||||
| tokay2 | Windows Server 2012 R2 Standard / x64 | OK | OK | OK | OK | |||||||
| merida2 | OS X 10.11.6 El Capitan / x86_64 | OK | OK | OK | OK |
| Package: Category |
| Version: 2.46.0 |
| Command: /home/biocbuild/bbs-3.7-bioc/R/bin/R CMD check --install=check:Category.install-out.txt --library=/home/biocbuild/bbs-3.7-bioc/R/library --no-vignettes --timings Category_2.46.0.tar.gz |
| StartedAt: 2018-10-15 23:00:28 -0400 (Mon, 15 Oct 2018) |
| EndedAt: 2018-10-15 23:03:04 -0400 (Mon, 15 Oct 2018) |
| EllapsedTime: 156.4 seconds |
| RetCode: 0 |
| Status: OK |
| CheckDir: Category.Rcheck |
| Warnings: 0 |
############################################################################## ############################################################################## ### ### Running command: ### ### /home/biocbuild/bbs-3.7-bioc/R/bin/R CMD check --install=check:Category.install-out.txt --library=/home/biocbuild/bbs-3.7-bioc/R/library --no-vignettes --timings Category_2.46.0.tar.gz ### ############################################################################## ############################################################################## * using log directory ‘/home/biocbuild/bbs-3.7-bioc/meat/Category.Rcheck’ * using R version 3.5.1 Patched (2018-07-12 r74967) * using platform: x86_64-pc-linux-gnu (64-bit) * using session charset: UTF-8 * using option ‘--no-vignettes’ * checking for file ‘Category/DESCRIPTION’ ... OK * this is package ‘Category’ version ‘2.46.0’ * checking package namespace information ... OK * checking package dependencies ... OK * checking if this is a source package ... OK * checking if there is a namespace ... OK * checking for hidden files and directories ... OK * checking for portable file names ... OK * checking for sufficient/correct file permissions ... OK * checking whether package ‘Category’ can be installed ... OK * checking installed package size ... OK * checking package directory ... OK * checking ‘build’ directory ... OK * checking DESCRIPTION meta-information ... OK * checking top-level files ... OK * checking for left-over files ... OK * checking index information ... OK * checking package subdirectories ... OK * checking R files for non-ASCII characters ... OK * checking R files for syntax errors ... OK * checking whether the package can be loaded ... OK * checking whether the package can be loaded with stated dependencies ... OK * checking whether the package can be unloaded cleanly ... OK * checking whether the namespace can be loaded with stated dependencies ... OK * checking whether the namespace can be unloaded cleanly ... OK * checking dependencies in R code ... OK * checking S3 generic/method consistency ... OK * checking replacement functions ... OK * checking foreign function calls ... OK * checking R code for possible problems ... OK * checking Rd files ... OK * checking Rd metadata ... OK * checking Rd cross-references ... OK * checking for missing documentation entries ... OK * checking for code/documentation mismatches ... OK * checking Rd \usage sections ... OK * checking Rd contents ... OK * checking for unstated dependencies in examples ... OK * checking files in ‘vignettes’ ... OK * checking examples ... OK * checking for unstated dependencies in ‘tests’ ... OK * checking tests ... Running ‘runTests.R’ OK * checking for unstated dependencies in vignettes ... OK * checking package vignettes in ‘inst/doc’ ... OK * checking running R code from vignettes ... SKIPPED * checking re-building of vignette outputs ... SKIPPED * checking PDF version of manual ... OK * DONE Status: OK
Category.Rcheck/00install.out
############################################################################## ############################################################################## ### ### Running command: ### ### /home/biocbuild/bbs-3.7-bioc/R/bin/R CMD INSTALL Category ### ############################################################################## ############################################################################## * installing to library ‘/home/biocbuild/bbs-3.7-bioc/R/library’ * installing *source* package ‘Category’ ... ** R ** inst ** byte-compile and prepare package for lazy loading ** help *** installing help indices ** building package indices ** installing vignettes ** testing if installed package can be loaded * DONE (Category)
Category.Rcheck/tests/runTests.Rout
R version 3.5.1 Patched (2018-07-12 r74967) -- "Feather Spray"
Copyright (C) 2018 The R Foundation for Statistical Computing
Platform: x86_64-pc-linux-gnu (64-bit)
R is free software and comes with ABSOLUTELY NO WARRANTY.
You are welcome to redistribute it under certain conditions.
Type 'license()' or 'licence()' for distribution details.
R is a collaborative project with many contributors.
Type 'contributors()' for more information and
'citation()' on how to cite R or R packages in publications.
Type 'demo()' for some demos, 'help()' for on-line help, or
'help.start()' for an HTML browser interface to help.
Type 'q()' to quit R.
> require("Category") || stop("unable to load Category")
Loading required package: Category
Loading required package: stats4
Loading required package: BiocGenerics
Loading required package: parallel
Attaching package: 'BiocGenerics'
The following objects are masked from 'package:parallel':
clusterApply, clusterApplyLB, clusterCall, clusterEvalQ,
clusterExport, clusterMap, parApply, parCapply, parLapply,
parLapplyLB, parRapply, parSapply, parSapplyLB
The following objects are masked from 'package:stats':
IQR, mad, sd, var, xtabs
The following objects are masked from 'package:base':
Filter, Find, Map, Position, Reduce, anyDuplicated, append,
as.data.frame, basename, cbind, colMeans, colSums, colnames,
dirname, do.call, duplicated, eval, evalq, get, grep, grepl,
intersect, is.unsorted, lapply, lengths, mapply, match, mget,
order, paste, pmax, pmax.int, pmin, pmin.int, rank, rbind,
rowMeans, rowSums, rownames, sapply, setdiff, sort, table, tapply,
union, unique, unsplit, which, which.max, which.min
Loading required package: AnnotationDbi
Loading required package: Biobase
Welcome to Bioconductor
Vignettes contain introductory material; view with
'browseVignettes()'. To cite Bioconductor, see
'citation("Biobase")', and for packages 'citation("pkgname")'.
Loading required package: IRanges
Loading required package: S4Vectors
Attaching package: 'S4Vectors'
The following object is masked from 'package:base':
expand.grid
Loading required package: Matrix
Attaching package: 'Matrix'
The following object is masked from 'package:S4Vectors':
expand
[1] TRUE
> BiocGenerics:::testPackage("Category", "UnitTests", ".*_test\\.R$")
Loading required package: org.Hs.eg.db
'select()' returned 1:many mapping between keys and columns
'select()' returned 1:many mapping between keys and columns
'select()' returned 1:many mapping between keys and columns
Loading required package: graph
Attaching package: 'GOstats'
The following object is masked from 'package:AnnotationDbi':
makeGOGraph
RUNIT TEST PROTOCOL -- Mon Oct 15 23:03:01 2018
***********************************************
Number of test functions: 14
Number of errors: 0
Number of failures: 0
1 Test Suite :
Category RUnit Tests - 14 test functions, 0 errors, 0 failures
Number of test functions: 14
Number of errors: 0
Number of failures: 0
Warning messages:
1: In makeValidParams(.Object) : removing duplicate IDs in geneIds
2: In makeValidParams(.Object) : removing duplicate IDs in universeGeneIds
3: In makeValidParams(.Object) : removing geneIds not in universeGeneIds
4: In makeValidParams(.Object) : removing duplicate IDs in geneIds
5: In makeValidParams(.Object) : removing duplicate IDs in universeGeneIds
6: In makeValidParams(.Object) : removing geneIds not in universeGeneIds
7: In makeValidParams(.Object) :
converting geneIds from list to atomic vector via unlist
8: In makeValidParams(.Object) :
converting univ from list to atomic vector via unlist
9: In makeValidParams(.Object) : removing duplicate IDs in universeGeneIds
>
> proc.time()
user system elapsed
44.516 7.268 51.964
Category.Rcheck/Category-Ex.timings
| name | user | system | elapsed | |
| ChrBandTree-class | 3.676 | 0.124 | 3.834 | |
| ChrMapHyperGParams-class | 0.004 | 0.000 | 0.001 | |
| ChrMapHyperGResult-class | 0.000 | 0.000 | 0.001 | |
| ChrMapLinearMParams-class | 0.000 | 0.000 | 0.001 | |
| ChrMapLinearMResult-class | 0.000 | 0.000 | 0.001 | |
| DatPkg-class | 0.040 | 0.004 | 0.045 | |
| HyperGResult-accessors | 0.884 | 0.016 | 1.007 | |
| LinearMResult-class | 0.000 | 0.000 | 0.001 | |
| MAPAmat | 2.364 | 0.008 | 2.374 | |
| applyByCategory | 0.004 | 0.000 | 0.004 | |
| cateGOryMatrix | 0.364 | 0.016 | 0.391 | |
| cb_parse_band_Hs | 0 | 0 | 0 | |
| cb_parse_band_Mm | 0.000 | 0.000 | 0.001 | |
| findAMstats | 0.000 | 0.004 | 0.003 | |
| getPathNames | 0.052 | 0.000 | 0.054 | |
| gseattperm | 1.228 | 0.016 | 1.247 | |
| hyperg | 0.500 | 0.000 | 0.502 | |
| makeChrBandGraph | 1.688 | 0.000 | 1.689 | |
| makeEBcontr | 0.080 | 0.004 | 0.085 | |
| probes2MAP | 0.096 | 0.008 | 0.103 | |
| probes2Path | 0.040 | 0.000 | 0.038 | |
| ttperm | 0.012 | 0.000 | 0.012 | |