| Back to Multiple platform build/check report for BioC 3.7 |
|
This page was generated on 2018-10-17 08:35:45 -0400 (Wed, 17 Oct 2018).
| Package 270/1561 | Hostname | OS / Arch | INSTALL | BUILD | CHECK | BUILD BIN | ||||||
| CNAnorm 1.26.0 Stefano Berri
| malbec2 | Linux (Ubuntu 16.04.1 LTS) / x86_64 | OK | OK | OK | |||||||
| tokay2 | Windows Server 2012 R2 Standard / x64 | [ OK ] | OK | OK | OK | |||||||
| merida2 | OS X 10.11.6 El Capitan / x86_64 | OK | OK | OK | OK |
| Package: CNAnorm |
| Version: 1.26.0 |
| Command: C:\cygwin\bin\curl.exe -O https://malbec2.bioconductor.org/BBS/3.7/bioc/src/contrib/CNAnorm_1.26.0.tar.gz && rm -rf CNAnorm.buildbin-libdir && mkdir CNAnorm.buildbin-libdir && C:\Users\biocbuild\bbs-3.7-bioc\R\bin\R.exe CMD INSTALL --merge-multiarch --build --library=CNAnorm.buildbin-libdir CNAnorm_1.26.0.tar.gz && C:\Users\biocbuild\bbs-3.7-bioc\R\bin\R.exe CMD INSTALL CNAnorm_1.26.0.zip && rm CNAnorm_1.26.0.tar.gz CNAnorm_1.26.0.zip |
| StartedAt: 2018-10-16 18:35:34 -0400 (Tue, 16 Oct 2018) |
| EndedAt: 2018-10-16 18:36:13 -0400 (Tue, 16 Oct 2018) |
| EllapsedTime: 38.6 seconds |
| RetCode: 0 |
| Status: OK |
##############################################################################
##############################################################################
###
### Running command:
###
### C:\cygwin\bin\curl.exe -O https://malbec2.bioconductor.org/BBS/3.7/bioc/src/contrib/CNAnorm_1.26.0.tar.gz && rm -rf CNAnorm.buildbin-libdir && mkdir CNAnorm.buildbin-libdir && C:\Users\biocbuild\bbs-3.7-bioc\R\bin\R.exe CMD INSTALL --merge-multiarch --build --library=CNAnorm.buildbin-libdir CNAnorm_1.26.0.tar.gz && C:\Users\biocbuild\bbs-3.7-bioc\R\bin\R.exe CMD INSTALL CNAnorm_1.26.0.zip && rm CNAnorm_1.26.0.tar.gz CNAnorm_1.26.0.zip
###
##############################################################################
##############################################################################
% Total % Received % Xferd Average Speed Time Time Time Current
Dload Upload Total Spent Left Speed
0 0 0 0 0 0 0 0 --:--:-- --:--:-- --:--:-- 0
100 288k 100 288k 0 0 5563k 0 --:--:-- --:--:-- --:--:-- 6406k
install for i386
* installing *source* package 'CNAnorm' ...
** libs
C:/Rtools/mingw_32/bin/gfortran -O3 -mtune=generic -c daxpy.f -o daxpy.o
C:/Rtools/mingw_32/bin/gfortran -O3 -mtune=generic -c ddot.f -o ddot.o
C:/Rtools/mingw_32/bin/gfortran -O3 -mtune=generic -c dgbfa.f -o dgbfa.o
C:/Rtools/mingw_32/bin/gfortran -O3 -mtune=generic -c dgbsl.f -o dgbsl.o
C:/Rtools/mingw_32/bin/gfortran -O3 -mtune=generic -c dscal.f -o dscal.o
C:/Rtools/mingw_32/bin/gfortran -O3 -mtune=generic -c dsmooth.f -o dsmooth.o
C:/Rtools/mingw_32/bin/gfortran -O3 -mtune=generic -c idamax.f -o idamax.o
C:/Rtools/mingw_32/bin/gcc -shared -s -static-libgcc -o CNAnorm.dll tmp.def daxpy.o ddot.o dgbfa.o dgbsl.o dscal.o dsmooth.o idamax.o -LC:/extsoft/lib/i386 -LC:/extsoft/lib -lgfortran -lm -lquadmath -LC:/Users/BIOCBU˜1/BBS-3˜1.7-B/R/bin/i386 -lR
installing to C:/Users/biocbuild/bbs-3.7-bioc/meat/CNAnorm.buildbin-libdir/CNAnorm/libs/i386
** R
** data
** inst
** byte-compile and prepare package for lazy loading
** help
*** installing help indices
converting help for package 'CNAnorm'
finding HTML links ... done
CN html
CNAnorm-class html
DerivData-class html
InData-class html
LS041 html
Params-class html
addDNACopy-methods html
addSmooth-methods html
chrsAndpos-methods html
data-hg19_hs_ideogr html
dataFrame2object html
discreteNorm-methods html
exportTable-method html
gPar html
gcNorm-methods html
peakPloidy html
plotGenome-methods html
plotPeaks-methods html
ratio-methods html
suggValid-methods html
validation-methods html
workflowWrapper html
** building package indices
** installing vignettes
** testing if installed package can be loaded
In R CMD INSTALL
install for x64
* installing *source* package 'CNAnorm' ...
** libs
C:/Rtools/mingw_64/bin/gfortran -O2 -mtune=generic -c daxpy.f -o daxpy.o
C:/Rtools/mingw_64/bin/gfortran -O2 -mtune=generic -c ddot.f -o ddot.o
C:/Rtools/mingw_64/bin/gfortran -O2 -mtune=generic -c dgbfa.f -o dgbfa.o
C:/Rtools/mingw_64/bin/gfortran -O2 -mtune=generic -c dgbsl.f -o dgbsl.o
C:/Rtools/mingw_64/bin/gfortran -O2 -mtune=generic -c dscal.f -o dscal.o
C:/Rtools/mingw_64/bin/gfortran -O2 -mtune=generic -c dsmooth.f -o dsmooth.o
C:/Rtools/mingw_64/bin/gfortran -O2 -mtune=generic -c idamax.f -o idamax.o
C:/Rtools/mingw_64/bin/gcc -shared -s -static-libgcc -o CNAnorm.dll tmp.def daxpy.o ddot.o dgbfa.o dgbsl.o dscal.o dsmooth.o idamax.o -LC:/extsoft/lib/x64 -LC:/extsoft/lib -lgfortran -lm -lquadmath -LC:/Users/BIOCBU˜1/BBS-3˜1.7-B/R/bin/x64 -lR
installing to C:/Users/biocbuild/bbs-3.7-bioc/meat/CNAnorm.buildbin-libdir/CNAnorm/libs/x64
** testing if installed package can be loaded
* MD5 sums
packaged installation of 'CNAnorm' as CNAnorm_1.26.0.zip
* DONE (CNAnorm)
In R CMD INSTALL
In R CMD INSTALL
* installing to library 'C:/Users/biocbuild/bbs-3.7-bioc/R/library'
package 'CNAnorm' successfully unpacked and MD5 sums checked
In R CMD INSTALL