| Back to Multiple platform build/check report for BioC 3.7 |
|
This page was generated on 2018-10-14 10:53:24 -0400 (Sun, 14 Oct 2018).
| Package 248/1561 | Hostname | OS / Arch | INSTALL | BUILD | CHECK | BUILD BIN | ||||||
| CINdex 1.8.0 Yuriy Gusev
| malbec2 | Linux (Ubuntu 16.04.1 LTS) / x86_64 | OK | OK | OK | |||||||
| tokay2 | Windows Server 2012 R2 Standard / x64 | OK | OK | WARNINGS | [ OK ] | |||||||
| merida2 | OS X 10.11.6 El Capitan / x86_64 | OK | OK | OK | OK |
| Package: CINdex |
| Version: 1.8.0 |
| Command: rm -rf CINdex.buildbin-libdir && mkdir CINdex.buildbin-libdir && C:\Users\biocbuild\bbs-3.7-bioc\R\bin\R.exe CMD INSTALL --merge-multiarch --build --library=CINdex.buildbin-libdir CINdex_1.8.0.tar.gz |
| StartedAt: 2018-10-14 06:26:16 -0400 (Sun, 14 Oct 2018) |
| EndedAt: 2018-10-14 06:27:09 -0400 (Sun, 14 Oct 2018) |
| EllapsedTime: 53.5 seconds |
| RetCode: 0 |
| Status: OK |
| PackageFile: CINdex_1.8.0.zip |
| PackageFileSize: 17.8 MiB |
##############################################################################
##############################################################################
###
### Running command:
###
### rm -rf CINdex.buildbin-libdir && mkdir CINdex.buildbin-libdir && C:\Users\biocbuild\bbs-3.7-bioc\R\bin\R.exe CMD INSTALL --merge-multiarch --build --library=CINdex.buildbin-libdir CINdex_1.8.0.tar.gz
###
##############################################################################
##############################################################################
install for i386
* installing *source* package 'CINdex' ...
** R
** data
*** moving datasets to lazyload DB
** inst
** byte-compile and prepare package for lazy loading
Warning: replacing previous import 'IRanges::windows' by 'grDevices::windows' when loading 'CINdex'
** help
*** installing help indices
converting help for package 'CINdex'
finding HTML links ... done
clin.crc html
cnvgr.18.auto html
comp.heatmap html
cyto.cin4heatmap html
cytobands.cin html
extract.genes.in.cyto.regions html
geneAnno html
grl.data html
hg18.ucsctrack html
run.cin.chr html
run.cin.cyto html
snpgr.18.auto html
ttest.cyto.cin.heatmap html
** building package indices
** installing vignettes
** testing if installed package can be loaded
Warning: replacing previous import 'IRanges::windows' by 'grDevices::windows' when loading 'CINdex'
In R CMD INSTALL
install for x64
* installing *source* package 'CINdex' ...
** testing if installed package can be loaded
Warning: replacing previous import 'IRanges::windows' by 'grDevices::windows' when loading 'CINdex'
* MD5 sums
packaged installation of 'CINdex' as CINdex_1.8.0.zip
* DONE (CINdex)
In R CMD INSTALL
In R CMD INSTALL