| Back to Multiple platform build/check report for BioC 3.7 |
|
This page was generated on 2018-10-17 08:43:49 -0400 (Wed, 17 Oct 2018).
| Package 191/1561 | Hostname | OS / Arch | INSTALL | BUILD | CHECK | BUILD BIN | ||||||
| CATALYST 1.4.2 Helena L. Crowell
| malbec2 | Linux (Ubuntu 16.04.1 LTS) / x86_64 | OK | OK | OK | |||||||
| tokay2 | Windows Server 2012 R2 Standard / x64 | OK | OK | [ OK ] | OK | |||||||
| merida2 | OS X 10.11.6 El Capitan / x86_64 | OK | OK | OK | OK |
| Package: CATALYST |
| Version: 1.4.2 |
| Command: C:\Users\biocbuild\bbs-3.7-bioc\R\bin\R.exe CMD check --force-multiarch --install=check:CATALYST.install-out.txt --library=C:\Users\biocbuild\bbs-3.7-bioc\R\library --no-vignettes --timings CATALYST_1.4.2.tar.gz |
| StartedAt: 2018-10-17 00:55:18 -0400 (Wed, 17 Oct 2018) |
| EndedAt: 2018-10-17 01:08:51 -0400 (Wed, 17 Oct 2018) |
| EllapsedTime: 813.2 seconds |
| RetCode: 0 |
| Status: OK |
| CheckDir: CATALYST.Rcheck |
| Warnings: 0 |
##############################################################################
##############################################################################
###
### Running command:
###
### C:\Users\biocbuild\bbs-3.7-bioc\R\bin\R.exe CMD check --force-multiarch --install=check:CATALYST.install-out.txt --library=C:\Users\biocbuild\bbs-3.7-bioc\R\library --no-vignettes --timings CATALYST_1.4.2.tar.gz
###
##############################################################################
##############################################################################
* using log directory 'C:/Users/biocbuild/bbs-3.7-bioc/meat/CATALYST.Rcheck'
* using R version 3.5.1 Patched (2018-07-24 r75005)
* using platform: x86_64-w64-mingw32 (64-bit)
* using session charset: ISO8859-1
* using option '--no-vignettes'
* checking for file 'CATALYST/DESCRIPTION' ... OK
* checking extension type ... Package
* this is package 'CATALYST' version '1.4.2'
* package encoding: UTF-8
* checking package namespace information ... OK
* checking package dependencies ... OK
* checking if this is a source package ... OK
* checking if there is a namespace ... OK
* checking for hidden files and directories ... NOTE
Found the following hidden files and directories:
.travis.yml
These were most likely included in error. See section 'Package
structure' in the 'Writing R Extensions' manual.
* checking for portable file names ... OK
* checking whether package 'CATALYST' can be installed ... OK
* checking installed package size ... OK
* checking package directory ... OK
* checking 'build' directory ... OK
* checking DESCRIPTION meta-information ... OK
* checking top-level files ... OK
* checking for left-over files ... OK
* checking index information ... OK
* checking package subdirectories ... OK
* checking R files for non-ASCII characters ... OK
* checking R files for syntax errors ... OK
* loading checks for arch 'i386'
** checking whether the package can be loaded ... OK
** checking whether the package can be loaded with stated dependencies ... OK
** checking whether the package can be unloaded cleanly ... OK
** checking whether the namespace can be loaded with stated dependencies ... OK
** checking whether the namespace can be unloaded cleanly ... OK
* loading checks for arch 'x64'
** checking whether the package can be loaded ... OK
** checking whether the package can be loaded with stated dependencies ... OK
** checking whether the package can be unloaded cleanly ... OK
** checking whether the namespace can be loaded with stated dependencies ... OK
** checking whether the namespace can be unloaded cleanly ... OK
* checking dependencies in R code ... OK
* checking S3 generic/method consistency ... OK
* checking replacement functions ... OK
* checking foreign function calls ... OK
* checking R code for possible problems ... NOTE
plotDiffHeatmap,matrix-SummarizedExperiment: no visible binding for
global variable 'cluster_id'
plotDiffHeatmap,matrix-SummarizedExperiment: no visible binding for
global variable 'sample_id'
Undefined global functions or variables:
cluster_id sample_id
* checking Rd files ... OK
* checking Rd metadata ... OK
* checking Rd cross-references ... OK
* checking for missing documentation entries ... OK
* checking for code/documentation mismatches ... OK
* checking Rd \usage sections ... OK
* checking Rd contents ... OK
* checking for unstated dependencies in examples ... OK
* checking contents of 'data' directory ... OK
* checking data for non-ASCII characters ... OK
* checking data for ASCII and uncompressed saves ... OK
* checking files in 'vignettes' ... OK
* checking examples ...
** running examples for arch 'i386' ... OK
Examples with CPU or elapsed time > 5s
user system elapsed
plotClusterHeatmap 16.88 0.08 16.95
plotDiffHeatmap 15.54 0.08 15.63
plotMahal 14.19 0.02 14.21
plotEvents 12.32 0.02 12.33
plotMedExprs 11.89 0.08 12.67
estCutoffs 11.03 0.03 14.01
plotAbundances 10.67 0.31 10.99
mergeClusters 9.50 0.05 9.54
dbFrame-methods 9.41 0.00 9.46
outFrames 9.09 0.02 9.11
plotSNE 8.53 0.04 8.58
applyCutoffs 8.42 0.03 8.45
plotCodes 8.29 0.09 8.39
outFCS 8.14 0.05 8.18
assignPrelim 7.57 0.04 7.61
plotYields 7.45 0.04 7.50
extractClusters 7.40 0.08 7.50
daFrame-methods 7.34 0.08 7.43
adaptSpillmat 7.03 0.13 7.16
normCytof 6.27 0.01 6.29
compCytof 6.16 0.07 6.22
computeSpillmat 6.06 0.01 6.08
cluster 5.48 0.11 5.59
plotSpillmat 5.50 0.04 5.53
plotMDS 1.01 0.03 24.17
** running examples for arch 'x64' ... OK
Examples with CPU or elapsed time > 5s
user system elapsed
plotMedExprs 16.12 0.03 16.15
plotClusterHeatmap 15.06 0.07 15.12
plotDiffHeatmap 14.03 0.10 14.12
plotYields 13.53 0.04 13.58
plotMahal 13.56 0.00 13.56
outFrames 11.75 0.00 11.77
assignPrelim 11.30 0.00 11.30
applyCutoffs 11.00 0.02 11.01
outFCS 10.55 0.12 24.92
plotSNE 10.12 0.04 10.16
plotEvents 9.69 0.00 9.69
estCutoffs 9.58 0.01 9.59
dbFrame-methods 8.76 0.02 8.80
plotAbundances 8.59 0.03 8.64
normCytof 8.39 0.02 8.44
plotCodes 8.17 0.07 8.25
adaptSpillmat 7.91 0.11 8.02
mergeClusters 7.70 0.09 7.79
compCytof 7.31 0.03 7.34
plotExprs 7.31 0.01 7.33
extractClusters 6.56 0.10 6.66
computeSpillmat 6.41 0.03 6.44
daFrame-methods 6.29 0.11 6.41
cluster 6.22 0.06 7.89
plotSpillmat 6.10 0.06 6.42
* checking for unstated dependencies in 'tests' ... OK
* checking tests ...
** running tests for arch 'i386' ...
Running 'testthat.R'
OK
** running tests for arch 'x64' ...
Running 'testthat.R'
OK
* checking for unstated dependencies in vignettes ... OK
* checking package vignettes in 'inst/doc' ... OK
* checking running R code from vignettes ... SKIPPED
* checking re-building of vignette outputs ... SKIPPED
* checking PDF version of manual ... OK
* DONE
Status: 2 NOTEs
See
'C:/Users/biocbuild/bbs-3.7-bioc/meat/CATALYST.Rcheck/00check.log'
for details.
CATALYST.Rcheck/00install.out
##############################################################################
##############################################################################
###
### Running command:
###
### C:\cygwin\bin\curl.exe -O https://malbec2.bioconductor.org/BBS/3.7/bioc/src/contrib/CATALYST_1.4.2.tar.gz && rm -rf CATALYST.buildbin-libdir && mkdir CATALYST.buildbin-libdir && C:\Users\biocbuild\bbs-3.7-bioc\R\bin\R.exe CMD INSTALL --merge-multiarch --build --library=CATALYST.buildbin-libdir CATALYST_1.4.2.tar.gz && C:\Users\biocbuild\bbs-3.7-bioc\R\bin\R.exe CMD INSTALL CATALYST_1.4.2.zip && rm CATALYST_1.4.2.tar.gz CATALYST_1.4.2.zip
###
##############################################################################
##############################################################################
% Total % Received % Xferd Average Speed Time Time Time Current
Dload Upload Total Spent Left Speed
0 0 0 0 0 0 0 0 --:--:-- --:--:-- --:--:-- 0
100 3577k 100 3577k 0 0 21.5M 0 --:--:-- --:--:-- --:--:-- 22.3M
install for i386
* installing *source* package 'CATALYST' ...
** R
** data
*** moving datasets to lazyload DB
** inst
** byte-compile and prepare package for lazy loading
** help
*** installing help indices
converting help for package 'CATALYST'
finding HTML links ... done
adaptSpillmat html
applyCutoffs html
assignPrelim html
finding level-2 HTML links ... done
cluster html
compCytof html
computeSpillmat html
concatFCS html
daFrame-class html
daFrame-methods html
data html
dbFrame-class html
dbFrame-methods html
estCutoffs html
extractClusters html
guessPanel html
launchGUI html
mergeClusters html
normCytof html
outFCS html
outFrames html
plotAbundances html
plotClusterHeatmap html
plotCodes html
plotCounts html
plotDiffHeatmap html
plotEvents html
plotExprHeatmap html
plotExprs html
plotMDS html
plotMahal html
plotMedExprs html
plotNRS html
plotSNE html
plotSpillmat html
plotYields html
tSNE html
** building package indices
** installing vignettes
** testing if installed package can be loaded
In R CMD INSTALL
install for x64
* installing *source* package 'CATALYST' ...
** testing if installed package can be loaded
* MD5 sums
packaged installation of 'CATALYST' as CATALYST_1.4.2.zip
* DONE (CATALYST)
In R CMD INSTALL
In R CMD INSTALL
* installing to library 'C:/Users/biocbuild/bbs-3.7-bioc/R/library'
package 'CATALYST' successfully unpacked and MD5 sums checked
In R CMD INSTALL
|
CATALYST.Rcheck/tests_i386/testthat.Rout
R version 3.5.1 Patched (2018-07-24 r75005) -- "Feather Spray"
Copyright (C) 2018 The R Foundation for Statistical Computing
Platform: i386-w64-mingw32/i386 (32-bit)
R is free software and comes with ABSOLUTELY NO WARRANTY.
You are welcome to redistribute it under certain conditions.
Type 'license()' or 'licence()' for distribution details.
R is a collaborative project with many contributors.
Type 'contributors()' for more information and
'citation()' on how to cite R or R packages in publications.
Type 'demo()' for some demos, 'help()' for on-line help, or
'help.start()' for an HTML browser interface to help.
Type 'q()' to quit R.
> library(testthat)
> library(CATALYST)
>
> test_check("CATALYST")
== testthat results ===========================================================
OK: 45 SKIPPED: 0 FAILED: 0
>
> proc.time()
user system elapsed
20.67 0.93 21.59
|
CATALYST.Rcheck/tests_x64/testthat.Rout
R version 3.5.1 Patched (2018-07-24 r75005) -- "Feather Spray"
Copyright (C) 2018 The R Foundation for Statistical Computing
Platform: x86_64-w64-mingw32/x64 (64-bit)
R is free software and comes with ABSOLUTELY NO WARRANTY.
You are welcome to redistribute it under certain conditions.
Type 'license()' or 'licence()' for distribution details.
R is a collaborative project with many contributors.
Type 'contributors()' for more information and
'citation()' on how to cite R or R packages in publications.
Type 'demo()' for some demos, 'help()' for on-line help, or
'help.start()' for an HTML browser interface to help.
Type 'q()' to quit R.
> library(testthat)
> library(CATALYST)
>
> test_check("CATALYST")
== testthat results ===========================================================
OK: 45 SKIPPED: 0 FAILED: 0
>
> proc.time()
user system elapsed
18.37 0.56 18.92
|
|
CATALYST.Rcheck/examples_i386/CATALYST-Ex.timings
|
CATALYST.Rcheck/examples_x64/CATALYST-Ex.timings
|