| Back to Multiple platform build/check report for BioC 3.7 |
|
This page was generated on 2018-10-17 08:48:04 -0400 (Wed, 17 Oct 2018).
| Package 181/1561 | Hostname | OS / Arch | INSTALL | BUILD | CHECK | BUILD BIN | ||||||
| CAMERA 1.36.0 Steffen Neumann
| malbec2 | Linux (Ubuntu 16.04.1 LTS) / x86_64 | OK | OK | OK | |||||||
| tokay2 | Windows Server 2012 R2 Standard / x64 | OK | OK | OK | OK | |||||||
| merida2 | OS X 10.11.6 El Capitan / x86_64 | OK | OK | [ OK ] | OK |
| Package: CAMERA |
| Version: 1.36.0 |
| Command: /Library/Frameworks/R.framework/Versions/Current/Resources/bin/R CMD check --install=check:CAMERA.install-out.txt --library=/Library/Frameworks/R.framework/Versions/Current/Resources/library --no-vignettes --timings CAMERA_1.36.0.tar.gz |
| StartedAt: 2018-10-16 20:14:17 -0400 (Tue, 16 Oct 2018) |
| EndedAt: 2018-10-16 20:21:59 -0400 (Tue, 16 Oct 2018) |
| EllapsedTime: 462.5 seconds |
| RetCode: 0 |
| Status: OK |
| CheckDir: CAMERA.Rcheck |
| Warnings: 0 |
##############################################################################
##############################################################################
###
### Running command:
###
### /Library/Frameworks/R.framework/Versions/Current/Resources/bin/R CMD check --install=check:CAMERA.install-out.txt --library=/Library/Frameworks/R.framework/Versions/Current/Resources/library --no-vignettes --timings CAMERA_1.36.0.tar.gz
###
##############################################################################
##############################################################################
* using log directory ‘/Users/biocbuild/bbs-3.7-bioc/meat/CAMERA.Rcheck’
* using R version 3.5.1 Patched (2018-07-12 r74967)
* using platform: x86_64-apple-darwin15.6.0 (64-bit)
* using session charset: UTF-8
* using option ‘--no-vignettes’
* checking for file ‘CAMERA/DESCRIPTION’ ... OK
* this is package ‘CAMERA’ version ‘1.36.0’
* checking package namespace information ... OK
* checking package dependencies ... OK
* checking if this is a source package ... OK
* checking if there is a namespace ... OK
* checking for hidden files and directories ... NOTE
Found the following hidden files and directories:
.travis.yml
These were most likely included in error. See section ‘Package
structure’ in the ‘Writing R Extensions’ manual.
* checking for portable file names ... OK
* checking for sufficient/correct file permissions ... OK
* checking whether package ‘CAMERA’ can be installed ... OK
* checking installed package size ... NOTE
installed size is 7.6Mb
sub-directories of 1Mb or more:
mzdata 1.7Mb
quantiles 4.9Mb
* checking package directory ... OK
* checking ‘build’ directory ... OK
* checking DESCRIPTION meta-information ... NOTE
Malformed Description field: should contain one or more complete sentences.
Packages listed in more than one of Depends, Imports, Suggests, Enhances:
‘methods’ ‘xcms’
A package should be listed in only one of these fields.
* checking top-level files ... OK
* checking for left-over files ... OK
* checking index information ... OK
* checking package subdirectories ... OK
* checking R files for non-ASCII characters ... OK
* checking R files for syntax errors ... OK
* checking whether the package can be loaded ... OK
* checking whether the package can be loaded with stated dependencies ... OK
* checking whether the package can be unloaded cleanly ... OK
* checking whether the namespace can be loaded with stated dependencies ... OK
* checking whether the namespace can be unloaded cleanly ... OK
* checking dependencies in R code ... NOTE
'library' or 'require' call to ‘methods’ which was already attached by Depends.
Please remove these calls from your code.
There are ::: calls to the package's namespace in its code. A package
almost never needs to use ::: for its own objects:
‘annotateGrp’ ‘combineHypothese’ ‘fastMatch’ ‘naOmit’
* checking S3 generic/method consistency ... OK
* checking replacement functions ... OK
* checking foreign function calls ... NOTE
Foreign function call to a different package:
.Call("getEIC", ..., PACKAGE = "xcms")
See chapter ‘System and foreign language interfaces’ in the ‘Writing R
Extensions’ manual.
* checking R code for possible problems ... NOTE
File ‘CAMERA/R/zzz.R’:
.onLoad calls:
require(methods)
Package startup functions should not change the search path.
See section ‘Good practice’ in '?.onAttach'.
annotateGrp: no visible global function definition for ‘na.omit’
annotateGrpMPI2: no visible binding for global variable
‘papply_commondata’
cleanParallel: no visible global function definition for
‘mpi.close.Rslaves’
cleanParallel: no visible global function definition for ‘stopCluster’
compoundQuantiles: no visible global function definition for ‘tail’
createHypothese: no visible global function definition for ‘cutree’
createHypothese: no visible global function definition for ‘hclust’
createHypothese: no visible global function definition for ‘dist’
extractfragments: no visible global function definition for ‘median’
fast_corr: no visible global function definition for ‘pt’
findIsotopesForPS: no visible binding for global variable ‘tableMM48’
findKendrickMasses: no visible global function definition for ‘rainbow’
findKendrickMasses : <anonymous>: no visible global function definition
for ‘lines’
findNeutralLoss: no visible global function definition for ‘dist’
findNeutralLossSpecs : <anonymous>: no visible global function
definition for ‘dist’
fragments2metfrag : <anonymous>: no visible global function definition
for ‘write.table’
fragments2metfusion : <anonymous>: no visible binding for global
variable ‘object’
fragments2metfusion : <anonymous>: no visible global function
definition for ‘write.table’
getIsotopeCluster : <anonymous>: no visible global function definition
for ‘na.omit’
xsAnnotate: no visible global function definition for ‘mpi.comm.size’
xsAnnotate: no visible global function definition for
‘mpi.spawn.Rslaves’
xsAnnotate: no visible global function definition for ‘makeCluster’
xsAnnotate: no visible binding for global variable ‘graphMethod’
findAdducts,xsAnnotate: no visible global function definition for
‘mpi.comm.size’
findIsotopesWithValidation,xsAnnotate : <anonymous>: no visible global
function definition for ‘median’
getReducedPeaklist,xsAnnotate : <anonymous> : <anonymous>: no visible
global function definition for ‘median’
getReducedPeaklist,xsAnnotate : <anonymous>: no visible global function
definition for ‘prcomp’
getReducedPeaklist,xsAnnotate : <anonymous>: no visible global function
definition for ‘na.omit’
groupComplete,xsAnnotate: no visible global function definition for
‘dist’
groupComplete,xsAnnotate: no visible global function definition for
‘cutree’
groupComplete,xsAnnotate: no visible global function definition for
‘hclust’
groupDen,xsAnnotate: no visible global function definition for
‘density’
groupFWHM,xsAnnotate : <anonymous>: no visible global function
definition for ‘na.omit’
plotEICs,xsAnnotate: no visible global function definition for
‘rainbow’
plotEICs,xsAnnotate: no visible global function definition for
‘na.omit’
plotPeakEICs,xsAnnotate : <anonymous>: no visible binding for global
variable ‘pc’
plotPeakEICs,xsAnnotate: no visible binding for global variable ‘pspec’
plotPeakEICs,xsAnnotate: no visible global function definition for
‘rainbow’
plotPeakEICs,xsAnnotate: no visible global function definition for
‘na.omit’
plotPsSpectrum,xsAnnotate: no visible global function definition for
‘median’
plotPsSpectrum,xsAnnotate: no visible global function definition for
‘na.omit’
Undefined global functions or variables:
cutree density dist graphMethod hclust lines makeCluster median
mpi.close.Rslaves mpi.comm.size mpi.spawn.Rslaves na.omit object
papply_commondata pc prcomp pspec pt rainbow stopCluster tableMM48
tail write.table
Consider adding
importFrom("grDevices", "rainbow")
importFrom("graphics", "lines")
importFrom("stats", "cutree", "density", "dist", "hclust", "median",
"na.omit", "prcomp", "pt")
importFrom("utils", "tail", "write.table")
to your NAMESPACE file.
* checking Rd files ... NOTE
prepare_Rd: findKendrickMasses.Rd:21-22: Dropping empty section \details
* checking Rd metadata ... OK
* checking Rd cross-references ... OK
* checking for missing documentation entries ... OK
* checking for code/documentation mismatches ... OK
* checking Rd \usage sections ... OK
* checking Rd contents ... OK
* checking for unstated dependencies in examples ... OK
* checking contents of ‘data’ directory ... OK
* checking data for non-ASCII characters ... OK
* checking data for ASCII and uncompressed saves ... OK
* checking line endings in C/C++/Fortran sources/headers ... OK
* checking line endings in Makefiles ... OK
* checking for GNU extensions in Makefiles ... OK
* checking include directives in Makefiles ... OK
* checking compiled code ... NOTE
Note: information on .o files is not available
* checking sizes of PDF files under ‘inst/doc’ ... OK
* checking files in ‘vignettes’ ... OK
* checking examples ... OK
Examples with CPU or elapsed time > 5s
user system elapsed
getIsotopeCluster 27.062 5.251 11.937
groupCorr-methods 22.901 0.312 23.363
annotate-methods 5.398 0.153 5.593
getPeaklist-methods 4.971 0.186 5.178
findAdducts-methods 5.023 0.071 5.120
getReducedPeaklist-methods 5.029 0.048 5.117
annotateDiffreport 2.352 0.114 9.949
* checking for unstated dependencies in ‘tests’ ... OK
* checking tests ...
Running ‘runTests.R’
OK
* checking for unstated dependencies in vignettes ... OK
* checking package vignettes in ‘inst/doc’ ... OK
* checking running R code from vignettes ... SKIPPED
* checking re-building of vignette outputs ... SKIPPED
* checking PDF version of manual ... OK
* DONE
Status: 8 NOTEs
See
‘/Users/biocbuild/bbs-3.7-bioc/meat/CAMERA.Rcheck/00check.log’
for details.
CAMERA.Rcheck/00install.out
############################################################################## ############################################################################## ### ### Running command: ### ### /Library/Frameworks/R.framework/Versions/Current/Resources/bin/R CMD INSTALL CAMERA ### ############################################################################## ############################################################################## * installing to library ‘/Library/Frameworks/R.framework/Versions/3.5/Resources/library’ * installing *source* package ‘CAMERA’ ... ** libs clang -I"/Library/Frameworks/R.framework/Resources/include" -DNDEBUG -I/usr/local/include -fPIC -Wall -g -O2 -c fastMatch.c -o fastMatch.o clang -dynamiclib -Wl,-headerpad_max_install_names -undefined dynamic_lookup -single_module -multiply_defined suppress -L/Library/Frameworks/R.framework/Resources/lib -L/usr/local/lib -o CAMERA.so fastMatch.o -F/Library/Frameworks/R.framework/.. -framework R -Wl,-framework -Wl,CoreFoundation installing to /Library/Frameworks/R.framework/Versions/3.5/Resources/library/CAMERA/libs ** R ** data ** inst ** byte-compile and prepare package for lazy loading ** help *** installing help indices ** building package indices ** installing vignettes ** testing if installed package can be loaded * DONE (CAMERA)
CAMERA.Rcheck/tests/runTests.Rout
R version 3.5.1 Patched (2018-07-12 r74967) -- "Feather Spray"
Copyright (C) 2018 The R Foundation for Statistical Computing
Platform: x86_64-apple-darwin15.6.0 (64-bit)
R is free software and comes with ABSOLUTELY NO WARRANTY.
You are welcome to redistribute it under certain conditions.
Type 'license()' or 'licence()' for distribution details.
R is a collaborative project with many contributors.
Type 'contributors()' for more information and
'citation()' on how to cite R or R packages in publications.
Type 'demo()' for some demos, 'help()' for on-line help, or
'help.start()' for an HTML browser interface to help.
Type 'q()' to quit R.
> require("CAMERA") || stop("unable to load CAMERA")
Loading required package: CAMERA
Loading required package: Biobase
Loading required package: BiocGenerics
Loading required package: parallel
Attaching package: 'BiocGenerics'
The following objects are masked from 'package:parallel':
clusterApply, clusterApplyLB, clusterCall, clusterEvalQ,
clusterExport, clusterMap, parApply, parCapply, parLapply,
parLapplyLB, parRapply, parSapply, parSapplyLB
The following objects are masked from 'package:stats':
IQR, mad, sd, var, xtabs
The following objects are masked from 'package:base':
Filter, Find, Map, Position, Reduce, anyDuplicated, append,
as.data.frame, basename, cbind, colMeans, colSums, colnames,
dirname, do.call, duplicated, eval, evalq, get, grep, grepl,
intersect, is.unsorted, lapply, lengths, mapply, match, mget,
order, paste, pmax, pmax.int, pmin, pmin.int, rank, rbind,
rowMeans, rowSums, rownames, sapply, setdiff, sort, table, tapply,
union, unique, unsplit, which, which.max, which.min
Welcome to Bioconductor
Vignettes contain introductory material; view with
'browseVignettes()'. To cite Bioconductor, see
'citation("Biobase")', and for packages 'citation("pkgname")'.
Loading required package: xcms
Loading required package: BiocParallel
Loading required package: MSnbase
Loading required package: mzR
Loading required package: Rcpp
Loading required package: ProtGenerics
This is MSnbase version 2.6.4
Visit https://lgatto.github.io/MSnbase/ to get started.
Attaching package: 'MSnbase'
The following object is masked from 'package:stats':
smooth
The following object is masked from 'package:base':
trimws
This is xcms version 3.2.0
Attaching package: 'xcms'
The following object is masked from 'package:stats':
sigma
[1] TRUE
> BiocGenerics:::testPackage("CAMERA")
Processing 3195 mz slices ... OK
Start grouping after retention time.
Created 148 pseudospectra.
Start grouping after correlation.
Generating EIC's ..
Warning: Found NA peaks in selected sample.
Calculating peak correlations in 148 Groups...
% finished: 10 20 30 40 50 60 70 80 90 100
Calculating graph cross linking in 148 Groups...
% finished: 10 20 30 40 50 60 70 80 90 100
New number of ps-groups: 333
xsAnnotate has now 333 groups, instead of 148
Generating peak matrix!
Run isotope peak annotation
% finished: 10 20 30 40 50 60 70 80 90 100
Found isotopes: 22
Generating peak matrix for peak annotation!
Found and use user-defined ruleset!
Calculating possible adducts in 333 Groups...
% finished: 10 20 30 40 50 60 70 80 90 100
Start grouping after retention time.
Created 133 pseudospectra.
Start grouping after correlation.
Generating EIC's ..
Warning: Found NA peaks in selected sample.
Calculating peak correlations in 133 Groups...
% finished: 10 20 30 40 50 60 70 80 90 100
Generating EIC's ..
Warning: Found NA peaks in selected sample.
Calculating peak correlations in 133 Groups...
% finished: 10 20 30 40 50 60 70 80 90 100
Generating EIC's ..
Warning: Found NA peaks in selected sample.
Calculating peak correlations in 133 Groups...
% finished: 10 20 30 40 50 60 70 80 90 100
Generating EIC's ..
Warning: Found NA peaks in selected sample.
Calculating peak correlations in 133 Groups...
% finished: 10 20 30 40 50 60 70 80 90 100
Generating EIC's ..
Warning: Found NA peaks in selected sample.
Calculating peak correlations in 133 Groups...
% finished: 10 20 30 40 50 60 70 80 90 100
Generating EIC's ..
Warning: Found NA peaks in selected sample.
Calculating peak correlations in 133 Groups...
% finished: 10 20 30 40 50 60 70 80 90 100
Generating EIC's ..
Warning: Found NA peaks in selected sample.
Calculating peak correlations in 133 Groups...
% finished: 10 20 30 40 50 60 70 80 90 100
Generating EIC's ..
Warning: Found NA peaks in selected sample.
Calculating peak correlations in 133 Groups...
% finished: 10 20 30 40 50 60 70 80 90 100
Calculating graph cross linking in 133 Groups...
% finished: 10 20 30 40 50 60 70 80 90 100
New number of ps-groups: 254
xsAnnotate has now 254 groups, instead of 133
Generating peak matrix!
Run isotope peak annotation
% finished: 10 20 30 40 50 60 70 80 90 100
Found isotopes: 32
Generating peak matrix for peak annotation!
Found and use user-defined ruleset!
Calculating possible adducts in 254 Groups...
% finished: 10 20 30 40 50 60 70 80 90 100
Start grouping after retention time.
Created 133 pseudospectra.
Start grouping after correlation.
Generating EIC's ..
Warning: Found NA peaks in selected sample.
Calculating peak correlations in 133 Groups...
% finished: 10 20 30 40 50 60 70 80 90 100
Calculating graph cross linking in 133 Groups...
% finished: 10 20 30 40 50 60 70 80 90 100
New number of ps-groups: 329
xsAnnotate has now 329 groups, instead of 133
Generating peak matrix!
Run isotope peak annotation
% finished: 10 20 30 40 50 60 70 80 90 100
Found isotopes: 20
Generating peak matrix for peak annotation!
Found and use user-defined ruleset!
Calculating possible adducts in 329 Groups...
% finished: 10 20 30 40 50 60 70 80 90 100
Detecting mass traces at 30 ppm ... OK
Detecting chromatographic peaks in 456 regions of interest ... OK: 126 found.
Start grouping after retention time.
Created 14 pseudospectra.
Generating peak matrix!
Run isotope peak annotation
% finished: 20 50 60 70 80 90 100
Found isotopes: 32
Found and use user-defined ruleset!
Calculating possible adducts in 14 Groups...
% finished: 20 50 60 70 80 90 100
Detecting mass traces at 30 ppm ... OK
Detecting chromatographic peaks in 456 regions of interest ... OK: 126 found.
Start grouping after retention time.
Created 14 pseudospectra.
Start grouping after correlation.
Calculating peak correlations in 14 Groups...
% finished: 20 50 60 70 80 90 100
Calculating graph cross linking in 14 Groups...
% finished: 20 50 60 70 80 90 100
New number of ps-groups: 35
xsAnnotate has now 35 groups, instead of 14
Detecting mass traces at 30 ppm ... OK
Detecting chromatographic peaks in 456 regions of interest ... OK: 126 found.
Created 11 pseudospectra.
Processing 3195 mz slices ... OK
Start grouping after retention time.
Created 148 pseudospectra.
Start grouping after correlation.
Generating EIC's ..
Warning: Found NA peaks in selected sample.
Calculating peak correlations in 148 Groups...
% finished: 10 20 30 40 50 60 70 80 90 100
Calculating graph cross linking in 148 Groups...
% finished: 10 20 30 40 50 60 70 80 90 100
New number of ps-groups: 333
xsAnnotate has now 333 groups, instead of 148
Start grouping after retention time.
Created 133 pseudospectra.
Start grouping after correlation.
Generating EIC's ..
Warning: Found NA peaks in selected sample.
Calculating peak correlations in 133 Groups...
% finished: 10 20 30 40 50 60 70 80 90 100
Calculating graph cross linking in 133 Groups...
% finished: 10 20 30 40 50 60 70 80 90 100
New number of ps-groups: 329
xsAnnotate has now 329 groups, instead of 133
Start grouping after correlation.
Data was not preprocessed with groupFWHM, creating one pseudospectrum with all peaks.
Generating EIC's ..
Warning: Found NA peaks in selected sample.
Calculating peak correlations in 1 Groups...
% finished: 100
Calculating graph cross linking in 1 Groups...
% finished: 100
New number of ps-groups: 316
xsAnnotate has now 316 groups, instead of 1
Start grouping after correlation.
Data was not preprocessed with groupFWHM, creating one pseudospectrum with all peaks.
Generating EIC's ..
Warning: Found NA peaks in selected sample.
Calculating peak correlations in 1 Groups...
% finished: 100
Calculating graph cross linking in 1 Groups...
% finished: 100
New number of ps-groups: 316
xsAnnotate has now 316 groups, instead of 1
Generating peak matrix!
Run isotope peak annotation
% finished: 10 20 30 40 50 60 70 80 90 100
Found isotopes: 22
Generating peak matrix for peak annotation!
Found and use user-defined ruleset!
Calculating possible adducts in 316 Groups...
% finished: 10 20 30 40 50 60 70 80 90 100
Detecting mass traces at 30 ppm ... OK
Detecting chromatographic peaks in 456 regions of interest ... OK: 126 found.
Start grouping after retention time.
Created 14 pseudospectra.
Start grouping after correlation.
Data was not preprocessed with groupFWHM, creating one pseudospectrum with all peaks.
Calculating peak correlations in 1 Groups...
% finished: 100
Calculating graph cross linking in 1 Groups...
% finished: 100
New number of ps-groups: 48
xsAnnotate has now 48 groups, instead of 1
Start grouping after correlation.
Calculating peak correlations in 14 Groups...
% finished: 20 50 60 70 80 90 100
Calculating graph cross linking in 14 Groups...
% finished: 20 50 60 70 80 90 100
New number of ps-groups: 48
xsAnnotate has now 48 groups, instead of 14
Start grouping after correlation.
Calculating peak correlations in 8 Groups...
% finished: 30 60 70 80 90 100
Calculating graph cross linking in 8 Groups...
% finished: 30 60 70 80 90 100
New number of ps-groups: 29
xsAnnotate has now 29 groups, instead of 14
Generating peak matrix!
Run isotope peak annotation
% finished: 20 50 60 70 80 90 100
Found isotopes: 32
Start grouping after correlation.
Calculating peak correlations in 14 Groups...
% finished: 20 50 60 70 80 90 100
Calculating graph cross linking in 14 Groups...
% finished: 20 50 60 70 80 90 100
New number of ps-groups: 48
xsAnnotate has now 48 groups, instead of 14
xsAnnotate contains no pseudospectra. Regroup all peaks into one!
Generating peak matrix!
Run isotope peak annotation
% finished: 100
Found isotopes: 32
Found and use user-defined ruleset!
Calculating possible adducts in 1 Groups...
% finished: 100
Generating peak matrix!
Run isotope peak annotation
% finished: 20 40 50 60 70 80 90 100
Found isotopes: 23
Calculating possible adducts in 48 Groups...
% finished: 20 40 50 60 70 80 90 100
Calculating possible adducts in 8 Groups...
% finished: 10
Processing 3195 mz slices ... OK
Detecting mass traces at 30 ppm ... OK
Detecting chromatographic peaks in 456 regions of interest ... OK: 126 found.
Start grouping after retention time.
Created 14 pseudospectra.
Detecting mass traces at 30 ppm ... OK
Detecting chromatographic peaks in 456 regions of interest ... OK: 126 found.
Start grouping after retention time.
Created 14 pseudospectra.
Generating peak matrix!
Run isotope peak annotation
% finished: 20 50 60 70 80 90 100
Found isotopes: 32
Calculating possible adducts in 14 Groups...
% finished: 20 50 60 70 80 90 100
RUNIT TEST PROTOCOL -- Tue Oct 16 20:21:12 2018
***********************************************
Number of test functions: 14
Number of errors: 0
Number of failures: 0
1 Test Suite :
CAMERA RUnit Tests - 14 test functions, 0 errors, 0 failures
Number of test functions: 14
Number of errors: 0
Number of failures: 0
>
> proc.time()
user system elapsed
101.398 2.158 104.613
CAMERA.Rcheck/CAMERA-Ex.timings
| name | user | system | elapsed | |
| annotate-methods | 5.398 | 0.153 | 5.593 | |
| annotateDiffreport | 2.352 | 0.114 | 9.949 | |
| calcCaS-methods | 3.037 | 0.302 | 3.365 | |
| cleanParallel | 0.001 | 0.001 | 0.001 | |
| combinexsAnnos | 0.002 | 0.000 | 0.001 | |
| compoundLibraries | 0.002 | 0.000 | 0.002 | |
| compoundQuantiles | 0.094 | 0.004 | 0.102 | |
| findAdducts-methods | 5.023 | 0.071 | 5.120 | |
| findIsotopes-methods | 1.935 | 0.023 | 1.965 | |
| findIsotopesWithValidation-methods | 2.631 | 0.036 | 2.676 | |
| findKendrickMasses | 2.215 | 0.042 | 2.266 | |
| findNeutralLoss | 1.943 | 0.028 | 1.989 | |
| findNeutralLossSpecs | 1.850 | 0.022 | 1.900 | |
| getAllPeakEICs-methods | 4.695 | 0.055 | 4.792 | |
| getAtomCount-compoundQuantiles-method | 0.075 | 0.002 | 0.077 | |
| getIsotopeCluster | 27.062 | 5.251 | 11.937 | |
| getIsotopeProportion-compoundQuantiles-method | 0.113 | 0.007 | 0.120 | |
| getPeaklist-methods | 4.971 | 0.186 | 5.178 | |
| getReducedPeaklist-methods | 5.029 | 0.048 | 5.117 | |
| getpspectra | 1.890 | 0.018 | 1.916 | |
| groupCorr-methods | 22.901 | 0.312 | 23.363 | |
| groupDen-methods | 4.003 | 0.048 | 4.072 | |
| groupFWHM-methods | 4.131 | 0.047 | 4.210 | |
| massWindowSizes | 0.002 | 0.000 | 0.004 | |
| pspec2metfrag | 4.865 | 0.063 | 4.961 | |
| ruleSet-class | 0.079 | 0.001 | 0.081 | |
| xsAnnotate | 2.192 | 0.019 | 2.220 | |