| Back to Multiple platform build/check report for BioC 3.7 |
|
This page was generated on 2018-10-17 08:33:38 -0400 (Wed, 17 Oct 2018).
| Package 125/1561 | Hostname | OS / Arch | INSTALL | BUILD | CHECK | BUILD BIN | ||||||
| BiocCaseStudies 1.42.0 Bioconductor Package Maintainer
| malbec2 | Linux (Ubuntu 16.04.1 LTS) / x86_64 | OK | OK | OK | |||||||
| tokay2 | Windows Server 2012 R2 Standard / x64 | OK | OK | OK | [ OK ] | |||||||
| merida2 | OS X 10.11.6 El Capitan / x86_64 | OK | OK | OK | OK |
| Package: BiocCaseStudies |
| Version: 1.42.0 |
| Command: rm -rf BiocCaseStudies.buildbin-libdir && mkdir BiocCaseStudies.buildbin-libdir && C:\Users\biocbuild\bbs-3.7-bioc\R\bin\R.exe CMD INSTALL --merge-multiarch --build --library=BiocCaseStudies.buildbin-libdir BiocCaseStudies_1.42.0.tar.gz |
| StartedAt: 2018-10-17 06:04:44 -0400 (Wed, 17 Oct 2018) |
| EndedAt: 2018-10-17 06:04:51 -0400 (Wed, 17 Oct 2018) |
| EllapsedTime: 6.8 seconds |
| RetCode: 0 |
| Status: OK |
| PackageFile: BiocCaseStudies_1.42.0.zip |
| PackageFileSize: 47.41 KiB |
##############################################################################
##############################################################################
###
### Running command:
###
### rm -rf BiocCaseStudies.buildbin-libdir && mkdir BiocCaseStudies.buildbin-libdir && C:\Users\biocbuild\bbs-3.7-bioc\R\bin\R.exe CMD INSTALL --merge-multiarch --build --library=BiocCaseStudies.buildbin-libdir BiocCaseStudies_1.42.0.tar.gz
###
##############################################################################
##############################################################################
install for i386
* installing *source* package 'BiocCaseStudies' ...
** R
** byte-compile and prepare package for lazy loading
** help
*** installing help indices
converting help for package 'BiocCaseStudies'
finding HTML links ... done
fixedWidthCat html
markup html
mySessionInfo html
parseLibVers html
requiredPackages html
resample html
** building package indices
** testing if installed package can be loaded
In R CMD INSTALL
install for x64
* installing *source* package 'BiocCaseStudies' ...
** testing if installed package can be loaded
* MD5 sums
packaged installation of 'BiocCaseStudies' as BiocCaseStudies_1.42.0.zip
* DONE (BiocCaseStudies)
In R CMD INSTALL
In R CMD INSTALL