| Back to Multiple platform build/check report for BioC 3.7 |
|
This page was generated on 2018-10-17 08:43:40 -0400 (Wed, 17 Oct 2018).
| Package 132/1561 | Hostname | OS / Arch | INSTALL | BUILD | CHECK | BUILD BIN | ||||||
| BioCor 1.4.0 LluĂs Revilla Sancho
| malbec2 | Linux (Ubuntu 16.04.1 LTS) / x86_64 | OK | OK | OK | |||||||
| tokay2 | Windows Server 2012 R2 Standard / x64 | [ OK ] | OK | OK | OK | |||||||
| merida2 | OS X 10.11.6 El Capitan / x86_64 | OK | OK | OK | OK |
| Package: BioCor |
| Version: 1.4.0 |
| Command: C:\cygwin\bin\curl.exe -O https://malbec2.bioconductor.org/BBS/3.7/bioc/src/contrib/BioCor_1.4.0.tar.gz && rm -rf BioCor.buildbin-libdir && mkdir BioCor.buildbin-libdir && C:\Users\biocbuild\bbs-3.7-bioc\R\bin\R.exe CMD INSTALL --merge-multiarch --build --library=BioCor.buildbin-libdir BioCor_1.4.0.tar.gz && C:\Users\biocbuild\bbs-3.7-bioc\R\bin\R.exe CMD INSTALL BioCor_1.4.0.zip && rm BioCor_1.4.0.tar.gz BioCor_1.4.0.zip |
| StartedAt: 2018-10-16 18:57:42 -0400 (Tue, 16 Oct 2018) |
| EndedAt: 2018-10-16 18:58:27 -0400 (Tue, 16 Oct 2018) |
| EllapsedTime: 44.7 seconds |
| RetCode: 0 |
| Status: OK |
##############################################################################
##############################################################################
###
### Running command:
###
### C:\cygwin\bin\curl.exe -O https://malbec2.bioconductor.org/BBS/3.7/bioc/src/contrib/BioCor_1.4.0.tar.gz && rm -rf BioCor.buildbin-libdir && mkdir BioCor.buildbin-libdir && C:\Users\biocbuild\bbs-3.7-bioc\R\bin\R.exe CMD INSTALL --merge-multiarch --build --library=BioCor.buildbin-libdir BioCor_1.4.0.tar.gz && C:\Users\biocbuild\bbs-3.7-bioc\R\bin\R.exe CMD INSTALL BioCor_1.4.0.zip && rm BioCor_1.4.0.tar.gz BioCor_1.4.0.zip
###
##############################################################################
##############################################################################
% Total % Received % Xferd Average Speed Time Time Time Current
Dload Upload Total Spent Left Speed
0 0 0 0 0 0 0 0 --:--:-- --:--:-- --:--:-- 0
100 60932 100 60932 0 0 964k 0 --:--:-- --:--:-- --:--:-- 1081k
install for i386
* installing *source* package 'BioCor' ...
** R
** byte-compile and prepare package for lazy loading
Creating a generic function from function 'clusterGeneSim' in package 'BioCor'
Creating a generic function from function 'clusterSim' in package 'BioCor'
Creating a generic function from function 'geneSim' in package 'BioCor'
Creating a generic function from function 'mclusterGeneSim' in package 'BioCor'
Creating a generic function from function 'mclusterSim' in package 'BioCor'
Creating a generic function from function 'mgeneSim' in package 'BioCor'
Creating a generic function from function 'mpathSim' in package 'BioCor'
Creating a generic function from function 'pathSim' in package 'BioCor'
** help
*** installing help indices
converting help for package 'BioCor'
finding HTML links ... done
AintoB html
BioCor-package html
addSimilarities html
clusterGeneSim html
clusterSim html
combinadic html
combineScores html
combineSources html
conversions html
diceSim html
duplicateIndices html
geneSim html
incidence-list-method html
inverseList html
mclusterGeneSim html
mclusterSim html
mgeneSim html
mpathSim html
pathSim html
removeDup html
seq2mat html
similarities html
weighted html
** building package indices
** installing vignettes
** testing if installed package can be loaded
In R CMD INSTALL
install for x64
* installing *source* package 'BioCor' ...
** testing if installed package can be loaded
* MD5 sums
packaged installation of 'BioCor' as BioCor_1.4.0.zip
* DONE (BioCor)
In R CMD INSTALL
In R CMD INSTALL
* installing to library 'C:/Users/biocbuild/bbs-3.7-bioc/R/library'
package 'BioCor' successfully unpacked and MD5 sums checked
In R CMD INSTALL