| Back to Multiple platform build/check report for BioC 3.7 | 
 | 
This page was generated on 2018-10-17 08:48:13 -0400 (Wed, 17 Oct 2018).
| Package 176/1561 | Hostname | OS / Arch | INSTALL | BUILD | CHECK | BUILD BIN | ||||||
| BUS 1.36.0 Yuanhua Liu 
 | malbec2 | Linux (Ubuntu 16.04.1 LTS) / x86_64 | OK | OK | OK |  | ||||||
| tokay2 | Windows Server 2012 R2 Standard / x64 | OK | OK | OK | OK |  | ||||||
| merida2 | OS X 10.11.6 El Capitan / x86_64 | OK | OK | [ OK ] | OK |  | 
| Package: BUS | 
| Version: 1.36.0 | 
| Command: /Library/Frameworks/R.framework/Versions/Current/Resources/bin/R CMD check --install=check:BUS.install-out.txt --library=/Library/Frameworks/R.framework/Versions/Current/Resources/library --no-vignettes --timings BUS_1.36.0.tar.gz | 
| StartedAt: 2018-10-16 20:13:07 -0400 (Tue, 16 Oct 2018) | 
| EndedAt: 2018-10-16 20:13:37 -0400 (Tue, 16 Oct 2018) | 
| EllapsedTime: 29.9 seconds | 
| RetCode: 0 | 
| Status: OK | 
| CheckDir: BUS.Rcheck | 
| Warnings: 0 | 
##############################################################################
##############################################################################
###
### Running command:
###
###   /Library/Frameworks/R.framework/Versions/Current/Resources/bin/R CMD check --install=check:BUS.install-out.txt --library=/Library/Frameworks/R.framework/Versions/Current/Resources/library --no-vignettes --timings BUS_1.36.0.tar.gz
###
##############################################################################
##############################################################################
* using log directory ‘/Users/biocbuild/bbs-3.7-bioc/meat/BUS.Rcheck’
* using R version 3.5.1 Patched (2018-07-12 r74967)
* using platform: x86_64-apple-darwin15.6.0 (64-bit)
* using session charset: UTF-8
* using option ‘--no-vignettes’
* checking for file ‘BUS/DESCRIPTION’ ... OK
* checking extension type ... Package
* this is package ‘BUS’ version ‘1.36.0’
* checking package namespace information ... OK
* checking package dependencies ... OK
* checking if this is a source package ... OK
* checking if there is a namespace ... OK
* checking for hidden files and directories ... OK
* checking for portable file names ... OK
* checking for sufficient/correct file permissions ... OK
* checking whether package ‘BUS’ can be installed ... OK
* checking installed package size ... OK
* checking package directory ... OK
* checking ‘build’ directory ... OK
* checking DESCRIPTION meta-information ... OK
* checking top-level files ... OK
* checking for left-over files ... OK
* checking index information ... OK
* checking package subdirectories ... OK
* checking R files for non-ASCII characters ... OK
* checking R files for syntax errors ... OK
* checking whether the package can be loaded ... OK
* checking whether the package can be loaded with stated dependencies ... OK
* checking whether the package can be unloaded cleanly ... OK
* checking whether the namespace can be loaded with stated dependencies ... OK
* checking whether the namespace can be unloaded cleanly ... OK
* checking dependencies in R code ... NOTE
Package in Depends field not imported from: ‘minet’
  These packages need to be imported from (in the NAMESPACE file)
  for when this namespace is loaded but not attached.
* checking S3 generic/method consistency ... OK
* checking replacement functions ... OK
* checking foreign function calls ... NOTE
Call with DUP:
   .Call("MINempirical", mat, nat, N, n1, n2, DUP = FALSE)
DUP is no longer supported and will be ignored.
* checking R code for possible problems ... NOTE
gene.pvalue : fi: warning in matrix(1:nrow(EXP), nc = 1): partial
  argument match of 'nc' to 'ncol'
gene.pvalue: warning in matrix(1:nrow(EXP), nc = 1): partial argument
  match of 'nc' to 'ncol'
gene.pvalue : fi: warning in matrix(1:ncol(real), nc = 1): partial
  argument match of 'nc' to 'ncol'
gene.pvalue: warning in matrix(1:nrow(real), nc = 1): partial argument
  match of 'nc' to 'ncol'
gene.pvalue : fi1: warning in matrix(1:ncol(real), nc = 1): partial
  argument match of 'nc' to 'ncol'
gene.trait.pvalue: warning in matrix(0, nr = nrow(EXP), nc =
  nrow(trait)): partial argument match of 'nr' to 'nrow'
gene.trait.pvalue: warning in matrix(0, nr = nrow(EXP), nc =
  nrow(trait)): partial argument match of 'nc' to 'ncol'
gene.trait.pvalue : fi: warning in matrix(1:nrow(trait), nc = 1):
  partial argument match of 'nc' to 'ncol'
gene.trait.pvalue: warning in matrix(1:nrow(EXP), nc = 1): partial
  argument match of 'nc' to 'ncol'
gene.trait.pvalue : fi: warning in matrix(1:ncol(real), nc = 1):
  partial argument match of 'nc' to 'ncol'
gene.trait.pvalue: warning in matrix(1:nrow(real), nc = 1): partial
  argument match of 'nc' to 'ncol'
gene.trait.pvalue : fj: warning in matrix(1:nrow(real), nc = 1):
  partial argument match of 'nc' to 'ncol'
gene.trait.pvalue: warning in matrix(1:ncol(real), nc = 1): partial
  argument match of 'nc' to 'ncol'
gene.pvalue: multiple local function definitions for ‘fi’ with
  different formal arguments
gene.similarity : s.similarity: no visible global function definition
  for ‘build.mim’
gene.similarity : s.similarity: no visible global function definition
  for ‘mrnet’
gene.similarity : s.similarity: no visible global function definition
  for ‘aracne’
gene.similarity : s.similarity: no visible global function definition
  for ‘clr’
gene.trait.pvalue: multiple local function definitions for ‘fi’ with
  different formal arguments
Undefined global functions or variables:
  aracne build.mim clr mrnet
* checking Rd files ... OK
* checking Rd metadata ... OK
* checking Rd cross-references ... OK
* checking for missing documentation entries ... OK
* checking for code/documentation mismatches ... OK
* checking Rd \usage sections ... OK
* checking Rd contents ... OK
* checking for unstated dependencies in examples ... OK
* checking contents of ‘data’ directory ... OK
* checking data for non-ASCII characters ... OK
* checking data for ASCII and uncompressed saves ... OK
* checking line endings in C/C++/Fortran sources/headers ... OK
* checking compiled code ... NOTE
Note: information on .o files is not available
* checking sizes of PDF files under ‘inst/doc’ ... OK
* checking files in ‘vignettes’ ... OK
* checking examples ... OK
* checking for unstated dependencies in vignettes ... OK
* checking package vignettes in ‘inst/doc’ ... OK
* checking running R code from vignettes ... SKIPPED
* checking re-building of vignette outputs ... SKIPPED
* checking PDF version of manual ... OK
* DONE
Status: 4 NOTEs
See
  ‘/Users/biocbuild/bbs-3.7-bioc/meat/BUS.Rcheck/00check.log’
for details.
BUS.Rcheck/00install.out
############################################################################## ############################################################################## ### ### Running command: ### ### /Library/Frameworks/R.framework/Versions/Current/Resources/bin/R CMD INSTALL BUS ### ############################################################################## ############################################################################## * installing to library ‘/Library/Frameworks/R.framework/Versions/3.5/Resources/library’ * installing *source* package ‘BUS’ ... ** libs clang++ -I"/Library/Frameworks/R.framework/Resources/include" -DNDEBUG -I/usr/local/include -fPIC -Wall -g -O2 -c BUS.cpp -o BUS.o clang++ -dynamiclib -Wl,-headerpad_max_install_names -undefined dynamic_lookup -single_module -multiply_defined suppress -L/Library/Frameworks/R.framework/Resources/lib -L/usr/local/lib -o BUS.so BUS.o -F/Library/Frameworks/R.framework/.. -framework R -Wl,-framework -Wl,CoreFoundation installing to /Library/Frameworks/R.framework/Versions/3.5/Resources/library/BUS/libs ** R ** data ** inst ** byte-compile and prepare package for lazy loading ** help *** installing help indices ** building package indices ** installing vignettes ** testing if installed package can be loaded * DONE (BUS)
BUS.Rcheck/BUS-Ex.timings
| name | user | system | elapsed | |
| BUS | 0.065 | 0.006 | 0.072 | |
| gene.pvalue | 1.115 | 0.091 | 1.216 | |
| gene.similarity | 0.007 | 0.001 | 0.007 | |
| gene.trait.pvalue | 1.091 | 0.012 | 1.117 | |
| gene.trait.similarity | 0.016 | 0.003 | 0.019 | |
| pred.network | 0.981 | 0.052 | 1.047 | |
| tumors.mRNA | 0.015 | 0.002 | 0.018 | |
| tumors.miRNA | 0.004 | 0.001 | 0.005 | |