| Back to Multiple platform build/check report for BioC 3.7 |
|
This page was generated on 2018-10-17 08:46:58 -0400 (Wed, 17 Oct 2018).
| Package 169/1561 | Hostname | OS / Arch | INSTALL | BUILD | CHECK | BUILD BIN | ||||||
| BSgenome 1.48.0 H. Pagès
| malbec2 | Linux (Ubuntu 16.04.1 LTS) / x86_64 | OK | OK | WARNINGS | |||||||
| tokay2 | Windows Server 2012 R2 Standard / x64 | OK | OK | WARNINGS | OK | |||||||
| merida2 | OS X 10.11.6 El Capitan / x86_64 | OK | OK | WARNINGS | [ OK ] |
| Package: BSgenome |
| Version: 1.48.0 |
| Command: rm -rf BSgenome.buildbin-libdir && mkdir BSgenome.buildbin-libdir && /Users/biocbuild/BBS/utils/build-universal.sh BSgenome_1.48.0.tar.gz /Library/Frameworks/R.framework/Versions/Current/Resources/bin/R BSgenome.buildbin-libdir |
| StartedAt: 2018-10-17 01:01:06 -0400 (Wed, 17 Oct 2018) |
| EndedAt: 2018-10-17 01:01:54 -0400 (Wed, 17 Oct 2018) |
| EllapsedTime: 48.3 seconds |
| RetCode: 0 |
| Status: OK |
| PackageFile: BSgenome_1.48.0.tgz |
| PackageFileSize: 6.979 MiB |
############################################################################## ############################################################################## ### ### Running command: ### ### rm -rf BSgenome.buildbin-libdir && mkdir BSgenome.buildbin-libdir && /Users/biocbuild/BBS/utils/build-universal.sh BSgenome_1.48.0.tar.gz /Library/Frameworks/R.framework/Versions/Current/Resources/bin/R BSgenome.buildbin-libdir ### ############################################################################## ############################################################################## >>>>>>> >>>>>>> INSTALLATION WITH 'R CMD INSTALL --preclean --no-multiarch --library=BSgenome.buildbin-libdir BSgenome_1.48.0.tar.gz' >>>>>>> * installing *source* package ‘BSgenome’ ... ** R ** inst ** byte-compile and prepare package for lazy loading ** help *** installing help indices ** building package indices ** installing vignettes ** testing if installed package can be loaded * DONE (BSgenome)