| Back to Multiple platform build/check report for BioC 3.7 |
|
This page was generated on 2018-10-17 08:30:11 -0400 (Wed, 17 Oct 2018).
| Package 159/1561 | Hostname | OS / Arch | INSTALL | BUILD | CHECK | BUILD BIN | ||||||
| BLMA 1.4.0 Tin Nguyen
| malbec2 | Linux (Ubuntu 16.04.1 LTS) / x86_64 | OK | OK | [ OK ] | |||||||
| tokay2 | Windows Server 2012 R2 Standard / x64 | OK | OK | OK | OK | |||||||
| merida2 | OS X 10.11.6 El Capitan / x86_64 | OK | OK | OK | OK |
| Package: BLMA |
| Version: 1.4.0 |
| Command: /home/biocbuild/bbs-3.7-bioc/R/bin/R CMD check --install=check:BLMA.install-out.txt --library=/home/biocbuild/bbs-3.7-bioc/R/library --no-vignettes --timings BLMA_1.4.0.tar.gz |
| StartedAt: 2018-10-15 22:52:11 -0400 (Mon, 15 Oct 2018) |
| EndedAt: 2018-10-15 22:56:38 -0400 (Mon, 15 Oct 2018) |
| EllapsedTime: 267.4 seconds |
| RetCode: 0 |
| Status: OK |
| CheckDir: BLMA.Rcheck |
| Warnings: 0 |
##############################################################################
##############################################################################
###
### Running command:
###
### /home/biocbuild/bbs-3.7-bioc/R/bin/R CMD check --install=check:BLMA.install-out.txt --library=/home/biocbuild/bbs-3.7-bioc/R/library --no-vignettes --timings BLMA_1.4.0.tar.gz
###
##############################################################################
##############################################################################
* using log directory ‘/home/biocbuild/bbs-3.7-bioc/meat/BLMA.Rcheck’
* using R version 3.5.1 Patched (2018-07-12 r74967)
* using platform: x86_64-pc-linux-gnu (64-bit)
* using session charset: UTF-8
* using option ‘--no-vignettes’
* checking for file ‘BLMA/DESCRIPTION’ ... OK
* checking extension type ... Package
* this is package ‘BLMA’ version ‘1.4.0’
* checking package namespace information ... OK
* checking package dependencies ... NOTE
Depends: includes the non-default packages:
‘ROntoTools’ ‘GSA’ ‘PADOG’ ‘limma’ ‘graph’ ‘parallel’ ‘Biobase’
Adding so many packages to the search path is excessive and importing
selectively is preferable.
* checking if this is a source package ... OK
* checking if there is a namespace ... OK
* checking for hidden files and directories ... OK
* checking for portable file names ... OK
* checking for sufficient/correct file permissions ... OK
* checking whether package ‘BLMA’ can be installed ... OK
* checking installed package size ... OK
* checking package directory ... OK
* checking ‘build’ directory ... OK
* checking DESCRIPTION meta-information ... OK
* checking top-level files ... OK
* checking for left-over files ... OK
* checking index information ... OK
* checking package subdirectories ... OK
* checking R files for non-ASCII characters ... OK
* checking R files for syntax errors ... OK
* checking whether the package can be loaded ... OK
* checking whether the package can be loaded with stated dependencies ... OK
* checking whether the package can be unloaded cleanly ... OK
* checking whether the namespace can be loaded with stated dependencies ... OK
* checking whether the namespace can be unloaded cleanly ... OK
* checking dependencies in R code ... OK
* checking S3 generic/method consistency ... OK
* checking replacement functions ... OK
* checking foreign function calls ... OK
* checking R code for possible problems ... NOTE
addCLT: warning in pnorm(mean(x), 1/2, sqrt(1/(12 * n)), lower = TRUE):
partial argument match of 'lower' to 'lower.tail'
additiveMethod: warning in pnorm(sum(x), n/2, sqrt(n/12), lower =
TRUE): partial argument match of 'lower' to 'lower.tail'
bilevelAnalysisGeneset : <anonymous>: warning in topTable(fit2, adjust
= "none", sort.by = "logFC", number = nrow(d) * percent, p.value =
pCutoff): partial argument match of 'adjust' to 'adjust.method'
bilevelAnalysisPathway : <anonymous>: warning in topTable(fit2, adjust
= "none", sort.by = "logFC", number = nrow(d) * percent, p.value =
pCutoff): partial argument match of 'adjust' to 'adjust.method'
fisherMethod: warning in pchisq(-2 * sum(log(x)), df = 2 * length(x),
lower = FALSE): partial argument match of 'lower' to 'lower.tail'
intraAnalysisGene : <anonymous>: warning in topTable(fit2, adjust =
"none", sort.by = "none", number = Inf): partial argument match of
'adjust' to 'adjust.method'
intraAnalysisGene: warning in topTable(fit2, adjust = "none", sort.by =
"none", number = Inf): partial argument match of 'adjust' to
'adjust.method'
bilevelAnalysisPathway : <anonymous>: no visible global function
definition for ‘Summary’
intraAnalysisGene: no visible binding for global variable ‘d’
Undefined global functions or variables:
Summary d
Consider adding
importFrom("methods", "Summary")
to your NAMESPACE file (and ensure that your DESCRIPTION Imports field
contains 'methods').
* checking Rd files ... OK
* checking Rd metadata ... OK
* checking Rd cross-references ... OK
* checking for missing documentation entries ... OK
* checking for code/documentation mismatches ... OK
* checking Rd \usage sections ... OK
* checking Rd contents ... OK
* checking for unstated dependencies in examples ... OK
* checking contents of ‘data’ directory ... OK
* checking data for non-ASCII characters ... OK
* checking data for ASCII and uncompressed saves ... OK
* checking files in ‘vignettes’ ... OK
* checking examples ... OK
Examples with CPU or elapsed time > 5s
user system elapsed
bilevelAnalysisGeneset 88.532 0.516 89.134
bilevelAnalysisPathway 61.696 0.072 61.807
* checking for unstated dependencies in ‘tests’ ... OK
* checking tests ...
Running ‘runTests.R’
OK
* checking for unstated dependencies in vignettes ... OK
* checking package vignettes in ‘inst/doc’ ... OK
* checking running R code from vignettes ... SKIPPED
* checking re-building of vignette outputs ... SKIPPED
* checking PDF version of manual ... OK
* DONE
Status: 2 NOTEs
See
‘/home/biocbuild/bbs-3.7-bioc/meat/BLMA.Rcheck/00check.log’
for details.
BLMA.Rcheck/00install.out
############################################################################## ############################################################################## ### ### Running command: ### ### /home/biocbuild/bbs-3.7-bioc/R/bin/R CMD INSTALL BLMA ### ############################################################################## ############################################################################## * installing to library ‘/home/biocbuild/bbs-3.7-bioc/R/library’ * installing *source* package ‘BLMA’ ... ** R ** data ** inst ** byte-compile and prepare package for lazy loading ** help *** installing help indices ** building package indices ** installing vignettes ** testing if installed package can be loaded * DONE (BLMA)
BLMA.Rcheck/tests/runTests.Rout
R version 3.5.1 Patched (2018-07-12 r74967) -- "Feather Spray"
Copyright (C) 2018 The R Foundation for Statistical Computing
Platform: x86_64-pc-linux-gnu (64-bit)
R is free software and comes with ABSOLUTELY NO WARRANTY.
You are welcome to redistribute it under certain conditions.
Type 'license()' or 'licence()' for distribution details.
R is a collaborative project with many contributors.
Type 'contributors()' for more information and
'citation()' on how to cite R or R packages in publications.
Type 'demo()' for some demos, 'help()' for on-line help, or
'help.start()' for an HTML browser interface to help.
Type 'q()' to quit R.
> BiocGenerics:::testPackage("BLMA")
Attaching package: 'BiocGenerics'
The following objects are masked from 'package:parallel':
clusterApply, clusterApplyLB, clusterCall, clusterEvalQ,
clusterExport, clusterMap, parApply, parCapply, parLapply,
parLapplyLB, parRapply, parSapply, parSapplyLB
The following objects are masked from 'package:stats':
IQR, mad, sd, var, xtabs
The following objects are masked from 'package:base':
Filter, Find, Map, Position, Reduce, anyDuplicated, append,
as.data.frame, basename, cbind, colMeans, colSums, colnames,
dirname, do.call, duplicated, eval, evalq, get, grep, grepl,
intersect, is.unsorted, lapply, lengths, mapply, match, mget,
order, paste, pmax, pmax.int, pmin, pmin.int, rank, rbind,
rowMeans, rowSums, rownames, sapply, setdiff, sort, table, tapply,
union, unique, unsplit, which, which.max, which.min
Attaching package: 'KEGGgraph'
The following object is masked from 'package:graphics':
plot
Welcome to Bioconductor
Vignettes contain introductory material; view with
'browseVignettes()'. To cite Bioconductor, see
'citation("Biobase")', and for packages 'citation("pkgname")'.
KEGG.db contains mappings based on older data because the original
resource was removed from the the public domain before the most
recent update was produced. This package should now be considered
deprecated and future versions of Bioconductor may not have it
available. Users who want more current data are encouraged to look
at the KEGGREST or reactome.db packages
Attaching package: 'limma'
The following object is masked from 'package:BiocGenerics':
plotMA
Working on dataset GSE17054, 9 samples
Using cached pathway data. Database info:
pathway KEGG Pathway Database
path Release 73.0+/01-03, Jan 15
Kanehisa Laboratories
343,170 entries
Default parameters detected. Using pre-parsed data.
Working on dataset GSE17054, 9 samples
GSM426404, GSM426405, GSM426406, GSM426407, GSM426412
Working on dataset GSE17054, 9 samples
GSM426404, GSM426405, GSM426406, GSM426407, GSM426412
Working on dataset GSE17054, 9 samples
GSM426404, GSM426405, GSM426406, GSM426407, GSM426412
Using cached pathway data. Database info:
pathway KEGG Pathway Database
path Release 73.0+/01-03, Jan 15
Kanehisa Laboratories
343,170 entries
Default parameters detected. Using pre-parsed data.
Working on dataset GSE17054, 9 samples
GSM426404, GSM426405, GSM426406, GSM426407, GSM426412
Using cached pathway data. Database info:
pathway KEGG Pathway Database
path Release 73.0+/01-03, Jan 15
Kanehisa Laboratories
343,170 entries
Default parameters detected. Using pre-parsed data.
RUNIT TEST PROTOCOL -- Mon Oct 15 22:56:36 2018
***********************************************
Number of test functions: 10
Number of errors: 0
Number of failures: 0
1 Test Suite :
BLMA RUnit Tests - 10 test functions, 0 errors, 0 failures
Number of test functions: 10
Number of errors: 0
Number of failures: 0
>
> proc.time()
user system elapsed
24.916 0.196 25.131
BLMA.Rcheck/BLMA-Ex.timings
| name | user | system | elapsed | |
| addCLT | 0.004 | 0.000 | 0.001 | |
| bilevelAnalysisClassic | 0.012 | 0.000 | 0.011 | |
| bilevelAnalysisGene | 2.912 | 0.024 | 2.987 | |
| bilevelAnalysisGeneset | 88.532 | 0.516 | 89.134 | |
| bilevelAnalysisPathway | 61.696 | 0.072 | 61.807 | |
| fisherMethod | 0.000 | 0.000 | 0.001 | |
| intraAnalysisClassic | 0.008 | 0.000 | 0.006 | |
| intraAnalysisGene | 0.644 | 0.000 | 0.642 | |
| loadKEGGPathways | 2.480 | 0.008 | 2.491 | |
| stoufferMethod | 0.000 | 0.000 | 0.001 | |