| Back to Multiple platform build/check report for BioC 3.7 |
|
This page was generated on 2018-10-17 08:54:52 -0400 (Wed, 17 Oct 2018).
| Package 110/1561 | Hostname | OS / Arch | INSTALL | BUILD | CHECK | BUILD BIN | ||||||
| BEclear 1.12.1 David Rasp
| malbec2 | Linux (Ubuntu 16.04.1 LTS) / x86_64 | OK | OK | OK | |||||||
| tokay2 | Windows Server 2012 R2 Standard / x64 | OK | OK | OK | OK | |||||||
| merida2 | OS X 10.11.6 El Capitan / x86_64 | OK | OK | OK | [ OK ] |
| Package: BEclear |
| Version: 1.12.1 |
| Command: rm -rf BEclear.buildbin-libdir && mkdir BEclear.buildbin-libdir && /Users/biocbuild/BBS/utils/build-universal.sh BEclear_1.12.1.tar.gz /Library/Frameworks/R.framework/Versions/Current/Resources/bin/R BEclear.buildbin-libdir |
| StartedAt: 2018-10-17 00:57:25 -0400 (Wed, 17 Oct 2018) |
| EndedAt: 2018-10-17 00:58:22 -0400 (Wed, 17 Oct 2018) |
| EllapsedTime: 56.7 seconds |
| RetCode: 0 |
| Status: OK |
| PackageFile: BEclear_1.12.1.tgz |
| PackageFileSize: 363.3 KiB |
############################################################################## ############################################################################## ### ### Running command: ### ### rm -rf BEclear.buildbin-libdir && mkdir BEclear.buildbin-libdir && /Users/biocbuild/BBS/utils/build-universal.sh BEclear_1.12.1.tar.gz /Library/Frameworks/R.framework/Versions/Current/Resources/bin/R BEclear.buildbin-libdir ### ############################################################################## ############################################################################## >>>>>>> >>>>>>> INSTALLATION WITH 'R CMD INSTALL --preclean --no-multiarch --library=BEclear.buildbin-libdir BEclear_1.12.1.tar.gz' >>>>>>> * installing *source* package ‘BEclear’ ... ** R ** data ** inst ** byte-compile and prepare package for lazy loading ** help *** installing help indices ** building package indices ** installing vignettes ** testing if installed package can be loaded * DONE (BEclear)