| Back to Multiple platform build/check report for BioC 3.7 |
|
This page was generated on 2018-10-17 08:34:00 -0400 (Wed, 17 Oct 2018).
| Package 70/1561 | Hostname | OS / Arch | INSTALL | BUILD | CHECK | BUILD BIN | ||||||
| ArrayTools 1.40.0 Arthur Li
| malbec2 | Linux (Ubuntu 16.04.1 LTS) / x86_64 | OK | OK | OK | |||||||
| tokay2 | Windows Server 2012 R2 Standard / x64 | OK | OK | OK | [ OK ] | |||||||
| merida2 | OS X 10.11.6 El Capitan / x86_64 | OK | OK | OK | OK |
| Package: ArrayTools |
| Version: 1.40.0 |
| Command: rm -rf ArrayTools.buildbin-libdir && mkdir ArrayTools.buildbin-libdir && C:\Users\biocbuild\bbs-3.7-bioc\R\bin\R.exe CMD INSTALL --merge-multiarch --build --library=ArrayTools.buildbin-libdir ArrayTools_1.40.0.tar.gz |
| StartedAt: 2018-10-17 06:02:26 -0400 (Wed, 17 Oct 2018) |
| EndedAt: 2018-10-17 06:03:00 -0400 (Wed, 17 Oct 2018) |
| EllapsedTime: 34.5 seconds |
| RetCode: 0 |
| Status: OK |
| PackageFile: ArrayTools_1.40.0.zip |
| PackageFileSize: 658.1 KiB |
##############################################################################
##############################################################################
###
### Running command:
###
### rm -rf ArrayTools.buildbin-libdir && mkdir ArrayTools.buildbin-libdir && C:\Users\biocbuild\bbs-3.7-bioc\R\bin\R.exe CMD INSTALL --merge-multiarch --build --library=ArrayTools.buildbin-libdir ArrayTools_1.40.0.tar.gz
###
##############################################################################
##############################################################################
install for i386
* installing *source* package 'ArrayTools' ...
** R
** data
** inst
** byte-compile and prepare package for lazy loading
** help
*** installing help indices
converting help for package 'ArrayTools'
finding HTML links ... done
Output2HTML html
QC html
Sort html
adjustment html
contrastMatrix-class html
createExpressionSet html
createGSEAFiles html
createIndex html
createIngenuityFile html
designMatrix-class html
eSetExample html
exprsExample html
geneFilter html
getAdjP html
getAnnotation html
getCompare1 html
getCompare2 html
getContrast html
getCovariates html
getDesign html
getF html
getFC html
getFCCutoff html
getFilterMethod html
getID html
getIndex html
getIntIndex html
getInteraction html
getLength html
getLevel html
getNormalizationMethod html
getP html
getPCutoff html
getTarget html
hugene10stCONTROL html
interactionResult-class html
mogene10stCONTROL html
output.cls html
output.gct html
output.ing html
pDataExample html
postInteraction html
preProcess3prime html
preProcessGeneST html
qa3prime html
qaGeneST html
regress html
regressResult-class html
regressionMethod html
selectSigGene html
selectSigGeneInt html
** building package indices
** installing vignettes
** testing if installed package can be loaded
In R CMD INSTALL
install for x64
* installing *source* package 'ArrayTools' ...
** testing if installed package can be loaded
* MD5 sums
packaged installation of 'ArrayTools' as ArrayTools_1.40.0.zip
* DONE (ArrayTools)
In R CMD INSTALL
In R CMD INSTALL