| Back to Multiple platform build/check report for BioC 3.7 |
|
This page was generated on 2018-10-17 08:42:47 -0400 (Wed, 17 Oct 2018).
| Package 45/1561 | Hostname | OS / Arch | INSTALL | BUILD | CHECK | BUILD BIN | ||||||
| Anaquin 2.4.0 Ted Wong
| malbec2 | Linux (Ubuntu 16.04.1 LTS) / x86_64 | OK | OK | OK | |||||||
| tokay2 | Windows Server 2012 R2 Standard / x64 | OK | OK | OK | [ OK ] | |||||||
| merida2 | OS X 10.11.6 El Capitan / x86_64 | OK | OK | OK | OK |
| Package: Anaquin |
| Version: 2.4.0 |
| Command: rm -rf Anaquin.buildbin-libdir && mkdir Anaquin.buildbin-libdir && C:\Users\biocbuild\bbs-3.7-bioc\R\bin\R.exe CMD INSTALL --merge-multiarch --build --library=Anaquin.buildbin-libdir Anaquin_2.4.0.tar.gz |
| StartedAt: 2018-10-17 06:01:27 -0400 (Wed, 17 Oct 2018) |
| EndedAt: 2018-10-17 06:01:39 -0400 (Wed, 17 Oct 2018) |
| EllapsedTime: 12.2 seconds |
| RetCode: 0 |
| Status: OK |
| PackageFile: Anaquin_2.4.0.zip |
| PackageFileSize: 452.2 KiB |
##############################################################################
##############################################################################
###
### Running command:
###
### rm -rf Anaquin.buildbin-libdir && mkdir Anaquin.buildbin-libdir && C:\Users\biocbuild\bbs-3.7-bioc\R\bin\R.exe CMD INSTALL --merge-multiarch --build --library=Anaquin.buildbin-libdir Anaquin_2.4.0.tar.gz
###
##############################################################################
##############################################################################
install for i386
* installing *source* package 'Anaquin' ...
** R
** data
*** moving datasets to lazyload DB
** inst
** byte-compile and prepare package for lazy loading
** help
*** installing help indices
converting help for package 'Anaquin'
finding HTML links ... done
RnaQuinGeneMixture html
RnaQuinIsoformMixture html
UserGuideData_5.4.5.1 html
UserGuideData_5.4.6.3 html
UserGuideData_5.6.3 html
plotConjoint html
plotLOD html
plotLinear html
plotLogistic html
plotROC html
** building package indices
** installing vignettes
** testing if installed package can be loaded
In R CMD INSTALL
install for x64
* installing *source* package 'Anaquin' ...
** testing if installed package can be loaded
* MD5 sums
packaged installation of 'Anaquin' as Anaquin_2.4.0.zip
* DONE (Anaquin)
In R CMD INSTALL
In R CMD INSTALL