| Back to Multiple platform build/check report for BioC 3.7 |
|
This page was generated on 2018-10-17 08:22:50 -0400 (Wed, 17 Oct 2018).
| Package 33/1561 | Hostname | OS / Arch | INSTALL | BUILD | CHECK | BUILD BIN | ||||||
| AgiMicroRna 2.30.0 Pedro Lopez-Romero
| malbec2 | Linux (Ubuntu 16.04.1 LTS) / x86_64 | [ OK ] | OK | OK | |||||||
| tokay2 | Windows Server 2012 R2 Standard / x64 | OK | OK | OK | OK | |||||||
| merida2 | OS X 10.11.6 El Capitan / x86_64 | OK | OK | OK | OK |
| Package: AgiMicroRna |
| Version: 2.30.0 |
| Command: /home/biocbuild/bbs-3.7-bioc/R/bin/R CMD INSTALL AgiMicroRna |
| StartedAt: 2018-10-15 18:39:15 -0400 (Mon, 15 Oct 2018) |
| EndedAt: 2018-10-15 18:39:54 -0400 (Mon, 15 Oct 2018) |
| EllapsedTime: 39.3 seconds |
| RetCode: 0 |
| Status: OK |
############################################################################## ############################################################################## ### ### Running command: ### ### /home/biocbuild/bbs-3.7-bioc/R/bin/R CMD INSTALL AgiMicroRna ### ############################################################################## ############################################################################## * installing to library ‘/home/biocbuild/bbs-3.7-bioc/R/library’ * installing *source* package ‘AgiMicroRna’ ... ** R ** data ** byte-compile and prepare package for lazy loading ** help *** installing help indices ** building package indices ** installing vignettes ** testing if installed package can be loaded * DONE (AgiMicroRna)