| Back to Multiple platform build/check report for BioC 3.7 | 
 | 
This page was generated on 2018-10-17 08:35:58 -0400 (Wed, 17 Oct 2018).
| Package 30/1561 | Hostname | OS / Arch | INSTALL | BUILD | CHECK | BUILD BIN | ||||||
| AffyRNADegradation 1.26.0 Mario Fasold 
 | malbec2 | Linux (Ubuntu 16.04.1 LTS) / x86_64 | OK | OK | OK |  | ||||||
| tokay2 | Windows Server 2012 R2 Standard / x64 | [ OK ] | OK | OK | OK |  | ||||||
| merida2 | OS X 10.11.6 El Capitan / x86_64 | OK | OK | OK | OK |  | 
| Package: AffyRNADegradation | 
| Version: 1.26.0 | 
| Command: C:\cygwin\bin\curl.exe -O https://malbec2.bioconductor.org/BBS/3.7/bioc/src/contrib/AffyRNADegradation_1.26.0.tar.gz && rm -rf AffyRNADegradation.buildbin-libdir && mkdir AffyRNADegradation.buildbin-libdir && C:\Users\biocbuild\bbs-3.7-bioc\R\bin\R.exe CMD INSTALL --merge-multiarch --build --library=AffyRNADegradation.buildbin-libdir AffyRNADegradation_1.26.0.tar.gz && C:\Users\biocbuild\bbs-3.7-bioc\R\bin\R.exe CMD INSTALL AffyRNADegradation_1.26.0.zip && rm AffyRNADegradation_1.26.0.tar.gz AffyRNADegradation_1.26.0.zip | 
| StartedAt: 2018-10-16 19:26:29 -0400 (Tue, 16 Oct 2018) | 
| EndedAt: 2018-10-16 19:26:54 -0400 (Tue, 16 Oct 2018) | 
| EllapsedTime: 24.7 seconds | 
| RetCode: 0 | 
| Status: OK | 
##############################################################################
##############################################################################
###
### Running command:
###
###   C:\cygwin\bin\curl.exe -O https://malbec2.bioconductor.org/BBS/3.7/bioc/src/contrib/AffyRNADegradation_1.26.0.tar.gz && rm -rf AffyRNADegradation.buildbin-libdir && mkdir AffyRNADegradation.buildbin-libdir && C:\Users\biocbuild\bbs-3.7-bioc\R\bin\R.exe CMD INSTALL --merge-multiarch --build --library=AffyRNADegradation.buildbin-libdir AffyRNADegradation_1.26.0.tar.gz && C:\Users\biocbuild\bbs-3.7-bioc\R\bin\R.exe CMD INSTALL AffyRNADegradation_1.26.0.zip && rm AffyRNADegradation_1.26.0.tar.gz AffyRNADegradation_1.26.0.zip
###
##############################################################################
##############################################################################
  % Total    % Received % Xferd  Average Speed   Time    Time     Time  Current
                                 Dload  Upload   Total   Spent    Left  Speed
  0     0    0     0    0     0      0      0 --:--:-- --:--:-- --:--:--     0
100 12056  100 12056    0     0   221k      0 --:--:-- --:--:-- --:--:--  250k
install for i386
* installing *source* package 'AffyRNADegradation' ...
** R
** inst
** byte-compile and prepare package for lazy loading
** help
*** installing help indices
  converting help for package 'AffyRNADegradation'
    finding HTML links ... done
    AffyDegradationBatch-class              html  
    AffyRNADegradation-package              html  
    AffyRNADegradation                      html  
    GetTongs                                html  
** building package indices
** installing vignettes
** testing if installed package can be loaded
In R CMD INSTALL
install for x64
* installing *source* package 'AffyRNADegradation' ...
** testing if installed package can be loaded
* MD5 sums
packaged installation of 'AffyRNADegradation' as AffyRNADegradation_1.26.0.zip
* DONE (AffyRNADegradation)
In R CMD INSTALL
In R CMD INSTALL
* installing to library 'C:/Users/biocbuild/bbs-3.7-bioc/R/library'
package 'AffyRNADegradation' successfully unpacked and MD5 sums checked
In R CMD INSTALL