| Back to Multiple platform build/check report for BioC 3.7 |
|
This page was generated on 2018-10-17 08:33:49 -0400 (Wed, 17 Oct 2018).
| Package 19/1561 | Hostname | OS / Arch | INSTALL | BUILD | CHECK | BUILD BIN | ||||||
| AffyCompatible 1.40.0 Martin Morgan
| malbec2 | Linux (Ubuntu 16.04.1 LTS) / x86_64 | OK | OK | OK | |||||||
| tokay2 | Windows Server 2012 R2 Standard / x64 | OK | OK | OK | [ OK ] | |||||||
| merida2 | OS X 10.11.6 El Capitan / x86_64 | OK | OK | OK | OK |
| Package: AffyCompatible |
| Version: 1.40.0 |
| Command: rm -rf AffyCompatible.buildbin-libdir && mkdir AffyCompatible.buildbin-libdir && C:\Users\biocbuild\bbs-3.7-bioc\R\bin\R.exe CMD INSTALL --merge-multiarch --build --library=AffyCompatible.buildbin-libdir AffyCompatible_1.40.0.tar.gz |
| StartedAt: 2018-10-17 06:00:14 -0400 (Wed, 17 Oct 2018) |
| EndedAt: 2018-10-17 06:01:04 -0400 (Wed, 17 Oct 2018) |
| EllapsedTime: 49.7 seconds |
| RetCode: 0 |
| Status: OK |
| PackageFile: AffyCompatible_1.40.0.zip |
| PackageFileSize: 1.976 MiB |
##############################################################################
##############################################################################
###
### Running command:
###
### rm -rf AffyCompatible.buildbin-libdir && mkdir AffyCompatible.buildbin-libdir && C:\Users\biocbuild\bbs-3.7-bioc\R\bin\R.exe CMD INSTALL --merge-multiarch --build --library=AffyCompatible.buildbin-libdir AffyCompatible_1.40.0.tar.gz
###
##############################################################################
##############################################################################
install for i386
* installing *source* package 'AffyCompatible' ...
** R
** inst
** byte-compile and prepare package for lazy loading
** help
*** installing help indices
converting help for package 'AffyCompatible'
finding HTML links ... done
AffyCompatible-class html
AffyCompatible-package html
NetAffxResource-class html
NetAffxResource html
accessors-NetAffxResource html
readArr html
readMage html
readNetAffx html
readXml html
xclass html
zzz-.TypedAssociation-class html
zzz-ARRCompatibility-class html
zzz-DTTCompatibility-class html
zzz-NetAffxCompatibility-class html
zzz html
** building package indices
** installing vignettes
** testing if installed package can be loaded
In R CMD INSTALL
install for x64
* installing *source* package 'AffyCompatible' ...
** testing if installed package can be loaded
* MD5 sums
packaged installation of 'AffyCompatible' as AffyCompatible_1.40.0.zip
* DONE (AffyCompatible)
In R CMD INSTALL
In R CMD INSTALL