| Back to Multiple platform build/check report for BioC 3.7 |
|
This page was generated on 2018-10-17 08:37:36 -0400 (Wed, 17 Oct 2018).
| Package 78/1561 | Hostname | OS / Arch | INSTALL | BUILD | CHECK | BUILD BIN | ||||||
| ASSET 1.98.0 Samsiddhi Bhattacharjee
| malbec2 | Linux (Ubuntu 16.04.1 LTS) / x86_64 | OK | OK | WARNINGS | |||||||
| tokay2 | Windows Server 2012 R2 Standard / x64 | [ OK ] | OK | WARNINGS | OK | |||||||
| merida2 | OS X 10.11.6 El Capitan / x86_64 | OK | OK | WARNINGS | OK |
| Package: ASSET |
| Version: 1.98.0 |
| Command: C:\cygwin\bin\curl.exe -O https://malbec2.bioconductor.org/BBS/3.7/bioc/src/contrib/ASSET_1.98.0.tar.gz && rm -rf ASSET.buildbin-libdir && mkdir ASSET.buildbin-libdir && C:\Users\biocbuild\bbs-3.7-bioc\R\bin\R.exe CMD INSTALL --merge-multiarch --build --library=ASSET.buildbin-libdir ASSET_1.98.0.tar.gz && C:\Users\biocbuild\bbs-3.7-bioc\R\bin\R.exe CMD INSTALL ASSET_1.98.0.zip && rm ASSET_1.98.0.tar.gz ASSET_1.98.0.zip |
| StartedAt: 2018-10-16 19:09:20 -0400 (Tue, 16 Oct 2018) |
| EndedAt: 2018-10-16 19:10:17 -0400 (Tue, 16 Oct 2018) |
| EllapsedTime: 56.7 seconds |
| RetCode: 0 |
| Status: OK |
##############################################################################
##############################################################################
###
### Running command:
###
### C:\cygwin\bin\curl.exe -O https://malbec2.bioconductor.org/BBS/3.7/bioc/src/contrib/ASSET_1.98.0.tar.gz && rm -rf ASSET.buildbin-libdir && mkdir ASSET.buildbin-libdir && C:\Users\biocbuild\bbs-3.7-bioc\R\bin\R.exe CMD INSTALL --merge-multiarch --build --library=ASSET.buildbin-libdir ASSET_1.98.0.tar.gz && C:\Users\biocbuild\bbs-3.7-bioc\R\bin\R.exe CMD INSTALL ASSET_1.98.0.zip && rm ASSET_1.98.0.tar.gz ASSET_1.98.0.zip
###
##############################################################################
##############################################################################
% Total % Received % Xferd Average Speed Time Time Time Current
Dload Upload Total Spent Left Speed
0 0 0 0 0 0 0 0 --:--:-- --:--:-- --:--:-- 0
100 128k 100 128k 0 0 2057k 0 --:--:-- --:--:-- --:--:-- 2330k
install for i386
* installing *source* package 'ASSET' ...
** R
** data
** inst
** byte-compile and prepare package for lazy loading
** help
*** installing help indices
converting help for package 'ASSET'
finding HTML links ... done
ASSET html
ex_trait html
ex_types html
h.forestPlot html
h.summary html
h.traits html
finding level-2 HTML links ... done
Rd warning: C:/Users/biocbuild/bbs-3.7-bioc/tmpdir/Rtmpy28bXu/R.INSTALL11644951116a/ASSET/man/h.traits.Rd:41: missing link 'p.tube'
h.types html
Rd warning: C:/Users/biocbuild/bbs-3.7-bioc/tmpdir/Rtmpy28bXu/R.INSTALL11644951116a/ASSET/man/h.types.Rd:38: missing link 'p.tube'
p.dlm html
z.max html
** building package indices
** installing vignettes
** testing if installed package can be loaded
In R CMD INSTALL
install for x64
* installing *source* package 'ASSET' ...
** testing if installed package can be loaded
* MD5 sums
packaged installation of 'ASSET' as ASSET_1.98.0.zip
* DONE (ASSET)
In R CMD INSTALL
In R CMD INSTALL
* installing to library 'C:/Users/biocbuild/bbs-3.7-bioc/R/library'
package 'ASSET' successfully unpacked and MD5 sums checked
In R CMD INSTALL