| Back to Multiple platform build/check report for BioC 3.7 |
|
This page was generated on 2018-10-17 08:35:57 -0400 (Wed, 17 Oct 2018).
| Package 74/1561 | Hostname | OS / Arch | INSTALL | BUILD | CHECK | BUILD BIN | ||||||
| ASEB 1.24.0 Likun Wang
| malbec2 | Linux (Ubuntu 16.04.1 LTS) / x86_64 | OK | OK | OK | |||||||
| tokay2 | Windows Server 2012 R2 Standard / x64 | [ OK ] | OK | OK | OK | |||||||
| merida2 | OS X 10.11.6 El Capitan / x86_64 | OK | OK | OK | OK |
| Package: ASEB |
| Version: 1.24.0 |
| Command: C:\cygwin\bin\curl.exe -O https://malbec2.bioconductor.org/BBS/3.7/bioc/src/contrib/ASEB_1.24.0.tar.gz && rm -rf ASEB.buildbin-libdir && mkdir ASEB.buildbin-libdir && C:\Users\biocbuild\bbs-3.7-bioc\R\bin\R.exe CMD INSTALL --merge-multiarch --build --library=ASEB.buildbin-libdir ASEB_1.24.0.tar.gz && C:\Users\biocbuild\bbs-3.7-bioc\R\bin\R.exe CMD INSTALL ASEB_1.24.0.zip && rm ASEB_1.24.0.tar.gz ASEB_1.24.0.zip |
| StartedAt: 2018-10-16 18:35:57 -0400 (Tue, 16 Oct 2018) |
| EndedAt: 2018-10-16 18:36:23 -0400 (Tue, 16 Oct 2018) |
| EllapsedTime: 26.3 seconds |
| RetCode: 0 |
| Status: OK |
##############################################################################
##############################################################################
###
### Running command:
###
### C:\cygwin\bin\curl.exe -O https://malbec2.bioconductor.org/BBS/3.7/bioc/src/contrib/ASEB_1.24.0.tar.gz && rm -rf ASEB.buildbin-libdir && mkdir ASEB.buildbin-libdir && C:\Users\biocbuild\bbs-3.7-bioc\R\bin\R.exe CMD INSTALL --merge-multiarch --build --library=ASEB.buildbin-libdir ASEB_1.24.0.tar.gz && C:\Users\biocbuild\bbs-3.7-bioc\R\bin\R.exe CMD INSTALL ASEB_1.24.0.zip && rm ASEB_1.24.0.tar.gz ASEB_1.24.0.zip
###
##############################################################################
##############################################################################
% Total % Received % Xferd Average Speed Time Time Time Current
Dload Upload Total Spent Left Speed
0 0 0 0 0 0 0 0 --:--:-- --:--:-- --:--:-- 0
100 365k 100 365k 0 0 4806k 0 --:--:-- --:--:-- --:--:-- 5302k
install for i386
* installing *source* package 'ASEB' ...
** libs
C:/Rtools/mingw_32/bin/g++ -I"C:/Users/BIOCBU˜1/BBS-3˜1.7-B/R/include" -DNDEBUG -I"C:/extsoft/include" -O2 -Wall -mtune=generic -c asebC.cpp -o asebC.o
C:/Rtools/mingw_32/bin/g++ -shared -s -static-libgcc -o ASEB.dll tmp.def asebC.o -LC:/extsoft/lib/i386 -LC:/extsoft/lib -LC:/Users/BIOCBU˜1/BBS-3˜1.7-B/R/bin/i386 -lR
installing to C:/Users/biocbuild/bbs-3.7-bioc/meat/ASEB.buildbin-libdir/ASEB/libs/i386
** R
** inst
** byte-compile and prepare package for lazy loading
** help
*** installing help indices
converting help for package 'ASEB'
finding HTML links ... done
SequenceInfo html
asebProteins html
asebSites html
drawEScurve html
drawStat html
readSequence html
** building package indices
** installing vignettes
** testing if installed package can be loaded
In R CMD INSTALL
install for x64
* installing *source* package 'ASEB' ...
** libs
C:/Rtools/mingw_64/bin/g++ -I"C:/Users/BIOCBU˜1/BBS-3˜1.7-B/R/include" -DNDEBUG -I"C:/extsoft/include" -O2 -Wall -mtune=generic -c asebC.cpp -o asebC.o
C:/Rtools/mingw_64/bin/g++ -shared -s -static-libgcc -o ASEB.dll tmp.def asebC.o -LC:/extsoft/lib/x64 -LC:/extsoft/lib -LC:/Users/BIOCBU˜1/BBS-3˜1.7-B/R/bin/x64 -lR
installing to C:/Users/biocbuild/bbs-3.7-bioc/meat/ASEB.buildbin-libdir/ASEB/libs/x64
** testing if installed package can be loaded
* MD5 sums
packaged installation of 'ASEB' as ASEB_1.24.0.zip
* DONE (ASEB)
In R CMD INSTALL
In R CMD INSTALL
* installing to library 'C:/Users/biocbuild/bbs-3.7-bioc/R/library'
package 'ASEB' successfully unpacked and MD5 sums checked
In R CMD INSTALL