| Back to Multiple platform build/check report for BioC 3.7 |
|
This page was generated on 2018-10-17 08:35:44 -0400 (Wed, 17 Oct 2018).
| Package 31/1561 | Hostname | OS / Arch | INSTALL | BUILD | CHECK | BUILD BIN | ||||||
| AGDEX 1.28.0 Cuilan lani Gao
| malbec2 | Linux (Ubuntu 16.04.1 LTS) / x86_64 | OK | OK | OK | |||||||
| tokay2 | Windows Server 2012 R2 Standard / x64 | OK | OK | WARNINGS | [ OK ] | |||||||
| merida2 | OS X 10.11.6 El Capitan / x86_64 | OK | OK | OK | OK |
| Package: AGDEX |
| Version: 1.28.0 |
| Command: rm -rf AGDEX.buildbin-libdir && mkdir AGDEX.buildbin-libdir && C:\Users\biocbuild\bbs-3.7-bioc\R\bin\R.exe CMD INSTALL --merge-multiarch --build --library=AGDEX.buildbin-libdir AGDEX_1.28.0.tar.gz |
| StartedAt: 2018-10-17 06:00:42 -0400 (Wed, 17 Oct 2018) |
| EndedAt: 2018-10-17 06:00:59 -0400 (Wed, 17 Oct 2018) |
| EllapsedTime: 17.1 seconds |
| RetCode: 0 |
| Status: OK |
| PackageFile: AGDEX_1.28.0.zip |
| PackageFileSize: 593.4 KiB |
##############################################################################
##############################################################################
###
### Running command:
###
### rm -rf AGDEX.buildbin-libdir && mkdir AGDEX.buildbin-libdir && C:\Users\biocbuild\bbs-3.7-bioc\R\bin\R.exe CMD INSTALL --merge-multiarch --build --library=AGDEX.buildbin-libdir AGDEX_1.28.0.tar.gz
###
##############################################################################
##############################################################################
install for i386
* installing *source* package 'AGDEX' ...
** R
** data
** inst
** byte-compile and prepare package for lazy loading
** help
*** installing help indices
converting help for package 'AGDEX'
finding HTML links ... done
AGDEX-package html
agdex html
Rd warning: C:/Users/biocbuild/bbs-3.7-bioc/tmpdir/RtmpYfUvGC/R.INSTALL287862b9b03/AGDEX/man/agdex.Rd:91: file link 'ExpressionSet' in package 'Biobase' does not exist and so has been treated as a topic
Rd warning: C:/Users/biocbuild/bbs-3.7-bioc/tmpdir/RtmpYfUvGC/R.INSTALL287862b9b03/AGDEX/man/agdex.Rd:93: file link 'GeneSetCollection' in package 'GSEABase' does not exist and so has been treated as a topic
agdex.res html
agdex.scatterplot html
get.gset.result.details html
gset.data html
Rd warning: C:/Users/biocbuild/bbs-3.7-bioc/tmpdir/RtmpYfUvGC/R.INSTALL287862b9b03/AGDEX/man/gset.data.Rd:24: file link 'GeneSetCollection' in package 'GSEABase' does not exist and so has been treated as a topic
human.data html
Rd warning: C:/Users/biocbuild/bbs-3.7-bioc/tmpdir/RtmpYfUvGC/R.INSTALL287862b9b03/AGDEX/man/human.data.Rd:35: file link 'ExpressionSet' in package 'Biobase' does not exist and so has been treated as a topic
make.dex.set.object html
Rd warning: C:/Users/biocbuild/bbs-3.7-bioc/tmpdir/RtmpYfUvGC/R.INSTALL287862b9b03/AGDEX/man/make.dex.set.object.Rd:37: file link 'ExpressionSet' in package 'Biobase' does not exist and so has been treated as a topic
Rd warning: C:/Users/biocbuild/bbs-3.7-bioc/tmpdir/RtmpYfUvGC/R.INSTALL287862b9b03/AGDEX/man/make.dex.set.object.Rd:39: file link 'GeneSetCollection' in package 'GSEABase' does not exist and so has been treated as a topic
map.data html
mouse.data html
Rd warning: C:/Users/biocbuild/bbs-3.7-bioc/tmpdir/RtmpYfUvGC/R.INSTALL287862b9b03/AGDEX/man/mouse.data.Rd:35: file link 'ExpressionSet' in package 'Biobase' does not exist and so has been treated as a topic
read.agdex.gset.details html
read.agdex.result html
write.agdex.gset.details html
write.agdex.result html
** building package indices
** installing vignettes
** testing if installed package can be loaded
In R CMD INSTALL
install for x64
* installing *source* package 'AGDEX' ...
** testing if installed package can be loaded
* MD5 sums
packaged installation of 'AGDEX' as AGDEX_1.28.0.zip
* DONE (AGDEX)
In R CMD INSTALL
In R CMD INSTALL