| Back to Multiple platform build/check report for BioC 3.6 |
|
This page was generated on 2018-04-12 13:22:20 -0400 (Thu, 12 Apr 2018).
| Package 1453/1472 | Hostname | OS / Arch | INSTALL | BUILD | CHECK | BUILD BIN | ||||||
| wateRmelon 1.22.1 Leo
| malbec1 | Linux (Ubuntu 16.04.1 LTS) / x86_64 | OK | OK | OK | |||||||
| tokay1 | Windows Server 2012 R2 Standard / x64 | [ OK ] | OK | OK | OK | |||||||
| veracruz1 | OS X 10.11.6 El Capitan / x86_64 | OK | OK | OK | OK |
| Package: wateRmelon |
| Version: 1.22.1 |
| Command: rm -rf wateRmelon.buildbin-libdir && mkdir wateRmelon.buildbin-libdir && C:\cygwin\bin\curl.exe -O https://malbec1.bioconductor.org/BBS/3.6/bioc/src/contrib/wateRmelon_1.22.1.tar.gz && C:\Users\biocbuild\bbs-3.6-bioc\R\bin\R.exe CMD INSTALL --build --library=wateRmelon.buildbin-libdir --merge-multiarch wateRmelon_1.22.1.tar.gz && C:\Users\biocbuild\bbs-3.6-bioc\R\bin\R.exe CMD INSTALL wateRmelon_1.22.1.zip && rm wateRmelon_1.22.1.tar.gz wateRmelon_1.22.1.zip |
| StartedAt: 2018-04-11 18:55:15 -0400 (Wed, 11 Apr 2018) |
| EndedAt: 2018-04-11 18:56:25 -0400 (Wed, 11 Apr 2018) |
| EllapsedTime: 69.7 seconds |
| RetCode: 0 |
| Status: OK |
##############################################################################
##############################################################################
###
### Running command:
###
### rm -rf wateRmelon.buildbin-libdir && mkdir wateRmelon.buildbin-libdir && C:\cygwin\bin\curl.exe -O https://malbec1.bioconductor.org/BBS/3.6/bioc/src/contrib/wateRmelon_1.22.1.tar.gz && C:\Users\biocbuild\bbs-3.6-bioc\R\bin\R.exe CMD INSTALL --build --library=wateRmelon.buildbin-libdir --merge-multiarch wateRmelon_1.22.1.tar.gz && C:\Users\biocbuild\bbs-3.6-bioc\R\bin\R.exe CMD INSTALL wateRmelon_1.22.1.zip && rm wateRmelon_1.22.1.tar.gz wateRmelon_1.22.1.zip
###
##############################################################################
##############################################################################
% Total % Received % Xferd Average Speed Time Time Time Current
Dload Upload Total Spent Left Speed
0 0 0 0 0 0 0 0 --:--:-- --:--:-- --:--:-- 0
100 1053k 100 1053k 0 0 19.9M 0 --:--:-- --:--:-- --:--:-- 20.9M
install for i386
* installing *source* package 'wateRmelon' ...
** R
** data
** inst
** preparing package for lazy loading
Creating a generic function from function 'as.methylumi' in package 'wateRmelon'
** help
*** installing help indices
converting help for package 'wateRmelon'
finding HTML links ... done
BMIQ html
Beta2M html
adaptRefQuantiles html
agep html
as.methylumi-methods html
beadc html
beadcount html
bscon html
colnames-methods html
combo html
dasen-MethyLumiSet html
dasen-MethySet html
dasen-exprmethy450 html
dasen html
db1 html
dmrse-methods html
dmrse html
genki-methods html
genki html
genkme html
got html
iDMR html
melon html
metrics html
outlyx-methods html
outlyx html
pfilter html
pwod-methods html
pwod html
qual html
readEPIC html
seabi-methods html
seabi html
seabird html
sextest html
wateRmelon-package html
wm_internal html
** building package indices
** installing vignettes
'wateRmelon.Rnw'
** testing if installed package can be loaded
In R CMD INSTALL
install for x64
* installing *source* package 'wateRmelon' ...
** testing if installed package can be loaded
* MD5 sums
packaged installation of 'wateRmelon' as wateRmelon_1.22.1.zip
* DONE (wateRmelon)
In R CMD INSTALL
In R CMD INSTALL
* installing to library 'C:/Users/biocbuild/bbs-3.6-bioc/R/library'
package 'wateRmelon' successfully unpacked and MD5 sums checked
In R CMD INSTALL