| Back to Multiple platform build/check report for BioC 3.6 |
|
This page was generated on 2018-04-12 13:19:34 -0400 (Thu, 12 Apr 2018).
| Package 1426/1472 | Hostname | OS / Arch | INSTALL | BUILD | CHECK | BUILD BIN | ||||||
| tspair 1.36.0 Jeffrey T. Leek
| malbec1 | Linux (Ubuntu 16.04.1 LTS) / x86_64 | OK | OK | OK | |||||||
| tokay1 | Windows Server 2012 R2 Standard / x64 | [ OK ] | OK | OK | OK | |||||||
| veracruz1 | OS X 10.11.6 El Capitan / x86_64 | OK | OK | OK | OK |
| Package: tspair |
| Version: 1.36.0 |
| Command: rm -rf tspair.buildbin-libdir && mkdir tspair.buildbin-libdir && C:\cygwin\bin\curl.exe -O https://malbec1.bioconductor.org/BBS/3.6/bioc/src/contrib/tspair_1.36.0.tar.gz && C:\Users\biocbuild\bbs-3.6-bioc\R\bin\R.exe CMD INSTALL --build --library=tspair.buildbin-libdir --merge-multiarch tspair_1.36.0.tar.gz && C:\Users\biocbuild\bbs-3.6-bioc\R\bin\R.exe CMD INSTALL tspair_1.36.0.zip && rm tspair_1.36.0.tar.gz tspair_1.36.0.zip |
| StartedAt: 2018-04-11 18:22:01 -0400 (Wed, 11 Apr 2018) |
| EndedAt: 2018-04-11 18:22:46 -0400 (Wed, 11 Apr 2018) |
| EllapsedTime: 44.7 seconds |
| RetCode: 0 |
| Status: OK |
##############################################################################
##############################################################################
###
### Running command:
###
### rm -rf tspair.buildbin-libdir && mkdir tspair.buildbin-libdir && C:\cygwin\bin\curl.exe -O https://malbec1.bioconductor.org/BBS/3.6/bioc/src/contrib/tspair_1.36.0.tar.gz && C:\Users\biocbuild\bbs-3.6-bioc\R\bin\R.exe CMD INSTALL --build --library=tspair.buildbin-libdir --merge-multiarch tspair_1.36.0.tar.gz && C:\Users\biocbuild\bbs-3.6-bioc\R\bin\R.exe CMD INSTALL tspair_1.36.0.zip && rm tspair_1.36.0.tar.gz tspair_1.36.0.zip
###
##############################################################################
##############################################################################
% Total % Received % Xferd Average Speed Time Time Time Current
Dload Upload Total Spent Left Speed
0 0 0 0 0 0 0 0 --:--:-- --:--:-- --:--:-- 0
100 468k 100 468k 0 0 17.3M 0 --:--:-- --:--:-- --:--:-- 19.9M
install for i386
* installing *source* package 'tspair' ...
** libs
C:/Rtools/mingw_32/bin/gcc -I"C:/Users/BIOCBU˜1/BBS-3˜1.6-B/R/include" -DNDEBUG -I"C:/local323/include" -O3 -Wall -std=gnu99 -mtune=generic -c tsp.c -o tsp.o
C:/Rtools/mingw_32/bin/g++ -shared -s -static-libgcc -o tspair.dll tmp.def tsp.o -LC:/local323/lib/i386 -LC:/local323/lib -LC:/Users/BIOCBU˜1/BBS-3˜1.6-B/R/bin/i386 -lR
installing to C:/Users/biocbuild/bbs-3.6-bioc/meat/tspair.buildbin-libdir/tspair/libs/i386
** R
** data
** preparing package for lazy loading
** help
*** installing help indices
converting help for package 'tspair'
finding HTML links ... done
dat html
dat2 html
eSet1 html
eSet2 html
grp html
plot.tsp html
predict.tsp html
summary.tsp html
ts.pair html
tspcalc html
tspdata html
tspplot html
tspsig html
** building package indices
** installing vignettes
** testing if installed package can be loaded
In R CMD INSTALL
install for x64
* installing *source* package 'tspair' ...
** libs
C:/Rtools/mingw_64/bin/gcc -I"C:/Users/BIOCBU˜1/BBS-3˜1.6-B/R/include" -DNDEBUG -I"C:/local323/include" -O2 -Wall -std=gnu99 -mtune=generic -c tsp.c -o tsp.o
C:/Rtools/mingw_64/bin/g++ -shared -s -static-libgcc -o tspair.dll tmp.def tsp.o -LC:/local323/lib/x64 -LC:/local323/lib -LC:/Users/BIOCBU˜1/BBS-3˜1.6-B/R/bin/x64 -lR
installing to C:/Users/biocbuild/bbs-3.6-bioc/meat/tspair.buildbin-libdir/tspair/libs/x64
** testing if installed package can be loaded
* MD5 sums
packaged installation of 'tspair' as tspair_1.36.0.zip
* DONE (tspair)
In R CMD INSTALL
In R CMD INSTALL
* installing to library 'C:/Users/biocbuild/bbs-3.6-bioc/R/library'
package 'tspair' successfully unpacked and MD5 sums checked
In R CMD INSTALL