| Back to Multiple platform build/check report for BioC 3.6 |
|
This page was generated on 2018-04-12 13:18:35 -0400 (Thu, 12 Apr 2018).
| Package 1409/1472 | Hostname | OS / Arch | INSTALL | BUILD | CHECK | BUILD BIN | ||||||
| topGO 2.30.1 Adrian Alexa
| malbec1 | Linux (Ubuntu 16.04.1 LTS) / x86_64 | OK | OK | OK | |||||||
| tokay1 | Windows Server 2012 R2 Standard / x64 | OK | OK | [ OK ] | OK | |||||||
| veracruz1 | OS X 10.11.6 El Capitan / x86_64 | OK | OK | OK | OK |
| Package: topGO |
| Version: 2.30.1 |
| Command: rm -rf topGO.buildbin-libdir topGO.Rcheck && mkdir topGO.buildbin-libdir topGO.Rcheck && C:\Users\biocbuild\bbs-3.6-bioc\R\bin\R.exe CMD INSTALL --build --merge-multiarch --library=topGO.buildbin-libdir topGO_2.30.1.tar.gz >topGO.Rcheck\00install.out 2>&1 && cp topGO.Rcheck\00install.out topGO-install.out && C:\Users\biocbuild\bbs-3.6-bioc\R\bin\R.exe CMD check --library=topGO.buildbin-libdir --install="check:topGO-install.out" --force-multiarch --no-vignettes --timings topGO_2.30.1.tar.gz |
| StartedAt: 2018-04-12 03:37:19 -0400 (Thu, 12 Apr 2018) |
| EndedAt: 2018-04-12 03:40:17 -0400 (Thu, 12 Apr 2018) |
| EllapsedTime: 177.5 seconds |
| RetCode: 0 |
| Status: OK |
| CheckDir: topGO.Rcheck |
| Warnings: 0 |
##############################################################################
##############################################################################
###
### Running command:
###
### rm -rf topGO.buildbin-libdir topGO.Rcheck && mkdir topGO.buildbin-libdir topGO.Rcheck && C:\Users\biocbuild\bbs-3.6-bioc\R\bin\R.exe CMD INSTALL --build --merge-multiarch --library=topGO.buildbin-libdir topGO_2.30.1.tar.gz >topGO.Rcheck\00install.out 2>&1 && cp topGO.Rcheck\00install.out topGO-install.out && C:\Users\biocbuild\bbs-3.6-bioc\R\bin\R.exe CMD check --library=topGO.buildbin-libdir --install="check:topGO-install.out" --force-multiarch --no-vignettes --timings topGO_2.30.1.tar.gz
###
##############################################################################
##############################################################################
* using log directory 'C:/Users/biocbuild/bbs-3.6-bioc/meat/topGO.Rcheck'
* using R version 3.4.4 (2018-03-15)
* using platform: x86_64-w64-mingw32 (64-bit)
* using session charset: ISO8859-1
* using option '--no-vignettes'
* checking for file 'topGO/DESCRIPTION' ... OK
* checking extension type ... Package
* this is package 'topGO' version '2.30.1'
* checking package namespace information ... OK
* checking package dependencies ... NOTE
Depends: includes the non-default packages:
'BiocGenerics' 'graph' 'Biobase' 'GO.db' 'AnnotationDbi' 'SparseM'
Adding so many packages to the search path is excessive and importing
selectively is preferable.
* checking if this is a source package ... OK
* checking if there is a namespace ... OK
* checking for hidden files and directories ... OK
* checking for portable file names ... OK
* checking whether package 'topGO' can be installed ... OK
* checking installed package size ... OK
* checking package directory ... OK
* checking 'build' directory ... OK
* checking DESCRIPTION meta-information ... OK
* checking top-level files ... OK
* checking for left-over files ... OK
* checking index information ... OK
* checking package subdirectories ... OK
* checking R files for non-ASCII characters ... OK
* checking R files for syntax errors ... OK
* loading checks for arch 'i386'
** checking whether the package can be loaded ... OK
** checking whether the package can be loaded with stated dependencies ... OK
** checking whether the package can be unloaded cleanly ... OK
** checking whether the namespace can be loaded with stated dependencies ... OK
** checking whether the namespace can be unloaded cleanly ... OK
* loading checks for arch 'x64'
** checking whether the package can be loaded ... OK
** checking whether the package can be loaded with stated dependencies ... OK
** checking whether the package can be unloaded cleanly ... OK
** checking whether the namespace can be loaded with stated dependencies ... OK
** checking whether the namespace can be unloaded cleanly ... OK
* checking dependencies in R code ... NOTE
'library' or 'require' calls in package code:
'Rgraphviz' 'multtest'
Please use :: or requireNamespace() instead.
See section 'Suggested packages' in the 'Writing R Extensions' manual.
Missing object imported by a ':::' call: 'globaltest:::globaltest'
* checking S3 generic/method consistency ... OK
* checking replacement functions ... OK
* checking foreign function calls ... OK
* checking R code for possible problems ... NOTE
GOplot: no visible global function definition for 'getDefaultAttrs'
GOplot: no visible global function definition for 'agopen'
GOplot.counts : plotSigChart : buildDrawing : <anonymous>: no visible
global function definition for 'getNodeCenter'
GOplot.counts : plotSigChart : buildDrawing : <anonymous>: no visible
global function definition for 'pieGlyph'
GOplot.counts : plotSigChart : buildDrawing : <anonymous>: no visible
global function definition for 'getX'
GOplot.counts : plotSigChart : buildDrawing : <anonymous>: no visible
global function definition for 'getY'
GOplot.counts : plotSigChart : buildDrawing : <anonymous>: no visible
global function definition for 'getNodeLW'
GOplot.counts : plotSigChart : buildDrawing : <anonymous>: no visible
global function definition for 'drawTxtLabel'
GOplot.counts : plotSigChart : buildDrawing : <anonymous>: no visible
global function definition for 'txtLabel'
GOplot.counts : plotSigChart: no visible global function definition for
'AgNode'
GOplot.counts : plotSigChart : <anonymous>: no visible global function
definition for 'name'
GOplot.counts : plotSigChart : <anonymous>: no visible global function
definition for 'getNodeCenter'
GOplot.counts : plotSigChart: no visible global function definition for
'getNodeXY'
GOplot.counts : plotSigChart: no visible global function definition for
'getY'
GOplot.counts: no visible global function definition for
'getDefaultAttrs'
GOplot.counts: no visible global function definition for 'agopen'
getPvalues: no visible global function definition for 'mt.teststat'
getPvalues: no visible global function definition for 'mt.rawp2adjp'
printDOT: no visible global function definition for 'getDefaultAttrs'
printDOT: no visible global function definition for 'toDot'
GOSumTest,classicScore: no visible binding for global variable
'.PERMSUM.MAT'
GOSumTest,classicScore: no visible binding for global variable
'.PERMSUM.LOOKUP'
initialize,classicExpr: no visible global function definition for
'error'
scoresInTerm,topGOdata-missing: no visible global function definition
for 'scoreInNode'
Undefined global functions or variables:
.PERMSUM.LOOKUP .PERMSUM.MAT AgNode agopen drawTxtLabel error
getDefaultAttrs getNodeCenter getNodeLW getNodeXY getX getY
mt.rawp2adjp mt.teststat name pieGlyph scoreInNode toDot txtLabel
* checking Rd files ... OK
* checking Rd metadata ... OK
* checking Rd cross-references ... OK
* checking for missing documentation entries ... OK
* checking for code/documentation mismatches ... OK
* checking Rd \usage sections ... OK
* checking Rd contents ... OK
* checking for unstated dependencies in examples ... OK
* checking contents of 'data' directory ... OK
* checking data for non-ASCII characters ... OK
* checking data for ASCII and uncompressed saves ... OK
* checking installed files from 'inst/doc' ... OK
* checking files in 'vignettes' ... OK
* checking examples ...
** running examples for arch 'i386' ... OK
** running examples for arch 'x64' ... OK
Examples with CPU or elapsed time > 5s
user system elapsed
topGOdata-class 5.28 0.1 5.37
* checking for unstated dependencies in vignettes ... OK
* checking package vignettes in 'inst/doc' ... OK
* checking running R code from vignettes ... SKIPPED
* checking re-building of vignette outputs ... SKIPPED
* checking PDF version of manual ... OK
* DONE
Status: 3 NOTEs
See
'C:/Users/biocbuild/bbs-3.6-bioc/meat/topGO.Rcheck/00check.log'
for details.
topGO.Rcheck/00install.out
install for i386
* installing *source* package 'topGO' ...
** R
** data
** inst
** preparing package for lazy loading
** help
*** installing help indices
converting help for package 'topGO'
finding HTML links ... done
GOTests html
GOdata html
annFUN html
classicCount-class html
classicExpr-class html
classicScore-class html
dagFunctions html
diagnosticMethods html
elimCount-class html
elimExpr-class html
elimScore-class html
geneList html
getPvalues html
getSigGroups html
groupGOTerms html
groupStats-class html
inducedGraph html
parentChild-class html
printGraph-methods html
topGO-package html
topGOdata-class html
topGOresult-class html
weightCount-class html
** building package indices
** installing vignettes
** testing if installed package can be loaded
groupGOTerms: GOBPTerm, GOMFTerm, GOCCTerm environments built.
In R CMD INSTALL
install for x64
* installing *source* package 'topGO' ...
** testing if installed package can be loaded
groupGOTerms: GOBPTerm, GOMFTerm, GOCCTerm environments built.
* MD5 sums
packaged installation of 'topGO' as topGO_2.30.1.zip
* DONE (topGO)
In R CMD INSTALL
In R CMD INSTALL
|
topGO.Rcheck/examples_i386/topGO-Ex.timings
|
topGO.Rcheck/examples_x64/topGO-Ex.timings
|