| Back to Multiple platform build/check report for BioC 3.6 |
|
This page was generated on 2018-04-12 13:09:58 -0400 (Thu, 12 Apr 2018).
| Package 1370/1472 | Hostname | OS / Arch | INSTALL | BUILD | CHECK | BUILD BIN | ||||||
| sva 3.26.0 Jeffrey T. Leek
| malbec1 | Linux (Ubuntu 16.04.1 LTS) / x86_64 | [ OK ] | OK | OK | |||||||
| tokay1 | Windows Server 2012 R2 Standard / x64 | OK | OK | OK | OK | |||||||
| veracruz1 | OS X 10.11.6 El Capitan / x86_64 | OK | OK | OK | OK |
| Package: sva |
| Version: 3.26.0 |
| Command: /home/biocbuild/bbs-3.6-bioc/R/bin/R CMD INSTALL sva |
| StartedAt: 2018-04-11 18:00:14 -0400 (Wed, 11 Apr 2018) |
| EndedAt: 2018-04-11 18:00:24 -0400 (Wed, 11 Apr 2018) |
| EllapsedTime: 9.4 seconds |
| RetCode: 0 |
| Status: OK |
##############################################################################
##############################################################################
###
### Running command:
###
### /home/biocbuild/bbs-3.6-bioc/R/bin/R CMD INSTALL sva
###
##############################################################################
##############################################################################
* installing to library ‘/home/biocbuild/bbs-3.6-bioc/R/library’
* installing *source* package ‘sva’ ...
** libs
gcc -I/home/biocbuild/bbs-3.6-bioc/R/include -DNDEBUG -I/usr/local/include -fpic -g -O2 -Wall -c sva.c -o sva.o
sva.c:27:34: warning: missing braces around initializer [-Wmissing-braces]
R_CallMethodDef callMethods[] = {
^
sva.c:27:34: note: (near initialization for ‘callMethods’)
g++ -shared -L/home/biocbuild/bbs-3.6-bioc/R/lib -L/usr/local/lib -o sva.so sva.o -L/home/biocbuild/bbs-3.6-bioc/R/lib -lR
installing to /home/biocbuild/bbs-3.6-bioc/R/library/sva/libs
** R
** inst
** preparing package for lazy loading
** help
*** installing help indices
** building package indices
** installing vignettes
** testing if installed package can be loaded
* DONE (sva)