| Back to Multiple platform build/check report for BioC 3.6 |
|
This page was generated on 2018-04-12 13:34:14 -0400 (Thu, 12 Apr 2018).
| Package 1368/1472 | Hostname | OS / Arch | INSTALL | BUILD | CHECK | BUILD BIN | ||||||
| survcomp 1.28.5 Benjamin Haibe-Kains
| malbec1 | Linux (Ubuntu 16.04.1 LTS) / x86_64 | OK | OK | OK | |||||||
| tokay1 | Windows Server 2012 R2 Standard / x64 | OK | OK | WARNINGS | OK | |||||||
| veracruz1 | OS X 10.11.6 El Capitan / x86_64 | OK | OK | [ OK ] | OK |
| Package: survcomp |
| Version: 1.28.5 |
| Command: /Library/Frameworks/R.framework/Versions/Current/Resources/bin/R CMD check --no-vignettes --timings survcomp_1.28.5.tar.gz |
| StartedAt: 2018-04-12 10:06:37 -0400 (Thu, 12 Apr 2018) |
| EndedAt: 2018-04-12 10:07:48 -0400 (Thu, 12 Apr 2018) |
| EllapsedTime: 71.1 seconds |
| RetCode: 0 |
| Status: OK |
| CheckDir: survcomp.Rcheck |
| Warnings: 0 |
############################################################################## ############################################################################## ### ### Running command: ### ### /Library/Frameworks/R.framework/Versions/Current/Resources/bin/R CMD check --no-vignettes --timings survcomp_1.28.5.tar.gz ### ############################################################################## ############################################################################## * using log directory ‘/Users/biocbuild/bbs-3.6-bioc/meat/survcomp.Rcheck’ * using R version 3.4.4 (2018-03-15) * using platform: x86_64-apple-darwin15.6.0 (64-bit) * using session charset: UTF-8 * using option ‘--no-vignettes’ * checking for file ‘survcomp/DESCRIPTION’ ... OK * checking extension type ... Package * this is package ‘survcomp’ version ‘1.28.5’ * checking package namespace information ... OK * checking package dependencies ... OK * checking if this is a source package ... OK * checking if there is a namespace ... OK * checking for hidden files and directories ... OK * checking for portable file names ... OK * checking for sufficient/correct file permissions ... OK * checking whether package ‘survcomp’ can be installed ... OK * checking installed package size ... OK * checking package directory ... OK * checking ‘build’ directory ... OK * checking DESCRIPTION meta-information ... OK * checking top-level files ... OK * checking for left-over files ... OK * checking index information ... OK * checking package subdirectories ... OK * checking R files for non-ASCII characters ... OK * checking R files for syntax errors ... OK * checking whether the package can be loaded ... OK * checking whether the package can be loaded with stated dependencies ... OK * checking whether the package can be unloaded cleanly ... OK * checking whether the namespace can be loaded with stated dependencies ... OK * checking whether the namespace can be unloaded cleanly ... OK * checking dependencies in R code ... OK * checking S3 generic/method consistency ... OK * checking replacement functions ... OK * checking foreign function calls ... OK * checking R code for possible problems ... OK * checking Rd files ... OK * checking Rd metadata ... OK * checking Rd cross-references ... OK * checking for missing documentation entries ... OK * checking for code/documentation mismatches ... OK * checking Rd \usage sections ... OK * checking Rd contents ... OK * checking for unstated dependencies in examples ... OK * checking contents of ‘data’ directory ... OK * checking data for non-ASCII characters ... OK * checking data for ASCII and uncompressed saves ... OK * checking line endings in C/C++/Fortran sources/headers ... OK * checking compiled code ... OK * checking sizes of PDF files under ‘inst/doc’ ... OK * checking installed files from ‘inst/doc’ ... OK * checking files in ‘vignettes’ ... OK * checking examples ... OK * checking for unstated dependencies in vignettes ... OK * checking package vignettes in ‘inst/doc’ ... OK * checking running R code from vignettes ... SKIPPED * checking re-building of vignette outputs ... SKIPPED * checking PDF version of manual ... OK * DONE Status: OK
survcomp.Rcheck/00install.out
* installing *source* package ‘survcomp’ ...
** libs
clang -I/Library/Frameworks/R.framework/Resources/include -DNDEBUG -I/usr/local/include -fPIC -Wall -g -O2 -c concordance.index.c -o concordance.index.o
clang++ -I/Library/Frameworks/R.framework/Resources/include -DNDEBUG -I/usr/local/include -fPIC -Wall -g -O2 -c foo_mrmr_ensemble_surv.cpp -o foo_mrmr_ensemble_surv.o
foo_mrmr_ensemble_surv.cpp:191:27: warning: unused variable 'ustrat_x' [-Wunused-variable]
int *namat_x, *msurv_x, *ustrat_x, *cl2_x, *se_x, *strat_x;
^
foo_mrmr_ensemble_surv.cpp:191:17: warning: unused variable 'msurv_x' [-Wunused-variable]
int *namat_x, *msurv_x, *ustrat_x, *cl2_x, *se_x, *strat_x;
^
foo_mrmr_ensemble_surv.cpp:351:7: warning: unused variable 'cnt_back' [-Wunused-variable]
int cnt_back=cnt2;
^
foo_mrmr_ensemble_surv.cpp:286:7: warning: unused variable 'nsub' [-Wunused-variable]
int nsub, *prev_sel,nsamples_boot=nsamples,*to_remove;
^
foo_mrmr_ensemble_surv.cpp:387:10: warning: unused variable 'mim' [-Wunused-variable]
double *mim, *boot_val, *mat_info;
^
foo_mrmr_ensemble_surv.cpp:439:9: warning: unused variable 'max_val' [-Wunused-variable]
double max_val=-1000;
^
foo_mrmr_ensemble_surv.cpp:467:7: warning: unused variable 'found' [-Wunused-variable]
bool found=false;
^
foo_mrmr_ensemble_surv.cpp:579:21: warning: unused variable 'vec_sort' [-Wunused-variable]
double *vec_mean, *vec_sort, *vec_sd, *vec_local_max_mean, *vec_local_max_sd,tmp_val_max, *mrmr_vec_sort,*vec_sol_local_mrmr;
^
foo_mrmr_ensemble_surv.cpp:578:66: warning: unused variable 'prev_sel_tmp' [-Wunused-variable]
int *nsub, *prev_sel,nsamples_boot=nsamples, tmp_val_max_ind, *prev_sel_tmp,*vec_sol_local,ndelete;
^
foo_mrmr_ensemble_surv.cpp:578:48: warning: unused variable 'tmp_val_max_ind' [-Wunused-variable]
int *nsub, *prev_sel,nsamples_boot=nsamples, tmp_val_max_ind, *prev_sel_tmp,*vec_sol_local,ndelete;
^
foo_mrmr_ensemble_surv.cpp:578:24: warning: unused variable 'nsamples_boot' [-Wunused-variable]
int *nsub, *prev_sel,nsamples_boot=nsamples, tmp_val_max_ind, *prev_sel_tmp,*vec_sol_local,ndelete;
^
foo_mrmr_ensemble_surv.cpp:804:7: warning: unused variable 'rootdepth' [-Wunused-variable]
int rootdepth=res_tree.depth(it_final);
^
foo_mrmr_ensemble_surv.cpp:801:13: warning: unused variable 'cnt2' [-Wunused-variable]
int cnt=1,cnt2=0;
^
foo_mrmr_ensemble_surv.cpp:817:7: warning: unused variable 'ind' [-Wunused-variable]
int ind=0;
^
foo_mrmr_ensemble_surv.cpp:733:30: warning: unused variable 'res_all' [-Wunused-variable]
int *predn, *rep_boot,*res,*res_all,*res_all2, *namat;
^
foo_mrmr_ensemble_surv.cpp:733:39: warning: unused variable 'res_all2' [-Wunused-variable]
int *predn, *rep_boot,*res,*res_all,*res_all2, *namat;
^
foo_mrmr_ensemble_surv.cpp:734:6: warning: unused variable 'vec_tmp' [-Wunused-variable]
int vec_tmp;
^
foo_mrmr_ensemble_surv.cpp:821:16: warning: variable 'res_old' is uninitialized when used here [-Wuninitialized]
res_all[k]=res_old[k];
^˜˜˜˜˜˜
foo_mrmr_ensemble_surv.cpp:816:25: note: initialize the variable 'res_old' to silence this warning
int *res_all, *res_old;
^
= NULL
18 warnings generated.
clang++ -I/Library/Frameworks/R.framework/Resources/include -DNDEBUG -I/usr/local/include -fPIC -Wall -g -O2 -c foo_mrmr_surv.cpp -o foo_mrmr_surv.o
clang++ -I/Library/Frameworks/R.framework/Resources/include -DNDEBUG -I/usr/local/include -fPIC -Wall -g -O2 -c survcomp_init.cpp -o survcomp_init.o
clang++ -dynamiclib -Wl,-headerpad_max_install_names -undefined dynamic_lookup -single_module -multiply_defined suppress -L/Library/Frameworks/R.framework/Resources/lib -L/usr/local/lib -o survcomp.so concordance.index.o foo_mrmr_ensemble_surv.o foo_mrmr_surv.o survcomp_init.o -F/Library/Frameworks/R.framework/.. -framework R -Wl,-framework -Wl,CoreFoundation
installing to /Users/biocbuild/bbs-3.6-bioc/meat/survcomp.Rcheck/survcomp/libs
** R
** data
** inst
** preparing package for lazy loading
** help
*** installing help indices
** building package indices
** installing vignettes
** testing if installed package can be loaded
* DONE (survcomp)
survcomp.Rcheck/survcomp-Ex.timings
| name | user | system | elapsed | |
| D.index | 0.026 | 0.003 | 0.032 | |
| balanced.hazard.ratio | 0.011 | 0.003 | 0.014 | |
| bhr.comp | 0.129 | 0.001 | 0.133 | |
| breastCancerData | 0.682 | 0.028 | 0.730 | |
| censor.time | 0.001 | 0.000 | 0.002 | |
| cindex.comp | 0.220 | 0.002 | 0.226 | |
| cindex.comp.meta | 0.051 | 0.001 | 0.052 | |
| combine.est | 0.002 | 0.000 | 0.002 | |
| combine.test | 0.035 | 0.001 | 0.036 | |
| concordance.index | 0.005 | 0.002 | 0.008 | |
| cvpl | 0.244 | 0.003 | 0.246 | |
| dindex.comp | 0.095 | 0.000 | 0.097 | |
| dindex.comp.meta | 0.022 | 0.001 | 0.023 | |
| fisherz | 0.001 | 0.000 | 0.001 | |
| forestplot.surv | 0.089 | 0.002 | 0.094 | |
| getsurv2 | 0.006 | 0.000 | 0.006 | |
| hazard.ratio | 0.009 | 0.001 | 0.010 | |
| hr.comp | 0.014 | 0.000 | 0.015 | |
| hr.comp.meta | 0.024 | 0.000 | 0.026 | |
| hr.comp2 | 0.130 | 0.000 | 0.135 | |
| iauc.comp | 0.507 | 0.019 | 0.540 | |
| ibsc.comp | 1.212 | 0.007 | 1.236 | |
| km.coxph.plot | 0.049 | 0.002 | 0.050 | |
| logpl | 0.014 | 0.001 | 0.015 | |
| mainz7g | 0.259 | 0.008 | 0.275 | |
| metaplot.surv | 0.003 | 0.001 | 0.005 | |
| mrmr.cindex | 0.003 | 0.000 | 0.004 | |
| nki7g | 0.222 | 0.008 | 0.236 | |
| no.at.risk | 0.038 | 0.001 | 0.039 | |
| sbrier.score2proba | 0.246 | 0.002 | 0.263 | |
| score2proba | 0.126 | 0.001 | 0.128 | |
| td.sens.spec | 0.003 | 0.001 | 0.003 | |
| tdrocc | 0.129 | 0.015 | 0.145 | |
| test.hetero.est | 0.001 | 0.000 | 0.002 | |
| test.hetero.test | 0.015 | 0.001 | 0.015 | |
| transbig7g | 0.234 | 0.006 | 0.244 | |
| unt7g | 0.208 | 0.006 | 0.219 | |
| upp7g | 0.231 | 0.006 | 0.240 | |
| vdx7g | 0.207 | 0.007 | 0.219 | |