| Back to Multiple platform build/check report for BioC 3.6 |
|
This page was generated on 2018-04-12 13:23:12 -0400 (Thu, 12 Apr 2018).
| Package 1367/1472 | Hostname | OS / Arch | INSTALL | BUILD | CHECK | BUILD BIN | ||||||
| supraHex 1.16.0 Hai Fang
| malbec1 | Linux (Ubuntu 16.04.1 LTS) / x86_64 | OK | OK | OK | |||||||
| tokay1 | Windows Server 2012 R2 Standard / x64 | OK | OK | [ OK ] | OK | |||||||
| veracruz1 | OS X 10.11.6 El Capitan / x86_64 | OK | OK | OK | OK |
| Package: supraHex |
| Version: 1.16.0 |
| Command: rm -rf supraHex.buildbin-libdir supraHex.Rcheck && mkdir supraHex.buildbin-libdir supraHex.Rcheck && C:\Users\biocbuild\bbs-3.6-bioc\R\bin\R.exe CMD INSTALL --build --merge-multiarch --library=supraHex.buildbin-libdir supraHex_1.16.0.tar.gz >supraHex.Rcheck\00install.out 2>&1 && cp supraHex.Rcheck\00install.out supraHex-install.out && C:\Users\biocbuild\bbs-3.6-bioc\R\bin\R.exe CMD check --library=supraHex.buildbin-libdir --install="check:supraHex-install.out" --force-multiarch --no-vignettes --timings supraHex_1.16.0.tar.gz |
| StartedAt: 2018-04-12 03:29:38 -0400 (Thu, 12 Apr 2018) |
| EndedAt: 2018-04-12 03:31:27 -0400 (Thu, 12 Apr 2018) |
| EllapsedTime: 108.9 seconds |
| RetCode: 0 |
| Status: OK |
| CheckDir: supraHex.Rcheck |
| Warnings: 0 |
##############################################################################
##############################################################################
###
### Running command:
###
### rm -rf supraHex.buildbin-libdir supraHex.Rcheck && mkdir supraHex.buildbin-libdir supraHex.Rcheck && C:\Users\biocbuild\bbs-3.6-bioc\R\bin\R.exe CMD INSTALL --build --merge-multiarch --library=supraHex.buildbin-libdir supraHex_1.16.0.tar.gz >supraHex.Rcheck\00install.out 2>&1 && cp supraHex.Rcheck\00install.out supraHex-install.out && C:\Users\biocbuild\bbs-3.6-bioc\R\bin\R.exe CMD check --library=supraHex.buildbin-libdir --install="check:supraHex-install.out" --force-multiarch --no-vignettes --timings supraHex_1.16.0.tar.gz
###
##############################################################################
##############################################################################
* using log directory 'C:/Users/biocbuild/bbs-3.6-bioc/meat/supraHex.Rcheck'
* using R version 3.4.4 (2018-03-15)
* using platform: x86_64-w64-mingw32 (64-bit)
* using session charset: ISO8859-1
* using option '--no-vignettes'
* checking for file 'supraHex/DESCRIPTION' ... OK
* checking extension type ... Package
* this is package 'supraHex' version '1.16.0'
* checking package namespace information ... OK
* checking package dependencies ... OK
* checking if this is a source package ... OK
* checking if there is a namespace ... OK
* checking for hidden files and directories ... OK
* checking for portable file names ... OK
* checking whether package 'supraHex' can be installed ... OK
* checking installed package size ... NOTE
installed size is 5.0Mb
sub-directories of 1Mb or more:
data 1.1Mb
doc 2.3Mb
staticdocs 1.1Mb
* checking package directory ... OK
* checking 'build' directory ... OK
* checking DESCRIPTION meta-information ... OK
* checking top-level files ... OK
* checking for left-over files ... OK
* checking index information ... OK
* checking package subdirectories ... OK
* checking R files for non-ASCII characters ... OK
* checking R files for syntax errors ... OK
* loading checks for arch 'i386'
** checking whether the package can be loaded ... OK
** checking whether the package can be loaded with stated dependencies ... OK
** checking whether the package can be unloaded cleanly ... OK
** checking whether the namespace can be loaded with stated dependencies ... OK
** checking whether the namespace can be unloaded cleanly ... OK
* loading checks for arch 'x64'
** checking whether the package can be loaded ... OK
** checking whether the package can be loaded with stated dependencies ... OK
** checking whether the package can be unloaded cleanly ... OK
** checking whether the namespace can be loaded with stated dependencies ... OK
** checking whether the namespace can be unloaded cleanly ... OK
* checking dependencies in R code ... OK
* checking S3 generic/method consistency ... OK
* checking replacement functions ... OK
* checking foreign function calls ... OK
* checking R code for possible problems ... OK
* checking Rd files ... OK
* checking Rd metadata ... OK
* checking Rd cross-references ... OK
* checking for missing documentation entries ... OK
* checking for code/documentation mismatches ... OK
* checking Rd \usage sections ... OK
* checking Rd contents ... OK
* checking for unstated dependencies in examples ... OK
* checking contents of 'data' directory ... OK
* checking data for non-ASCII characters ... OK
* checking data for ASCII and uncompressed saves ... OK
* checking installed files from 'inst/doc' ... OK
* checking files in 'vignettes' ... OK
* checking examples ...
** running examples for arch 'i386' ... OK
** running examples for arch 'x64' ... OK
* checking for unstated dependencies in vignettes ... OK
* checking package vignettes in 'inst/doc' ... OK
* checking running R code from vignettes ... SKIPPED
* checking re-building of vignette outputs ... SKIPPED
* checking PDF version of manual ... OK
* DONE
Status: 1 NOTE
See
'C:/Users/biocbuild/bbs-3.6-bioc/meat/supraHex.Rcheck/00check.log'
for details.
supraHex.Rcheck/00install.out
install for i386
* installing *source* package 'supraHex' ...
** R
** data
** inst
** preparing package for lazy loading
** help
*** installing help indices
converting help for package 'supraHex'
finding HTML links ... done
Fang html
Golub html
Xiang html
sBMH html
sCompReorder html
sDistance html
sDmat html
sDmatCluster html
sDmatMinima html
sHexDist html
sHexGrid html
sHexGridVariant html
sHexPolygon html
sInitial html
sMapOverlay html
sNeighAny html
sNeighDirect html
sPipeline html
sTopology html
sTrainBatch html
sTrainSeq html
sTrainology html
sWriteData html
visColoralpha html
visColorbar html
visColormap html
visCompReorder html
visDmatCluster html
visDmatHeatmap html
visHeatmap html
visHeatmapAdv html
visHexAnimate html
visHexBarplot html
visHexComp html
visHexGrid html
visHexMapping html
visHexMulComp html
visHexPattern html
visKernels html
visTreeBSclust html
visTreeBootstrap html
visVp html
** building package indices
** installing vignettes
** testing if installed package can be loaded
In R CMD INSTALL
install for x64
* installing *source* package 'supraHex' ...
** testing if installed package can be loaded
* MD5 sums
packaged installation of 'supraHex' as supraHex_1.16.0.zip
* DONE (supraHex)
In R CMD INSTALL
In R CMD INSTALL
|
supraHex.Rcheck/examples_i386/supraHex-Ex.timings
|
supraHex.Rcheck/examples_x64/supraHex-Ex.timings
|