| Back to Multiple platform build/check report for BioC 3.6 |
|
This page was generated on 2018-04-12 13:26:09 -0400 (Thu, 12 Apr 2018).
| Package 1322/1472 | Hostname | OS / Arch | INSTALL | BUILD | CHECK | BUILD BIN | ||||||
| soGGi 1.10.0 Tom Carroll
| malbec1 | Linux (Ubuntu 16.04.1 LTS) / x86_64 | OK | OK | WARNINGS | |||||||
| tokay1 | Windows Server 2012 R2 Standard / x64 | [ OK ] | OK | WARNINGS | OK | |||||||
| veracruz1 | OS X 10.11.6 El Capitan / x86_64 | OK | OK | WARNINGS | OK |
| Package: soGGi |
| Version: 1.10.0 |
| Command: rm -rf soGGi.buildbin-libdir && mkdir soGGi.buildbin-libdir && C:\cygwin\bin\curl.exe -O https://malbec1.bioconductor.org/BBS/3.6/bioc/src/contrib/soGGi_1.10.0.tar.gz && C:\Users\biocbuild\bbs-3.6-bioc\R\bin\R.exe CMD INSTALL --build --library=soGGi.buildbin-libdir --merge-multiarch soGGi_1.10.0.tar.gz && C:\Users\biocbuild\bbs-3.6-bioc\R\bin\R.exe CMD INSTALL soGGi_1.10.0.zip && rm soGGi_1.10.0.tar.gz soGGi_1.10.0.zip |
| StartedAt: 2018-04-11 18:48:58 -0400 (Wed, 11 Apr 2018) |
| EndedAt: 2018-04-11 18:49:41 -0400 (Wed, 11 Apr 2018) |
| EllapsedTime: 43.3 seconds |
| RetCode: 0 |
| Status: OK |
##############################################################################
##############################################################################
###
### Running command:
###
### rm -rf soGGi.buildbin-libdir && mkdir soGGi.buildbin-libdir && C:\cygwin\bin\curl.exe -O https://malbec1.bioconductor.org/BBS/3.6/bioc/src/contrib/soGGi_1.10.0.tar.gz && C:\Users\biocbuild\bbs-3.6-bioc\R\bin\R.exe CMD INSTALL --build --library=soGGi.buildbin-libdir --merge-multiarch soGGi_1.10.0.tar.gz && C:\Users\biocbuild\bbs-3.6-bioc\R\bin\R.exe CMD INSTALL soGGi_1.10.0.zip && rm soGGi_1.10.0.tar.gz soGGi_1.10.0.zip
###
##############################################################################
##############################################################################
% Total % Received % Xferd Average Speed Time Time Time Current
Dload Upload Total Spent Left Speed
0 0 0 0 0 0 0 0 --:--:-- --:--:-- --:--:-- 0
100 3358k 100 3358k 0 0 29.7M 0 --:--:-- --:--:-- --:--:-- 30.6M
install for i386
* installing *source* package 'soGGi' ...
** R
** data
** inst
** preparing package for lazy loading
Warning: replacing previous import 'ggplot2::Position' by 'BiocGenerics::Position' when loading 'soGGi'
** help
*** installing help indices
converting help for package 'soGGi'
finding HTML links ... done
ChIPprofile html
Ops html
chipExampleBig html
findconsensusRegions html
groupByOverlaps html
ik_Example html
ik_Profiles html
manipulateObjects html
normalise html
normaliseQuantiles html
orientBy html
plotRegion html
pwmCov html
pwmToCoverage html
singleGRange html
** building package indices
** installing vignettes
'soggi.Rnw'
** testing if installed package can be loaded
Warning: replacing previous import 'ggplot2::Position' by 'BiocGenerics::Position' when loading 'soGGi'
In R CMD INSTALL
install for x64
* installing *source* package 'soGGi' ...
** testing if installed package can be loaded
Warning: replacing previous import 'ggplot2::Position' by 'BiocGenerics::Position' when loading 'soGGi'
* MD5 sums
packaged installation of 'soGGi' as soGGi_1.10.0.zip
* DONE (soGGi)
In R CMD INSTALL
In R CMD INSTALL
* installing to library 'C:/Users/biocbuild/bbs-3.6-bioc/R/library'
package 'soGGi' successfully unpacked and MD5 sums checked
In R CMD INSTALL