| Back to Multiple platform build/check report for BioC 3.6 |
|
This page was generated on 2018-04-12 13:20:31 -0400 (Thu, 12 Apr 2018).
| Package 1316/1472 | Hostname | OS / Arch | INSTALL | BUILD | CHECK | BUILD BIN | ||||||
| snm 1.26.0 John D. Storey
| malbec1 | Linux (Ubuntu 16.04.1 LTS) / x86_64 | OK | OK | OK | |||||||
| tokay1 | Windows Server 2012 R2 Standard / x64 | [ OK ] | OK | OK | OK | |||||||
| veracruz1 | OS X 10.11.6 El Capitan / x86_64 | OK | OK | OK | OK |
| Package: snm |
| Version: 1.26.0 |
| Command: rm -rf snm.buildbin-libdir && mkdir snm.buildbin-libdir && C:\cygwin\bin\curl.exe -O https://malbec1.bioconductor.org/BBS/3.6/bioc/src/contrib/snm_1.26.0.tar.gz && C:\Users\biocbuild\bbs-3.6-bioc\R\bin\R.exe CMD INSTALL --build --library=snm.buildbin-libdir --merge-multiarch snm_1.26.0.tar.gz && C:\Users\biocbuild\bbs-3.6-bioc\R\bin\R.exe CMD INSTALL snm_1.26.0.zip && rm snm_1.26.0.tar.gz snm_1.26.0.zip |
| StartedAt: 2018-04-11 18:19:37 -0400 (Wed, 11 Apr 2018) |
| EndedAt: 2018-04-11 18:21:40 -0400 (Wed, 11 Apr 2018) |
| EllapsedTime: 122.8 seconds |
| RetCode: 0 |
| Status: OK |
##############################################################################
##############################################################################
###
### Running command:
###
### rm -rf snm.buildbin-libdir && mkdir snm.buildbin-libdir && C:\cygwin\bin\curl.exe -O https://malbec1.bioconductor.org/BBS/3.6/bioc/src/contrib/snm_1.26.0.tar.gz && C:\Users\biocbuild\bbs-3.6-bioc\R\bin\R.exe CMD INSTALL --build --library=snm.buildbin-libdir --merge-multiarch snm_1.26.0.tar.gz && C:\Users\biocbuild\bbs-3.6-bioc\R\bin\R.exe CMD INSTALL snm_1.26.0.zip && rm snm_1.26.0.tar.gz snm_1.26.0.zip
###
##############################################################################
##############################################################################
% Total % Received % Xferd Average Speed Time Time Time Current
Dload Upload Total Spent Left Speed
0 0 0 0 0 0 0 0 --:--:-- --:--:-- --:--:-- 0
100 212k 100 212k 0 0 8704k 0 --:--:-- --:--:-- --:--:-- 9.8M
install for i386
* installing *source* package 'snm' ...
** R
** inst
** preparing package for lazy loading
** help
*** installing help indices
converting help for package 'snm'
finding HTML links ... done
fitted.snm html
plot.snm html
sim.doubleChannel html
sim.preProcessed html
sim.refDesign html
sim.singleChannel html
snm-internal html
snm html
summary.snm html
** building package indices
** installing vignettes
** testing if installed package can be loaded
In R CMD INSTALL
install for x64
* installing *source* package 'snm' ...
** testing if installed package can be loaded
* MD5 sums
packaged installation of 'snm' as snm_1.26.0.zip
* DONE (snm)
In R CMD INSTALL
In R CMD INSTALL
* installing to library 'C:/Users/biocbuild/bbs-3.6-bioc/R/library'
package 'snm' successfully unpacked and MD5 sums checked
In R CMD INSTALL