| Back to Multiple platform build/check report for BioC 3.6 |
|
This page was generated on 2018-04-12 13:18:19 -0400 (Thu, 12 Apr 2018).
| Package 1295/1472 | Hostname | OS / Arch | INSTALL | BUILD | CHECK | BUILD BIN | ||||||
| sigPathway 1.46.0 Weil Lai
| malbec1 | Linux (Ubuntu 16.04.1 LTS) / x86_64 | OK | OK | OK | |||||||
| tokay1 | Windows Server 2012 R2 Standard / x64 | [ OK ] | OK | OK | OK | |||||||
| veracruz1 | OS X 10.11.6 El Capitan / x86_64 | OK | OK | OK | OK |
| Package: sigPathway |
| Version: 1.46.0 |
| Command: rm -rf sigPathway.buildbin-libdir && mkdir sigPathway.buildbin-libdir && C:\cygwin\bin\curl.exe -O https://malbec1.bioconductor.org/BBS/3.6/bioc/src/contrib/sigPathway_1.46.0.tar.gz && C:\Users\biocbuild\bbs-3.6-bioc\R\bin\R.exe CMD INSTALL --build --library=sigPathway.buildbin-libdir --merge-multiarch sigPathway_1.46.0.tar.gz && C:\Users\biocbuild\bbs-3.6-bioc\R\bin\R.exe CMD INSTALL sigPathway_1.46.0.zip && rm sigPathway_1.46.0.tar.gz sigPathway_1.46.0.zip |
| StartedAt: 2018-04-11 18:10:24 -0400 (Wed, 11 Apr 2018) |
| EndedAt: 2018-04-11 18:11:29 -0400 (Wed, 11 Apr 2018) |
| EllapsedTime: 65.2 seconds |
| RetCode: 0 |
| Status: OK |
##############################################################################
##############################################################################
###
### Running command:
###
### rm -rf sigPathway.buildbin-libdir && mkdir sigPathway.buildbin-libdir && C:\cygwin\bin\curl.exe -O https://malbec1.bioconductor.org/BBS/3.6/bioc/src/contrib/sigPathway_1.46.0.tar.gz && C:\Users\biocbuild\bbs-3.6-bioc\R\bin\R.exe CMD INSTALL --build --library=sigPathway.buildbin-libdir --merge-multiarch sigPathway_1.46.0.tar.gz && C:\Users\biocbuild\bbs-3.6-bioc\R\bin\R.exe CMD INSTALL sigPathway_1.46.0.zip && rm sigPathway_1.46.0.tar.gz sigPathway_1.46.0.zip
###
##############################################################################
##############################################################################
% Total % Received % Xferd Average Speed Time Time Time Current
Dload Upload Total Spent Left Speed
0 0 0 0 0 0 0 0 --:--:-- --:--:-- --:--:-- 0
0 0 0 0 0 0 0 0 --:--:-- --:--:-- --:--:-- 0
100 456k 100 456k 0 0 631k 0 --:--:-- --:--:-- --:--:-- 684k
install for i386
* installing *source* package 'sigPathway' ...
** libs
C:/Rtools/mingw_32/bin/gcc -I"C:/Users/BIOCBU˜1/BBS-3˜1.6-B/R/include" -DNDEBUG -I"C:/local323/include" -O3 -Wall -std=gnu99 -mtune=generic -c calc_gene_set_internal.c -o calc_gene_set_internal.o
C:/Rtools/mingw_32/bin/gcc -I"C:/Users/BIOCBU˜1/BBS-3˜1.6-B/R/include" -DNDEBUG -I"C:/local323/include" -O3 -Wall -std=gnu99 -mtune=generic -c calc_gene_set_stat.c -o calc_gene_set_stat.o
C:/Rtools/mingw_32/bin/gcc -I"C:/Users/BIOCBU˜1/BBS-3˜1.6-B/R/include" -DNDEBUG -I"C:/local323/include" -O3 -Wall -std=gnu99 -mtune=generic -c calc_probe_stat.c -o calc_probe_stat.o
C:/Rtools/mingw_32/bin/gcc -I"C:/Users/BIOCBU˜1/BBS-3˜1.6-B/R/include" -DNDEBUG -I"C:/local323/include" -O3 -Wall -std=gnu99 -mtune=generic -c calc_weights.c -o calc_weights.o
C:/Rtools/mingw_32/bin/gcc -I"C:/Users/BIOCBU˜1/BBS-3˜1.6-B/R/include" -DNDEBUG -I"C:/local323/include" -O3 -Wall -std=gnu99 -mtune=generic -c matrix_fn.c -o matrix_fn.o
C:/Rtools/mingw_32/bin/gcc -I"C:/Users/BIOCBU˜1/BBS-3˜1.6-B/R/include" -DNDEBUG -I"C:/local323/include" -O3 -Wall -std=gnu99 -mtune=generic -c permute.c -o permute.o
C:/Rtools/mingw_32/bin/gcc -I"C:/Users/BIOCBU˜1/BBS-3˜1.6-B/R/include" -DNDEBUG -I"C:/local323/include" -O3 -Wall -std=gnu99 -mtune=generic -c shuffle.c -o shuffle.o
C:/Rtools/mingw_32/bin/gcc -I"C:/Users/BIOCBU˜1/BBS-3˜1.6-B/R/include" -DNDEBUG -I"C:/local323/include" -O3 -Wall -std=gnu99 -mtune=generic -c sigPathway.c -o sigPathway.o
C:/Rtools/mingw_32/bin/g++ -shared -s -static-libgcc -o sigPathway.dll tmp.def calc_gene_set_internal.o calc_gene_set_stat.o calc_probe_stat.o calc_weights.o matrix_fn.o permute.o shuffle.o sigPathway.o -LC:/Users/BIOCBU˜1/BBS-3˜1.6-B/R/bin/i386 -lRlapack -LC:/Users/BIOCBU˜1/BBS-3˜1.6-B/R/bin/i386 -lRblas -lgfortran -lm -lquadmath -LC:/local323/lib/i386 -LC:/local323/lib -LC:/Users/BIOCBU˜1/BBS-3˜1.6-B/R/bin/i386 -lR
installing to C:/Users/biocbuild/bbs-3.6-bioc/meat/sigPathway.buildbin-libdir/sigPathway/libs/i386
** R
** data
** preparing package for lazy loading
** help
*** installing help indices
converting help for package 'sigPathway'
finding HTML links ... done
MuscleExample html
calcTNullFast html
calcTStatFast html
calculate.GSEA html
calculate.NGSk html
calculatePathwayStatistics html
estimateNumPerm html
getPathwayStatistics.NGSk html
getPathwayStatistics html
importGeneSets html
rankPathways.NGSk html
rankPathways html
runSigPathway html
selectGeneSets html
writeSigPathway html
** building package indices
** installing vignettes
** testing if installed package can be loaded
In R CMD INSTALL
install for x64
* installing *source* package 'sigPathway' ...
** libs
C:/Rtools/mingw_64/bin/gcc -I"C:/Users/BIOCBU˜1/BBS-3˜1.6-B/R/include" -DNDEBUG -I"C:/local323/include" -O2 -Wall -std=gnu99 -mtune=generic -c calc_gene_set_internal.c -o calc_gene_set_internal.o
C:/Rtools/mingw_64/bin/gcc -I"C:/Users/BIOCBU˜1/BBS-3˜1.6-B/R/include" -DNDEBUG -I"C:/local323/include" -O2 -Wall -std=gnu99 -mtune=generic -c calc_gene_set_stat.c -o calc_gene_set_stat.o
C:/Rtools/mingw_64/bin/gcc -I"C:/Users/BIOCBU˜1/BBS-3˜1.6-B/R/include" -DNDEBUG -I"C:/local323/include" -O2 -Wall -std=gnu99 -mtune=generic -c calc_probe_stat.c -o calc_probe_stat.o
C:/Rtools/mingw_64/bin/gcc -I"C:/Users/BIOCBU˜1/BBS-3˜1.6-B/R/include" -DNDEBUG -I"C:/local323/include" -O2 -Wall -std=gnu99 -mtune=generic -c calc_weights.c -o calc_weights.o
C:/Rtools/mingw_64/bin/gcc -I"C:/Users/BIOCBU˜1/BBS-3˜1.6-B/R/include" -DNDEBUG -I"C:/local323/include" -O2 -Wall -std=gnu99 -mtune=generic -c matrix_fn.c -o matrix_fn.o
C:/Rtools/mingw_64/bin/gcc -I"C:/Users/BIOCBU˜1/BBS-3˜1.6-B/R/include" -DNDEBUG -I"C:/local323/include" -O2 -Wall -std=gnu99 -mtune=generic -c permute.c -o permute.o
C:/Rtools/mingw_64/bin/gcc -I"C:/Users/BIOCBU˜1/BBS-3˜1.6-B/R/include" -DNDEBUG -I"C:/local323/include" -O2 -Wall -std=gnu99 -mtune=generic -c shuffle.c -o shuffle.o
C:/Rtools/mingw_64/bin/gcc -I"C:/Users/BIOCBU˜1/BBS-3˜1.6-B/R/include" -DNDEBUG -I"C:/local323/include" -O2 -Wall -std=gnu99 -mtune=generic -c sigPathway.c -o sigPathway.o
C:/Rtools/mingw_64/bin/g++ -shared -s -static-libgcc -o sigPathway.dll tmp.def calc_gene_set_internal.o calc_gene_set_stat.o calc_probe_stat.o calc_weights.o matrix_fn.o permute.o shuffle.o sigPathway.o -LC:/Users/BIOCBU˜1/BBS-3˜1.6-B/R/bin/x64 -lRlapack -LC:/Users/BIOCBU˜1/BBS-3˜1.6-B/R/bin/x64 -lRblas -lgfortran -lm -lquadmath -LC:/local323/lib/x64 -LC:/local323/lib -LC:/Users/BIOCBU˜1/BBS-3˜1.6-B/R/bin/x64 -lR
installing to C:/Users/biocbuild/bbs-3.6-bioc/meat/sigPathway.buildbin-libdir/sigPathway/libs/x64
** testing if installed package can be loaded
* MD5 sums
packaged installation of 'sigPathway' as sigPathway_1.46.0.zip
* DONE (sigPathway)
In R CMD INSTALL
In R CMD INSTALL
* installing to library 'C:/Users/biocbuild/bbs-3.6-bioc/R/library'
package 'sigPathway' successfully unpacked and MD5 sums checked
In R CMD INSTALL