| Back to Multiple platform build/check report for BioC 3.6 | 
 | 
This page was generated on 2018-04-12 13:18:34 -0400 (Thu, 12 Apr 2018).
| Package 1277/1472 | Hostname | OS / Arch | INSTALL | BUILD | CHECK | BUILD BIN | ||||||
| seqLogo 1.44.0 Oliver Bembom 
 | malbec1 | Linux (Ubuntu 16.04.1 LTS) / x86_64 | OK | OK | OK |  | ||||||
| tokay1 | Windows Server 2012 R2 Standard / x64 | [ OK ] | OK | OK | OK |  | ||||||
| veracruz1 | OS X 10.11.6 El Capitan / x86_64 | OK | OK | OK | OK |  | 
| Package: seqLogo | 
| Version: 1.44.0 | 
| Command: rm -rf seqLogo.buildbin-libdir && mkdir seqLogo.buildbin-libdir && C:\cygwin\bin\curl.exe -O https://malbec1.bioconductor.org/BBS/3.6/bioc/src/contrib/seqLogo_1.44.0.tar.gz && C:\Users\biocbuild\bbs-3.6-bioc\R\bin\R.exe CMD INSTALL --build --library=seqLogo.buildbin-libdir --merge-multiarch seqLogo_1.44.0.tar.gz && C:\Users\biocbuild\bbs-3.6-bioc\R\bin\R.exe CMD INSTALL seqLogo_1.44.0.zip && rm seqLogo_1.44.0.tar.gz seqLogo_1.44.0.zip | 
| StartedAt: 2018-04-11 18:11:55 -0400 (Wed, 11 Apr 2018) | 
| EndedAt: 2018-04-11 18:12:26 -0400 (Wed, 11 Apr 2018) | 
| EllapsedTime: 30.3 seconds | 
| RetCode: 0 | 
| Status: OK | 
##############################################################################
##############################################################################
###
### Running command:
###
###   rm -rf seqLogo.buildbin-libdir && mkdir seqLogo.buildbin-libdir  && C:\cygwin\bin\curl.exe -O https://malbec1.bioconductor.org/BBS/3.6/bioc/src/contrib/seqLogo_1.44.0.tar.gz && C:\Users\biocbuild\bbs-3.6-bioc\R\bin\R.exe CMD INSTALL --build --library=seqLogo.buildbin-libdir --merge-multiarch seqLogo_1.44.0.tar.gz && C:\Users\biocbuild\bbs-3.6-bioc\R\bin\R.exe CMD INSTALL seqLogo_1.44.0.zip  && rm seqLogo_1.44.0.tar.gz seqLogo_1.44.0.zip
###
##############################################################################
##############################################################################
  % Total    % Received % Xferd  Average Speed   Time    Time     Time  Current
                                 Dload  Upload   Total   Spent    Left  Speed
  0     0    0     0    0     0      0      0 --:--:-- --:--:-- --:--:--     0
100  6884  100  6884    0     0   291k      0 --:--:-- --:--:-- --:--:--  336k
install for i386
* installing *source* package 'seqLogo' ...
** R
** inst
** preparing package for lazy loading
** help
*** installing help indices
  converting help for package 'seqLogo'
    finding HTML links ... done
    makePWM                                 html  
    pwm-class                               html  
    seqLogo                                 html  
** building package indices
** installing vignettes
** testing if installed package can be loaded
In R CMD INSTALL
install for x64
* installing *source* package 'seqLogo' ...
** testing if installed package can be loaded
* MD5 sums
packaged installation of 'seqLogo' as seqLogo_1.44.0.zip
* DONE (seqLogo)
In R CMD INSTALL
In R CMD INSTALL
* installing to library 'C:/Users/biocbuild/bbs-3.6-bioc/R/library'
package 'seqLogo' successfully unpacked and MD5 sums checked
In R CMD INSTALL