| Back to Multiple platform build/check report for BioC 3.6 |
|
This page was generated on 2018-04-12 13:30:33 -0400 (Thu, 12 Apr 2018).
| Package 1162/1472 | Hostname | OS / Arch | INSTALL | BUILD | CHECK | BUILD BIN | ||||||
| restfulSE 1.0.2 Shweta Gopaulakrishnan
| malbec1 | Linux (Ubuntu 16.04.1 LTS) / x86_64 | OK | OK | OK | |||||||
| tokay1 | Windows Server 2012 R2 Standard / x64 | [ OK ] | OK | WARNINGS | OK | |||||||
| veracruz1 | OS X 10.11.6 El Capitan / x86_64 | OK | OK | OK | OK |
| Package: restfulSE |
| Version: 1.0.2 |
| Command: rm -rf restfulSE.buildbin-libdir && mkdir restfulSE.buildbin-libdir && C:\cygwin\bin\curl.exe -O https://malbec1.bioconductor.org/BBS/3.6/bioc/src/contrib/restfulSE_1.0.2.tar.gz && C:\Users\biocbuild\bbs-3.6-bioc\R\bin\R.exe CMD INSTALL --build --library=restfulSE.buildbin-libdir --merge-multiarch restfulSE_1.0.2.tar.gz && C:\Users\biocbuild\bbs-3.6-bioc\R\bin\R.exe CMD INSTALL restfulSE_1.0.2.zip && rm restfulSE_1.0.2.tar.gz restfulSE_1.0.2.zip |
| StartedAt: 2018-04-11 18:40:29 -0400 (Wed, 11 Apr 2018) |
| EndedAt: 2018-04-11 18:41:19 -0400 (Wed, 11 Apr 2018) |
| EllapsedTime: 50.0 seconds |
| RetCode: 0 |
| Status: OK |
##############################################################################
##############################################################################
###
### Running command:
###
### rm -rf restfulSE.buildbin-libdir && mkdir restfulSE.buildbin-libdir && C:\cygwin\bin\curl.exe -O https://malbec1.bioconductor.org/BBS/3.6/bioc/src/contrib/restfulSE_1.0.2.tar.gz && C:\Users\biocbuild\bbs-3.6-bioc\R\bin\R.exe CMD INSTALL --build --library=restfulSE.buildbin-libdir --merge-multiarch restfulSE_1.0.2.tar.gz && C:\Users\biocbuild\bbs-3.6-bioc\R\bin\R.exe CMD INSTALL restfulSE_1.0.2.zip && rm restfulSE_1.0.2.tar.gz restfulSE_1.0.2.zip
###
##############################################################################
##############################################################################
% Total % Received % Xferd Average Speed Time Time Time Current
Dload Upload Total Spent Left Speed
0 0 0 0 0 0 0 0 --:--:-- --:--:-- --:--:-- 0
0 18026 0 0 0 0 0 0 --:--:-- --:--:-- --:--:-- 0
100 18026 100 18026 0 0 28557 0 --:--:-- --:--:-- --:--:-- 28658
install for i386
Warning in untar2(tarfile, files, list, exdir, restore_times) :
failed to copy 'restfulSE/vignettes/restfulSE.Rmd' to 'restfulSE/README.md'
* installing *source* package 'restfulSE' ...
** R
** preparing package for lazy loading
** help
*** installing help indices
converting help for package 'restfulSE'
finding HTML links ... done
BQSummarizedExperiment html
RESTfulSummarizedExperiment-class html
RESTfulSummarizedExperiment html
assay-BQSummarizedExperiment-missing-method
html
assayNames-BQSummarizedExperiment-method
html
assays-RESTfulSummarizedExperiment-method
html
cgcConn html
Rd warning: C:/Users/biocbuild/bbs-3.6-bioc/tmpdir/RtmpQreFVR/R.INSTALL10b04d1bbaf/restfulSE/man/cgcConn.Rd:18: missing file link 'BigQueryConnection-class'
dim-RESTfulSummarizedExperiment-method
html
goPatt html
gtexTiss html
isbCgcDatasets html
isbCgcTables html
se100k html
seByTumor html
seByTumor_2016 html
tasicCortex html
** building package indices
** installing vignettes
** testing if installed package can be loaded
In R CMD INSTALL
install for x64
Warning in untar2(tarfile, files, list, exdir, restore_times) :
failed to copy 'restfulSE/vignettes/restfulSE.Rmd' to 'restfulSE/README.md'
* installing *source* package 'restfulSE' ...
** testing if installed package can be loaded
* MD5 sums
packaged installation of 'restfulSE' as restfulSE_1.0.2.zip
* DONE (restfulSE)
In R CMD INSTALL
In R CMD INSTALL
* installing to library 'C:/Users/biocbuild/bbs-3.6-bioc/R/library'
package 'restfulSE' successfully unpacked and MD5 sums checked
In R CMD INSTALL