| Back to Multiple platform build/check report for BioC 3.6 |
|
This page was generated on 2018-04-12 13:12:47 -0400 (Thu, 12 Apr 2018).
| Package 1156/1472 | Hostname | OS / Arch | INSTALL | BUILD | CHECK | BUILD BIN | ||||||
| regionReport 1.12.2 Leonardo Collado-Torres
| malbec1 | Linux (Ubuntu 16.04.1 LTS) / x86_64 | OK | [ OK ] | OK | |||||||
| tokay1 | Windows Server 2012 R2 Standard / x64 | OK | OK | OK | OK | |||||||
| veracruz1 | OS X 10.11.6 El Capitan / x86_64 | OK | ERROR | skipped | skipped |
| Package: regionReport |
| Version: 1.12.2 |
| Command: /home/biocbuild/bbs-3.6-bioc/R/bin/R CMD build --keep-empty-dirs --no-resave-data regionReport |
| StartedAt: 2018-04-11 19:41:11 -0400 (Wed, 11 Apr 2018) |
| EndedAt: 2018-04-11 19:45:42 -0400 (Wed, 11 Apr 2018) |
| EllapsedTime: 271.5 seconds |
| RetCode: 0 |
| Status: OK |
| PackageFile: regionReport_1.12.2.tar.gz |
| PackageFileSize: 1.417 MiB |
##############################################################################
##############################################################################
###
### Running command:
###
### /home/biocbuild/bbs-3.6-bioc/R/bin/R CMD build --keep-empty-dirs --no-resave-data regionReport
###
##############################################################################
##############################################################################
* checking for file ‘regionReport/DESCRIPTION’ ... OK
* preparing ‘regionReport’:
* checking DESCRIPTION meta-information ... OK
* installing the package to build vignettes
* creating vignettes ... OK
Warning: ‘inst/doc’ file
‘bumphunterExampleOutput.R’
ignored as vignettes have been rebuilt.
Run R CMD build with --no-build-vignettes to prevent rebuilding.
* checking for LF line-endings in source and make files and shell scripts
* checking for empty or unneeded directories
* building ‘regionReport_1.12.2.tar.gz’