| Back to Multiple platform build/check report for BioC 3.6 |
|
This page was generated on 2018-04-12 13:25:58 -0400 (Thu, 12 Apr 2018).
| Package 1133/1472 | Hostname | OS / Arch | INSTALL | BUILD | CHECK | BUILD BIN | ||||||
| rcellminer 2.0.0 Augustin Luna
| malbec1 | Linux (Ubuntu 16.04.1 LTS) / x86_64 | OK | OK | OK | |||||||
| tokay1 | Windows Server 2012 R2 Standard / x64 | OK | OK | [ OK ] | OK | |||||||
| veracruz1 | OS X 10.11.6 El Capitan / x86_64 | OK | OK | OK | OK |
| Package: rcellminer |
| Version: 2.0.0 |
| Command: rm -rf rcellminer.buildbin-libdir rcellminer.Rcheck && mkdir rcellminer.buildbin-libdir rcellminer.Rcheck && C:\Users\biocbuild\bbs-3.6-bioc\R\bin\R.exe CMD INSTALL --build --merge-multiarch --library=rcellminer.buildbin-libdir rcellminer_2.0.0.tar.gz >rcellminer.Rcheck\00install.out 2>&1 && cp rcellminer.Rcheck\00install.out rcellminer-install.out && C:\Users\biocbuild\bbs-3.6-bioc\R\bin\R.exe CMD check --library=rcellminer.buildbin-libdir --install="check:rcellminer-install.out" --force-multiarch --no-vignettes --timings rcellminer_2.0.0.tar.gz |
| StartedAt: 2018-04-12 02:30:54 -0400 (Thu, 12 Apr 2018) |
| EndedAt: 2018-04-12 02:53:18 -0400 (Thu, 12 Apr 2018) |
| EllapsedTime: 1344.1 seconds |
| RetCode: 0 |
| Status: OK |
| CheckDir: rcellminer.Rcheck |
| Warnings: 0 |
##############################################################################
##############################################################################
###
### Running command:
###
### rm -rf rcellminer.buildbin-libdir rcellminer.Rcheck && mkdir rcellminer.buildbin-libdir rcellminer.Rcheck && C:\Users\biocbuild\bbs-3.6-bioc\R\bin\R.exe CMD INSTALL --build --merge-multiarch --library=rcellminer.buildbin-libdir rcellminer_2.0.0.tar.gz >rcellminer.Rcheck\00install.out 2>&1 && cp rcellminer.Rcheck\00install.out rcellminer-install.out && C:\Users\biocbuild\bbs-3.6-bioc\R\bin\R.exe CMD check --library=rcellminer.buildbin-libdir --install="check:rcellminer-install.out" --force-multiarch --no-vignettes --timings rcellminer_2.0.0.tar.gz
###
##############################################################################
##############################################################################
* using log directory 'C:/Users/biocbuild/bbs-3.6-bioc/meat/rcellminer.Rcheck'
* using R version 3.4.4 (2018-03-15)
* using platform: x86_64-w64-mingw32 (64-bit)
* using session charset: ISO8859-1
* using option '--no-vignettes'
* checking for file 'rcellminer/DESCRIPTION' ... OK
* checking extension type ... Package
* this is package 'rcellminer' version '2.0.0'
* checking package namespace information ... OK
* checking package dependencies ... OK
* checking if this is a source package ... OK
* checking if there is a namespace ... OK
* checking for hidden files and directories ... NOTE
Found the following hidden files and directories:
.BBSoptions
These were most likely included in error. See section 'Package
structure' in the 'Writing R Extensions' manual.
* checking for portable file names ... OK
* checking whether package 'rcellminer' can be installed ... OK
* checking installed package size ... NOTE
installed size is 8.2Mb
sub-directories of 1Mb or more:
data 2.9Mb
doc 4.0Mb
* checking package directory ... OK
* checking 'build' directory ... OK
* checking DESCRIPTION meta-information ... OK
* checking top-level files ... OK
* checking for left-over files ... OK
* checking index information ... OK
* checking package subdirectories ... OK
* checking R files for non-ASCII characters ... OK
* checking R files for syntax errors ... OK
* loading checks for arch 'i386'
** checking whether the package can be loaded ... OK
** checking whether the package can be loaded with stated dependencies ... OK
** checking whether the package can be unloaded cleanly ... OK
** checking whether the namespace can be loaded with stated dependencies ... NOTE
Warning: no function found corresponding to methods exports from 'rcellminer' for: 'initialize'
A namespace must be able to be loaded with just the base namespace
loaded: otherwise if the namespace gets loaded by a saved object, the
session will be unable to start.
Probably some imports need to be declared in the NAMESPACE file.
** checking whether the namespace can be unloaded cleanly ... OK
* loading checks for arch 'x64'
** checking whether the package can be loaded ... OK
** checking whether the package can be loaded with stated dependencies ... OK
** checking whether the package can be unloaded cleanly ... OK
** checking whether the namespace can be loaded with stated dependencies ... NOTE
Warning: no function found corresponding to methods exports from 'rcellminer' for: 'initialize'
A namespace must be able to be loaded with just the base namespace
loaded: otherwise if the namespace gets loaded by a saved object, the
session will be unable to start.
Probably some imports need to be declared in the NAMESPACE file.
** checking whether the namespace can be unloaded cleanly ... OK
* checking dependencies in R code ... OK
* checking S3 generic/method consistency ... OK
* checking replacement functions ... OK
* checking foreign function calls ... OK
* checking R code for possible problems ... NOTE
getColumnQuantiles: no visible global function definition for
'quantile'
getDrugActivityRange: no visible global function definition for 'IQR'
getRsd: no visible binding for global variable 'sd'
parCorPatternComparison: no visible global function definition for
'residuals'
parCorPatternComparison: no visible global function definition for 'lm'
parCorPatternComparison: no visible global function definition for
'na.exclude'
plotCellMiner: no visible global function definition for 'par'
plotCellMiner: no visible global function definition for 'layout'
plotCellMiner: no visible global function definition for 'lcm'
plotCellMiner: no visible global function definition for 'axis'
plotCellMiner2D: no visible global function definition for
'element_text'
plotCellMiner2D: no visible global function definition for 'xlim'
plotCellMiner2D: no visible global function definition for 'ylim'
plotDrugActivityRepeats: no visible global function definition for
'pdf'
plotDrugActivityRepeats: no visible global function definition for
'dev.off'
plotDrugSets: no visible binding for global variable 'sd'
plotDrugSets: no visible global function definition for 'pdf'
plotDrugSets: no visible global function definition for 'par'
plotDrugSets: no visible global function definition for 'axis'
plotDrugSets: no visible global function definition for 'segments'
plotDrugSets: no visible global function definition for 'dev.off'
plotStructures: no visible global function definition for 'par'
rcdkplot: no visible global function definition for 'par'
rcdkplot: no visible global function definition for 'get.depictor'
rcdkplot: no visible global function definition for 'plot'
rcdkplot: no visible global function definition for 'rasterImage'
Undefined global functions or variables:
IQR axis dev.off element_text get.depictor layout lcm lm na.exclude
par pdf plot quantile rasterImage residuals sd segments xlim ylim
Consider adding
importFrom("grDevices", "dev.off", "pdf")
importFrom("graphics", "axis", "layout", "lcm", "par", "plot",
"rasterImage", "segments")
importFrom("stats", "IQR", "lm", "na.exclude", "quantile", "residuals",
"sd")
to your NAMESPACE file.
* checking Rd files ... OK
* checking Rd metadata ... OK
* checking Rd cross-references ... OK
* checking for missing documentation entries ... OK
* checking for code/documentation mismatches ... OK
* checking Rd \usage sections ... OK
* checking Rd contents ... OK
* checking for unstated dependencies in examples ... OK
* checking contents of 'data' directory ... OK
* checking data for non-ASCII characters ... OK
* checking data for ASCII and uncompressed saves ... OK
* checking installed files from 'inst/doc' ... OK
* checking files in 'vignettes' ... OK
* checking examples ...
** running examples for arch 'i386' ... OK
Examples with CPU or elapsed time > 5s
user system elapsed
getFeatureDataFromMatList 3.45 0.34 7.64
compareFingerprints 1.92 0.16 8.20
plotStructures 0.91 0.20 19.43
** running examples for arch 'x64' ... OK
Examples with CPU or elapsed time > 5s
user system elapsed
plotStructures 2.02 0.22 5.56
* checking for unstated dependencies in 'tests' ... OK
* checking tests ...
** running tests for arch 'i386' ...
Running 'testthat.R'
OK
** running tests for arch 'x64' ...
Running 'testthat.R'
OK
* checking for unstated dependencies in vignettes ... OK
* checking package vignettes in 'inst/doc' ... OK
* checking running R code from vignettes ... SKIPPED
* checking re-building of vignette outputs ... SKIPPED
* checking PDF version of manual ... OK
* DONE
Status: 5 NOTEs
See
'C:/Users/biocbuild/bbs-3.6-bioc/meat/rcellminer.Rcheck/00check.log'
for details.
rcellminer.Rcheck/00install.out
install for i386
* installing *source* package 'rcellminer' ...
** R
** data
*** moving datasets to lazyload DB
** inst
** preparing package for lazy loading
** help
*** installing help indices
converting help for package 'rcellminer'
finding HTML links ... done
DrugData-class html
DrugData-eSet-eSet-MIAxE-method html
DrugData html
Drug_MOA_Key html
MolData-class html
MolData-list-MIAxE-method html
MolData html
cmVersion html
compareFingerprints html
crossCors html
crossCorsSpearman html
drugDB html
elNetMolDataNCI60 html
fingerprintList html
getAct-DrugData-method html
getAct html
getActivityRangeStats html
getAllFeatureData-MolData-method html
getAllFeatureData html
getBinaryMutationData html
getColumnQuantiles html
getDrugActivityData html
getDrugActivityRange html
getDrugActivityRepeatData html
getDrugMoaList html
getDrugName html
getESetList-MolData-method html
getESetList html
getFeatureAnnot-DrugData-method html
getFeatureAnnot-MolData-method html
getFeatureAnnot html
getFeatureDataFromMatList html
getFingerprintList html
getMedSenLineActivity html
getMinDrugActivityRepeatCor html
getMoaStr html
getMoaToCompounds html
getMolDataMatrices html
getMolDataType html
getNumDrugActivityRepeats html
getNumMissingLines html
getRepeatAct-DrugData-method html
getRepeatAct html
getRsd html
getSampleData-DrugData-method html
getSampleData-MolData-method html
getSampleData html
getSmiles html
hasMoa html
initialize-DrugData-method html
initialize-MolData-method html
isPublic html
loadCellminerPlotInfo html
loadNciColorSet html
parCorPatternComparison html
passRuleOf5 html
passRuleOf5FromNsc html
patternComparison html
plotCellMiner html
plotCellMiner2D html
plotDrugActivityRepeats html
plotDrugSets html
plotStructures html
plotStructuresFromNscs html
rcdkplot html
removeMolDataType html
restrictFeatureMat html
rowCors html
runShinyApp html
runShinyComparePlots html
runShinyCompareStructures html
runShinyCompoundBrowser html
searchForNscs html
selectCorrelatedRows html
selectCorrelatedRowsFromMatrices html
sub-sub-MolData-method html
sub-subset-MolData-method html
** building package indices
** installing vignettes
** testing if installed package can be loaded
In R CMD INSTALL
install for x64
* installing *source* package 'rcellminer' ...
** testing if installed package can be loaded
* MD5 sums
packaged installation of 'rcellminer' as rcellminer_2.0.0.zip
* DONE (rcellminer)
In R CMD INSTALL
In R CMD INSTALL
|
rcellminer.Rcheck/tests_i386/testthat.Rout
R version 3.4.4 (2018-03-15) -- "Someone to Lean On"
Copyright (C) 2018 The R Foundation for Statistical Computing
Platform: i386-w64-mingw32/i386 (32-bit)
R is free software and comes with ABSOLUTELY NO WARRANTY.
You are welcome to redistribute it under certain conditions.
Type 'license()' or 'licence()' for distribution details.
R is a collaborative project with many contributors.
Type 'contributors()' for more information and
'citation()' on how to cite R or R packages in publications.
Type 'demo()' for some demos, 'help()' for on-line help, or
'help.start()' for an HTML browser interface to help.
Type 'q()' to quit R.
> library(testthat)
> library(rcellminer)
Loading required package: Biobase
Loading required package: BiocGenerics
Loading required package: parallel
Attaching package: 'BiocGenerics'
The following objects are masked from 'package:parallel':
clusterApply, clusterApplyLB, clusterCall, clusterEvalQ,
clusterExport, clusterMap, parApply, parCapply, parLapply,
parLapplyLB, parRapply, parSapply, parSapplyLB
The following objects are masked from 'package:stats':
IQR, mad, sd, var, xtabs
The following objects are masked from 'package:base':
Filter, Find, Map, Position, Reduce, anyDuplicated, append,
as.data.frame, cbind, colMeans, colSums, colnames, do.call,
duplicated, eval, evalq, get, grep, grepl, intersect, is.unsorted,
lapply, lengths, mapply, match, mget, order, paste, pmax, pmax.int,
pmin, pmin.int, rank, rbind, rowMeans, rowSums, rownames, sapply,
setdiff, sort, table, tapply, union, unique, unsplit, which,
which.max, which.min
Welcome to Bioconductor
Vignettes contain introductory material; view with
'browseVignettes()'. To cite Bioconductor, see
'citation("Biobase")', and for packages 'citation("pkgname")'.
Loading required package: rcdk
Loading required package: rcdklibs
Loading required package: rJava
Attaching package: 'rcdk'
The following object is masked from 'package:testthat':
matches
Loading required package: fingerprint
Loading required package: rcellminerData
Consider citing this package: Luna A, et al. rcellminer: exploring molecular profiles and drug response of the NCI-60 cell lines in R. PMID: 26635141; citation("rcellminer")
>
> #test_package("rcellminer")
> test_check("rcellminer")
== testthat results ===========================================================
OK: 239 SKIPPED: 1 FAILED: 0
>
> proc.time()
user system elapsed
587.40 2.01 589.67
|
rcellminer.Rcheck/tests_x64/testthat.Rout
R version 3.4.4 (2018-03-15) -- "Someone to Lean On"
Copyright (C) 2018 The R Foundation for Statistical Computing
Platform: x86_64-w64-mingw32/x64 (64-bit)
R is free software and comes with ABSOLUTELY NO WARRANTY.
You are welcome to redistribute it under certain conditions.
Type 'license()' or 'licence()' for distribution details.
R is a collaborative project with many contributors.
Type 'contributors()' for more information and
'citation()' on how to cite R or R packages in publications.
Type 'demo()' for some demos, 'help()' for on-line help, or
'help.start()' for an HTML browser interface to help.
Type 'q()' to quit R.
> library(testthat)
> library(rcellminer)
Loading required package: Biobase
Loading required package: BiocGenerics
Loading required package: parallel
Attaching package: 'BiocGenerics'
The following objects are masked from 'package:parallel':
clusterApply, clusterApplyLB, clusterCall, clusterEvalQ,
clusterExport, clusterMap, parApply, parCapply, parLapply,
parLapplyLB, parRapply, parSapply, parSapplyLB
The following objects are masked from 'package:stats':
IQR, mad, sd, var, xtabs
The following objects are masked from 'package:base':
Filter, Find, Map, Position, Reduce, anyDuplicated, append,
as.data.frame, cbind, colMeans, colSums, colnames, do.call,
duplicated, eval, evalq, get, grep, grepl, intersect, is.unsorted,
lapply, lengths, mapply, match, mget, order, paste, pmax, pmax.int,
pmin, pmin.int, rank, rbind, rowMeans, rowSums, rownames, sapply,
setdiff, sort, table, tapply, union, unique, unsplit, which,
which.max, which.min
Welcome to Bioconductor
Vignettes contain introductory material; view with
'browseVignettes()'. To cite Bioconductor, see
'citation("Biobase")', and for packages 'citation("pkgname")'.
Loading required package: rcdk
Loading required package: rcdklibs
Loading required package: rJava
Attaching package: 'rcdk'
The following object is masked from 'package:testthat':
matches
Loading required package: fingerprint
Loading required package: rcellminerData
Consider citing this package: Luna A, et al. rcellminer: exploring molecular profiles and drug response of the NCI-60 cell lines in R. PMID: 26635141; citation("rcellminer")
>
> #test_package("rcellminer")
> test_check("rcellminer")
== testthat results ===========================================================
OK: 239 SKIPPED: 1 FAILED: 0
>
> proc.time()
user system elapsed
585.51 1.79 584.09
|
|
rcellminer.Rcheck/examples_i386/rcellminer-Ex.timings
|
rcellminer.Rcheck/examples_x64/rcellminer-Ex.timings
|