| Back to Multiple platform build/check report for BioC 3.6 |
|
This page was generated on 2018-04-12 13:22:58 -0400 (Thu, 12 Apr 2018).
| Package 1231/1472 | Hostname | OS / Arch | INSTALL | BUILD | CHECK | BUILD BIN | ||||||
| rTRM 1.16.0 Diego Diez
| malbec1 | Linux (Ubuntu 16.04.1 LTS) / x86_64 | OK | OK | OK | |||||||
| tokay1 | Windows Server 2012 R2 Standard / x64 | [ OK ] | OK | OK | OK | |||||||
| veracruz1 | OS X 10.11.6 El Capitan / x86_64 | OK | OK | OK | OK |
| Package: rTRM |
| Version: 1.16.0 |
| Command: rm -rf rTRM.buildbin-libdir && mkdir rTRM.buildbin-libdir && C:\cygwin\bin\curl.exe -O https://malbec1.bioconductor.org/BBS/3.6/bioc/src/contrib/rTRM_1.16.0.tar.gz && C:\Users\biocbuild\bbs-3.6-bioc\R\bin\R.exe CMD INSTALL --build --library=rTRM.buildbin-libdir --merge-multiarch rTRM_1.16.0.tar.gz && C:\Users\biocbuild\bbs-3.6-bioc\R\bin\R.exe CMD INSTALL rTRM_1.16.0.zip && rm rTRM_1.16.0.tar.gz rTRM_1.16.0.zip |
| StartedAt: 2018-04-11 18:26:00 -0400 (Wed, 11 Apr 2018) |
| EndedAt: 2018-04-11 18:27:14 -0400 (Wed, 11 Apr 2018) |
| EllapsedTime: 74.3 seconds |
| RetCode: 0 |
| Status: OK |
##############################################################################
##############################################################################
###
### Running command:
###
### rm -rf rTRM.buildbin-libdir && mkdir rTRM.buildbin-libdir && C:\cygwin\bin\curl.exe -O https://malbec1.bioconductor.org/BBS/3.6/bioc/src/contrib/rTRM_1.16.0.tar.gz && C:\Users\biocbuild\bbs-3.6-bioc\R\bin\R.exe CMD INSTALL --build --library=rTRM.buildbin-libdir --merge-multiarch rTRM_1.16.0.tar.gz && C:\Users\biocbuild\bbs-3.6-bioc\R\bin\R.exe CMD INSTALL rTRM_1.16.0.zip && rm rTRM_1.16.0.tar.gz rTRM_1.16.0.zip
###
##############################################################################
##############################################################################
% Total % Received % Xferd Average Speed Time Time Time Current
Dload Upload Total Spent Left Speed
0 0 0 0 0 0 0 0 --:--:-- --:--:-- --:--:-- 0
100 2779k 100 2779k 0 0 56.1M 0 --:--:-- --:--:-- --:--:-- 60.3M
install for i386
* installing *source* package 'rTRM' ...
** R
** data
** inst
** byte-compile and prepare package for lazy loading
** help
*** installing help indices
converting help for package 'rTRM'
finding HTML links ... done
annotateFreq html
annotateModule html
annotateTRM html
biogrid_hs html
biogrid_mm html
findTRM html
getAnnotations html
getBiogridData html
getConcentricList html
getLargestComp html
getMaps html
getMatrices html
getMotifsFromEntrezgene html
getMotifsFromSymbol html
getOrthologFromMatrix html
getOrthologs html
getOrthologsFromBiomart html
getSequencesFromGenome html
getSimilarityMatrix html
getTFclass html
getTFclassFromEntrezgene html
getTFterms html
initBiomart html
layout.arc html
layout.concentric html
plotDegree html
plotGraph html
plotTRM html
plotTRMlegend html
processBiogrid html
rTRM-package html
removeVertices html
writeTRMreport html
** building package indices
** installing vignettes
** testing if installed package can be loaded
In R CMD INSTALL
install for x64
* installing *source* package 'rTRM' ...
** testing if installed package can be loaded
* MD5 sums
packaged installation of 'rTRM' as rTRM_1.16.0.zip
* DONE (rTRM)
In R CMD INSTALL
In R CMD INSTALL
* installing to library 'C:/Users/biocbuild/bbs-3.6-bioc/R/library'
package 'rTRM' successfully unpacked and MD5 sums checked
In R CMD INSTALL