| Back to Multiple platform build/check report for BioC 3.6 |
|
This page was generated on 2018-04-12 13:17:26 -0400 (Thu, 12 Apr 2018).
| Package 1108/1472 | Hostname | OS / Arch | INSTALL | BUILD | CHECK | BUILD BIN | ||||||
| qvalue 2.10.0 John D. Storey
| malbec1 | Linux (Ubuntu 16.04.1 LTS) / x86_64 | OK | OK | OK | |||||||
| tokay1 | Windows Server 2012 R2 Standard / x64 | [ OK ] | OK | OK | OK | |||||||
| veracruz1 | OS X 10.11.6 El Capitan / x86_64 | OK | OK | OK | OK |
| Package: qvalue |
| Version: 2.10.0 |
| Command: rm -rf qvalue.buildbin-libdir && mkdir qvalue.buildbin-libdir && C:\cygwin\bin\curl.exe -O https://malbec1.bioconductor.org/BBS/3.6/bioc/src/contrib/qvalue_2.10.0.tar.gz && C:\Users\biocbuild\bbs-3.6-bioc\R\bin\R.exe CMD INSTALL --build --library=qvalue.buildbin-libdir --merge-multiarch qvalue_2.10.0.tar.gz && C:\Users\biocbuild\bbs-3.6-bioc\R\bin\R.exe CMD INSTALL qvalue_2.10.0.zip && rm qvalue_2.10.0.tar.gz qvalue_2.10.0.zip |
| StartedAt: 2018-04-11 18:19:22 -0400 (Wed, 11 Apr 2018) |
| EndedAt: 2018-04-11 18:20:09 -0400 (Wed, 11 Apr 2018) |
| EllapsedTime: 46.2 seconds |
| RetCode: 0 |
| Status: OK |
##############################################################################
##############################################################################
###
### Running command:
###
### rm -rf qvalue.buildbin-libdir && mkdir qvalue.buildbin-libdir && C:\cygwin\bin\curl.exe -O https://malbec1.bioconductor.org/BBS/3.6/bioc/src/contrib/qvalue_2.10.0.tar.gz && C:\Users\biocbuild\bbs-3.6-bioc\R\bin\R.exe CMD INSTALL --build --library=qvalue.buildbin-libdir --merge-multiarch qvalue_2.10.0.tar.gz && C:\Users\biocbuild\bbs-3.6-bioc\R\bin\R.exe CMD INSTALL qvalue_2.10.0.zip && rm qvalue_2.10.0.tar.gz qvalue_2.10.0.zip
###
##############################################################################
##############################################################################
% Total % Received % Xferd Average Speed Time Time Time Current
Dload Upload Total Spent Left Speed
0 0 0 0 0 0 0 0 --:--:-- --:--:-- --:--:-- 0
100 2688k 100 2688k 0 0 56.6M 0 --:--:-- --:--:-- --:--:-- 61.0M
install for i386
* installing *source* package 'qvalue' ...
** R
** data
** inst
** preparing package for lazy loading
** help
*** installing help indices
converting help for package 'qvalue'
finding HTML links ... done
empPvals html
hedenfalk html
hist.qvalue html
lfdr html
pi0est html
plot.qvalue html
qvalue html
summary.qvalue html
write.qvalue html
** building package indices
** installing vignettes
** testing if installed package can be loaded
In R CMD INSTALL
install for x64
* installing *source* package 'qvalue' ...
** testing if installed package can be loaded
* MD5 sums
packaged installation of 'qvalue' as qvalue_2.10.0.zip
* DONE (qvalue)
In R CMD INSTALL
In R CMD INSTALL
* installing to library 'C:/Users/biocbuild/bbs-3.6-bioc/R/library'
package 'qvalue' successfully unpacked and MD5 sums checked
In R CMD INSTALL