| Back to Multiple platform build/check report for BioC 3.6 |
|
This page was generated on 2018-04-12 13:24:47 -0400 (Thu, 12 Apr 2018).
| Package 1101/1472 | Hostname | OS / Arch | INSTALL | BUILD | CHECK | BUILD BIN | ||||||
| quantro 1.12.0 Stephanie Hicks
| malbec1 | Linux (Ubuntu 16.04.1 LTS) / x86_64 | OK | OK | OK | |||||||
| tokay1 | Windows Server 2012 R2 Standard / x64 | OK | [ OK ] | OK | OK | |||||||
| veracruz1 | OS X 10.11.6 El Capitan / x86_64 | OK | OK | OK | OK |
| Package: quantro |
| Version: 1.12.0 |
| Command: chmod a+r quantro -R && C:\Users\biocbuild\bbs-3.6-bioc\R\bin\R.exe CMD build --keep-empty-dirs --no-resave-data quantro |
| StartedAt: 2018-04-11 20:24:39 -0400 (Wed, 11 Apr 2018) |
| EndedAt: 2018-04-11 20:27:06 -0400 (Wed, 11 Apr 2018) |
| EllapsedTime: 146.2 seconds |
| RetCode: 0 |
| Status: OK |
| PackageFile: quantro_1.12.0.tar.gz |
| PackageFileSize: 2.53 MiB |
##############################################################################
##############################################################################
###
### Running command:
###
### chmod a+r quantro -R && C:\Users\biocbuild\bbs-3.6-bioc\R\bin\R.exe CMD build --keep-empty-dirs --no-resave-data quantro
###
##############################################################################
##############################################################################
* checking for file 'quantro/DESCRIPTION' ... OK
* preparing 'quantro':
* checking DESCRIPTION meta-information ... OK
* installing the package to build vignettes
* creating vignettes ... OK
Warning: 'inst/doc' file
'quantro-vignette.pdf'
ignored as vignettes have been rebuilt.
Run R CMD build with --no-build-vignettes to prevent rebuilding.
* checking for LF line-endings in source and make files and shell scripts
* checking for empty or unneeded directories
* looking to see if a 'data/datalist' file should be added
* building 'quantro_1.12.0.tar.gz'