| Back to Multiple platform build/check report for BioC 3.6 | 
  | 
This page was generated on 2018-04-12 13:33:10 -0400 (Thu, 12 Apr 2018).
| Package 1096/1472 | Hostname | OS / Arch | INSTALL | BUILD | CHECK | BUILD BIN | ||||||
| qpcrNorm 1.36.0 Jessica Mar 
  | malbec1 | Linux (Ubuntu 16.04.1 LTS) / x86_64 | OK | OK | OK | |||||||
| tokay1 | Windows Server 2012 R2 Standard / x64 | OK | OK | OK | OK | |||||||
| veracruz1 | OS X 10.11.6 El Capitan / x86_64 | OK | OK | OK | [ OK ] | 
| Package: qpcrNorm | 
| Version: 1.36.0 | 
| Command: rm -rf qpcrNorm.buildbin-libdir && mkdir qpcrNorm.buildbin-libdir && /Users/biocbuild/BBS/utils/build-universal.sh qpcrNorm_1.36.0.tar.gz /Library/Frameworks/R.framework/Versions/Current/Resources/bin/R qpcrNorm.buildbin-libdir | 
| StartedAt: 2018-04-12 12:02:57 -0400 (Thu, 12 Apr 2018) | 
| EndedAt: 2018-04-12 12:03:15 -0400 (Thu, 12 Apr 2018) | 
| EllapsedTime: 18.2 seconds | 
| RetCode: 0 | 
| Status: OK | 
| PackageFile: qpcrNorm_1.36.0.tgz | 
| PackageFileSize: 416.6 KiB | 
############################################################################## ############################################################################## ### ### Running command: ### ### rm -rf qpcrNorm.buildbin-libdir && mkdir qpcrNorm.buildbin-libdir && /Users/biocbuild/BBS/utils/build-universal.sh qpcrNorm_1.36.0.tar.gz /Library/Frameworks/R.framework/Versions/Current/Resources/bin/R qpcrNorm.buildbin-libdir ### ############################################################################## ############################################################################## >>>>>>> >>>>>>> INSTALLATION WITH 'R CMD INSTALL --preclean --no-multiarch --library=qpcrNorm.buildbin-libdir qpcrNorm_1.36.0.tar.gz' >>>>>>> * installing *source* package ‘qpcrNorm’ ... ** R ** data ** inst ** preparing package for lazy loading ** help *** installing help indices ** building package indices ** installing vignettes ** testing if installed package can be loaded * DONE (qpcrNorm)