| Back to Multiple platform build/check report for BioC 3.6 |
|
This page was generated on 2018-04-12 13:23:29 -0400 (Thu, 12 Apr 2018).
| Package 1094/1472 | Hostname | OS / Arch | INSTALL | BUILD | CHECK | BUILD BIN | ||||||
| qcmetrics 1.16.0 Laurent Gatto
| malbec1 | Linux (Ubuntu 16.04.1 LTS) / x86_64 | OK | OK | OK | |||||||
| tokay1 | Windows Server 2012 R2 Standard / x64 | OK | OK | [ OK ] | OK | |||||||
| veracruz1 | OS X 10.11.6 El Capitan / x86_64 | OK | OK | OK | OK |
| Package: qcmetrics |
| Version: 1.16.0 |
| Command: rm -rf qcmetrics.buildbin-libdir qcmetrics.Rcheck && mkdir qcmetrics.buildbin-libdir qcmetrics.Rcheck && C:\Users\biocbuild\bbs-3.6-bioc\R\bin\R.exe CMD INSTALL --build --merge-multiarch --library=qcmetrics.buildbin-libdir qcmetrics_1.16.0.tar.gz >qcmetrics.Rcheck\00install.out 2>&1 && cp qcmetrics.Rcheck\00install.out qcmetrics-install.out && C:\Users\biocbuild\bbs-3.6-bioc\R\bin\R.exe CMD check --library=qcmetrics.buildbin-libdir --install="check:qcmetrics-install.out" --force-multiarch --no-vignettes --timings qcmetrics_1.16.0.tar.gz |
| StartedAt: 2018-04-12 02:22:18 -0400 (Thu, 12 Apr 2018) |
| EndedAt: 2018-04-12 02:23:56 -0400 (Thu, 12 Apr 2018) |
| EllapsedTime: 97.7 seconds |
| RetCode: 0 |
| Status: OK |
| CheckDir: qcmetrics.Rcheck |
| Warnings: 0 |
##############################################################################
##############################################################################
###
### Running command:
###
### rm -rf qcmetrics.buildbin-libdir qcmetrics.Rcheck && mkdir qcmetrics.buildbin-libdir qcmetrics.Rcheck && C:\Users\biocbuild\bbs-3.6-bioc\R\bin\R.exe CMD INSTALL --build --merge-multiarch --library=qcmetrics.buildbin-libdir qcmetrics_1.16.0.tar.gz >qcmetrics.Rcheck\00install.out 2>&1 && cp qcmetrics.Rcheck\00install.out qcmetrics-install.out && C:\Users\biocbuild\bbs-3.6-bioc\R\bin\R.exe CMD check --library=qcmetrics.buildbin-libdir --install="check:qcmetrics-install.out" --force-multiarch --no-vignettes --timings qcmetrics_1.16.0.tar.gz
###
##############################################################################
##############################################################################
* using log directory 'C:/Users/biocbuild/bbs-3.6-bioc/meat/qcmetrics.Rcheck'
* using R version 3.4.4 (2018-03-15)
* using platform: x86_64-w64-mingw32 (64-bit)
* using session charset: ISO8859-1
* using option '--no-vignettes'
* checking for file 'qcmetrics/DESCRIPTION' ... OK
* checking extension type ... Package
* this is package 'qcmetrics' version '1.16.0'
* checking package namespace information ... OK
* checking package dependencies ... OK
* checking if this is a source package ... OK
* checking if there is a namespace ... OK
* checking for hidden files and directories ... OK
* checking for portable file names ... OK
* checking whether package 'qcmetrics' can be installed ... OK
* checking installed package size ... OK
* checking package directory ... OK
* checking 'build' directory ... OK
* checking DESCRIPTION meta-information ... OK
* checking top-level files ... OK
* checking for left-over files ... OK
* checking index information ... OK
* checking package subdirectories ... OK
* checking R files for non-ASCII characters ... OK
* checking R files for syntax errors ... OK
* loading checks for arch 'i386'
** checking whether the package can be loaded ... OK
** checking whether the package can be loaded with stated dependencies ... OK
** checking whether the package can be unloaded cleanly ... OK
** checking whether the namespace can be loaded with stated dependencies ... OK
** checking whether the namespace can be unloaded cleanly ... OK
* loading checks for arch 'x64'
** checking whether the package can be loaded ... OK
** checking whether the package can be loaded with stated dependencies ... OK
** checking whether the package can be unloaded cleanly ... OK
** checking whether the namespace can be loaded with stated dependencies ... OK
** checking whether the namespace can be unloaded cleanly ... OK
* checking dependencies in R code ... OK
* checking S3 generic/method consistency ... OK
* checking replacement functions ... OK
* checking foreign function calls ... OK
* checking R code for possible problems ... NOTE
n15qc: no visible global function definition for 'fvarLabels'
n15qc: no visible global function definition for 'fData'
n15qc : <anonymous>: no visible global function definition for 'ggplot'
n15qc : <anonymous>: no visible global function definition for 'aes'
n15qc : <anonymous>: no visible global function definition for
'geom_jitter'
n15qc : <anonymous>: no visible global function definition for
'geom_boxplot'
n15qc : <anonymous>: no visible global function definition for
'geom_hline'
n15qc : <anonymous>: no visible global function definition for 'labs'
n15qc: no visible global function definition for 'fData<-'
n15qc: no visible global function definition for 'combineFeatures'
n15qc: no visible global function definition for 'exprs'
n15qc: no visible global function definition for 'fileNames'
n15qc: no visible global function definition for 'experimentData'
Undefined global functions or variables:
aes combineFeatures experimentData exprs fData fData<- fileNames
fvarLabels geom_boxplot geom_hline geom_jitter ggplot labs
* checking Rd files ... OK
* checking Rd metadata ... OK
* checking Rd cross-references ... OK
* checking for missing documentation entries ... OK
* checking for code/documentation mismatches ... OK
* checking Rd \usage sections ... OK
* checking Rd contents ... OK
* checking for unstated dependencies in examples ... OK
* checking contents of 'data' directory ... OK
* checking data for non-ASCII characters ... OK
* checking data for ASCII and uncompressed saves ... OK
* checking installed files from 'inst/doc' ... OK
* checking files in 'vignettes' ... OK
* checking examples ...
** running examples for arch 'i386' ... OK
Examples with CPU or elapsed time > 5s
user system elapsed
qcReport-methods 2.42 0.14 6.44
** running examples for arch 'x64' ... OK
Examples with CPU or elapsed time > 5s
user system elapsed
qcReport-methods 3.6 0.18 6.25
* checking for unstated dependencies in vignettes ... OK
* checking package vignettes in 'inst/doc' ... OK
* checking running R code from vignettes ... SKIPPED
* checking re-building of vignette outputs ... SKIPPED
* checking PDF version of manual ... OK
* DONE
Status: 1 NOTE
See
'C:/Users/biocbuild/bbs-3.6-bioc/meat/qcmetrics.Rcheck/00check.log'
for details.
qcmetrics.Rcheck/00install.out
install for i386
* installing *source* package 'qcmetrics' ...
** R
** data
** inst
** preparing package for lazy loading
** help
*** installing help indices
converting help for package 'qcmetrics'
finding HTML links ... done
Qc2Tex html
QcMetadata-class html
QcMetric-class html
QcMetrics-class html
finding level-2 HTML links ... done
n15qc html
psm html
qcReport-methods html
rnadeg html
** building package indices
** installing vignettes
** testing if installed package can be loaded
In R CMD INSTALL
install for x64
* installing *source* package 'qcmetrics' ...
** testing if installed package can be loaded
* MD5 sums
packaged installation of 'qcmetrics' as qcmetrics_1.16.0.zip
* DONE (qcmetrics)
In R CMD INSTALL
In R CMD INSTALL
|
qcmetrics.Rcheck/examples_i386/qcmetrics-Ex.timings
|
qcmetrics.Rcheck/examples_x64/qcmetrics-Ex.timings
|