| Back to Multiple platform build/check report for BioC 3.6 |
|
This page was generated on 2018-04-12 13:17:32 -0400 (Thu, 12 Apr 2018).
| Package 1059/1472 | Hostname | OS / Arch | INSTALL | BUILD | CHECK | BUILD BIN | ||||||
| prada 1.54.0 Florian Hahne
| malbec1 | Linux (Ubuntu 16.04.1 LTS) / x86_64 | OK | OK | OK | |||||||
| tokay1 | Windows Server 2012 R2 Standard / x64 | [ OK ] | OK | WARNINGS | OK | |||||||
| veracruz1 | OS X 10.11.6 El Capitan / x86_64 | OK | OK | OK | OK |
| Package: prada |
| Version: 1.54.0 |
| Command: rm -rf prada.buildbin-libdir && mkdir prada.buildbin-libdir && C:\cygwin\bin\curl.exe -O https://malbec1.bioconductor.org/BBS/3.6/bioc/src/contrib/prada_1.54.0.tar.gz && C:\Users\biocbuild\bbs-3.6-bioc\R\bin\R.exe CMD INSTALL --build --library=prada.buildbin-libdir --merge-multiarch prada_1.54.0.tar.gz && C:\Users\biocbuild\bbs-3.6-bioc\R\bin\R.exe CMD INSTALL prada_1.54.0.zip && rm prada_1.54.0.tar.gz prada_1.54.0.zip |
| StartedAt: 2018-04-11 18:20:43 -0400 (Wed, 11 Apr 2018) |
| EndedAt: 2018-04-11 18:22:55 -0400 (Wed, 11 Apr 2018) |
| EllapsedTime: 131.1 seconds |
| RetCode: 0 |
| Status: OK |
##############################################################################
##############################################################################
###
### Running command:
###
### rm -rf prada.buildbin-libdir && mkdir prada.buildbin-libdir && C:\cygwin\bin\curl.exe -O https://malbec1.bioconductor.org/BBS/3.6/bioc/src/contrib/prada_1.54.0.tar.gz && C:\Users\biocbuild\bbs-3.6-bioc\R\bin\R.exe CMD INSTALL --build --library=prada.buildbin-libdir --merge-multiarch prada_1.54.0.tar.gz && C:\Users\biocbuild\bbs-3.6-bioc\R\bin\R.exe CMD INSTALL prada_1.54.0.zip && rm prada_1.54.0.tar.gz prada_1.54.0.zip
###
##############################################################################
##############################################################################
% Total % Received % Xferd Average Speed Time Time Time Current
Dload Upload Total Spent Left Speed
0 0 0 0 0 0 0 0 --:--:-- --:--:-- --:--:-- 0
5 278k 5 16384 0 0 31057 0 0:00:09 --:--:-- 0:00:09 31207
100 278k 100 278k 0 0 526k 0 --:--:-- --:--:-- --:--:-- 528k
install for i386
* installing *source* package 'prada' ...
** libs
C:/Rtools/mingw_32/bin/gcc -I"C:/Users/BIOCBU˜1/BBS-3˜1.6-B/R/include" -DNDEBUG -I"C:/local323/include" -O3 -Wall -std=gnu99 -mtune=generic -c inPolygon.c -o inPolygon.o
C:/Rtools/mingw_32/bin/g++ -shared -s -static-libgcc -o prada.dll tmp.def inPolygon.o -LC:/local323/lib/i386 -LC:/local323/lib -LC:/Users/BIOCBU˜1/BBS-3˜1.6-B/R/bin/i386 -lR
installing to C:/Users/biocbuild/bbs-3.6-bioc/meat/prada.buildbin-libdir/prada/libs/i386
** R
** data
** inst
** preparing package for lazy loading
** help
*** installing help indices
converting help for package 'prada'
finding HTML links ... done
analysePlate html
as.all html
barploterrbar html
combineFrames html
csApply html
cytoFrame-class html
cytoSet-class html
finding level-2 HTML links ... done
Rd warning: C:/Users/biocbuild/bbs-3.6-bioc/tmpdir/RtmpS2CV5l/R.INSTALLe684ea17aa9/prada/man/cytoSet-class.Rd:88: missing file link 'phenoData-class'
data-cytoFrame html
data-cytoSet html
devDims html
devRes html
fitNorm2 html
gate-class html
gateSet-class html
getAlphaNumeric html
getPradaPar html
new-internal html
plotNorm2 html
plotPlate html
readCytoSet html
Rd warning: C:/Users/biocbuild/bbs-3.6-bioc/tmpdir/RtmpS2CV5l/R.INSTALLe684ea17aa9/prada/man/readCytoSet.Rd:11: missing file link 'dir'
readFCS html
readFCSaux html
removeCensored html
tcltkProgress html
threePanelPlot html
thresholds html
touchFCS html
vpLocation html
** building package indices
** installing vignettes
** testing if installed package can be loaded
In R CMD INSTALL
install for x64
* installing *source* package 'prada' ...
** libs
C:/Rtools/mingw_64/bin/gcc -I"C:/Users/BIOCBU˜1/BBS-3˜1.6-B/R/include" -DNDEBUG -I"C:/local323/include" -O2 -Wall -std=gnu99 -mtune=generic -c inPolygon.c -o inPolygon.o
C:/Rtools/mingw_64/bin/g++ -shared -s -static-libgcc -o prada.dll tmp.def inPolygon.o -LC:/local323/lib/x64 -LC:/local323/lib -LC:/Users/BIOCBU˜1/BBS-3˜1.6-B/R/bin/x64 -lR
installing to C:/Users/biocbuild/bbs-3.6-bioc/meat/prada.buildbin-libdir/prada/libs/x64
** testing if installed package can be loaded
* MD5 sums
packaged installation of 'prada' as prada_1.54.0.zip
* DONE (prada)
In R CMD INSTALL
In R CMD INSTALL
* installing to library 'C:/Users/biocbuild/bbs-3.6-bioc/R/library'
package 'prada' successfully unpacked and MD5 sums checked
In R CMD INSTALL