| Back to Multiple platform build/check report for BioC 3.6 | 
 | 
This page was generated on 2018-04-12 13:30:06 -0400 (Thu, 12 Apr 2018).
| Package 1030/1472 | Hostname | OS / Arch | INSTALL | BUILD | CHECK | BUILD BIN | ||||||
| phenopath 1.2.0 Kieran Campbell 
 | malbec1 | Linux (Ubuntu 16.04.1 LTS) / x86_64 | OK | OK | OK |  | ||||||
| tokay1 | Windows Server 2012 R2 Standard / x64 | [ OK ] | OK | OK | OK |  | ||||||
| veracruz1 | OS X 10.11.6 El Capitan / x86_64 | OK | OK | OK | OK |  | 
| Package: phenopath | 
| Version: 1.2.0 | 
| Command: rm -rf phenopath.buildbin-libdir && mkdir phenopath.buildbin-libdir && C:\cygwin\bin\curl.exe -O https://malbec1.bioconductor.org/BBS/3.6/bioc/src/contrib/phenopath_1.2.0.tar.gz && C:\Users\biocbuild\bbs-3.6-bioc\R\bin\R.exe CMD INSTALL --build --library=phenopath.buildbin-libdir --merge-multiarch phenopath_1.2.0.tar.gz && C:\Users\biocbuild\bbs-3.6-bioc\R\bin\R.exe CMD INSTALL phenopath_1.2.0.zip && rm phenopath_1.2.0.tar.gz phenopath_1.2.0.zip | 
| StartedAt: 2018-04-11 18:40:12 -0400 (Wed, 11 Apr 2018) | 
| EndedAt: 2018-04-11 18:41:08 -0400 (Wed, 11 Apr 2018) | 
| EllapsedTime: 55.6 seconds | 
| RetCode: 0 | 
| Status: OK | 
##############################################################################
##############################################################################
###
### Running command:
###
###   rm -rf phenopath.buildbin-libdir && mkdir phenopath.buildbin-libdir  && C:\cygwin\bin\curl.exe -O https://malbec1.bioconductor.org/BBS/3.6/bioc/src/contrib/phenopath_1.2.0.tar.gz && C:\Users\biocbuild\bbs-3.6-bioc\R\bin\R.exe CMD INSTALL --build --library=phenopath.buildbin-libdir --merge-multiarch phenopath_1.2.0.tar.gz && C:\Users\biocbuild\bbs-3.6-bioc\R\bin\R.exe CMD INSTALL phenopath_1.2.0.zip  && rm phenopath_1.2.0.tar.gz phenopath_1.2.0.zip
###
##############################################################################
##############################################################################
  % Total    % Received % Xferd  Average Speed   Time    Time     Time  Current
                                 Dload  Upload   Total   Spent    Left  Speed
  0     0    0     0    0     0      0      0 --:--:-- --:--:-- --:--:--     0
100  426k  100  426k    0     0   758k      0 --:--:-- --:--:-- --:--:--  762k
install for i386
* installing *source* package 'phenopath' ...
** libs
C:/Rtools/mingw_32/bin/g++  -I"C:/Users/BIOCBU˜1/BBS-3˜1.6-B/R/include" -DNDEBUG  -I"C:/Users/biocbuild/bbs-3.6-bioc/R/library/Rcpp/include"   -I"C:/local323/include"     -O2 -Wall  -mtune=generic -c RcppExports.cpp -o RcppExports.o
C:/Rtools/mingw_32/bin/g++  -I"C:/Users/BIOCBU˜1/BBS-3˜1.6-B/R/include" -DNDEBUG  -I"C:/Users/biocbuild/bbs-3.6-bioc/R/library/Rcpp/include"   -I"C:/local323/include"     -O2 -Wall  -mtune=generic -c cavi.cpp -o cavi.o
C:/Rtools/mingw_32/bin/g++ -shared -s -static-libgcc -o phenopath.dll tmp.def RcppExports.o cavi.o -LC:/local323/lib/i386 -LC:/local323/lib -LC:/Users/BIOCBU˜1/BBS-3˜1.6-B/R/bin/i386 -lR
installing to C:/Users/biocbuild/bbs-3.6-bioc/meat/phenopath.buildbin-libdir/phenopath/libs/i386
** R
** preparing package for lazy loading
** help
*** installing help indices
  converting help for package 'phenopath'
    finding HTML links ... done
    clvm                                    html  
    interaction_effects                     html  
    interaction_sds                         html  
    interactions                            html  
    phenopath                               html  
    finding level-2 HTML links ... done
    plot_elbo                               html  
    print.phenopath_fit                     html  
    sample_fns                              html  
    scale_vec                               html  
    significant_interactions                html  
    simulate_one_gene                       html  
    simulate_phenopath                      html  
    trajectory                              html  
** building package indices
** installing vignettes
** testing if installed package can be loaded
In R CMD INSTALL
install for x64
* installing *source* package 'phenopath' ...
** libs
C:/Rtools/mingw_64/bin/g++  -I"C:/Users/BIOCBU˜1/BBS-3˜1.6-B/R/include" -DNDEBUG  -I"C:/Users/biocbuild/bbs-3.6-bioc/R/library/Rcpp/include"   -I"C:/local323/include"     -O2 -Wall  -mtune=generic -c RcppExports.cpp -o RcppExports.o
C:/Rtools/mingw_64/bin/g++  -I"C:/Users/BIOCBU˜1/BBS-3˜1.6-B/R/include" -DNDEBUG  -I"C:/Users/biocbuild/bbs-3.6-bioc/R/library/Rcpp/include"   -I"C:/local323/include"     -O2 -Wall  -mtune=generic -c cavi.cpp -o cavi.o
C:/Rtools/mingw_64/bin/g++ -shared -s -static-libgcc -o phenopath.dll tmp.def RcppExports.o cavi.o -LC:/local323/lib/x64 -LC:/local323/lib -LC:/Users/BIOCBU˜1/BBS-3˜1.6-B/R/bin/x64 -lR
installing to C:/Users/biocbuild/bbs-3.6-bioc/meat/phenopath.buildbin-libdir/phenopath/libs/x64
** testing if installed package can be loaded
* MD5 sums
packaged installation of 'phenopath' as phenopath_1.2.0.zip
* DONE (phenopath)
In R CMD INSTALL
In R CMD INSTALL
* installing to library 'C:/Users/biocbuild/bbs-3.6-bioc/R/library'
package 'phenopath' successfully unpacked and MD5 sums checked
In R CMD INSTALL