| Back to Multiple platform build/check report for BioC 3.6 |
|
This page was generated on 2018-04-12 13:28:00 -0400 (Thu, 12 Apr 2018).
| Package 1013/1472 | Hostname | OS / Arch | INSTALL | BUILD | CHECK | BUILD BIN | ||||||
| pbcmc 1.6.0 Cristobal Fresno
| malbec1 | Linux (Ubuntu 16.04.1 LTS) / x86_64 | OK | OK | OK | |||||||
| tokay1 | Windows Server 2012 R2 Standard / x64 | [ OK ] | OK | OK | OK | |||||||
| veracruz1 | OS X 10.11.6 El Capitan / x86_64 | OK | OK | OK | OK |
| Package: pbcmc |
| Version: 1.6.0 |
| Command: rm -rf pbcmc.buildbin-libdir && mkdir pbcmc.buildbin-libdir && C:\cygwin\bin\curl.exe -O https://malbec1.bioconductor.org/BBS/3.6/bioc/src/contrib/pbcmc_1.6.0.tar.gz && C:\Users\biocbuild\bbs-3.6-bioc\R\bin\R.exe CMD INSTALL --build --library=pbcmc.buildbin-libdir --merge-multiarch pbcmc_1.6.0.tar.gz && C:\Users\biocbuild\bbs-3.6-bioc\R\bin\R.exe CMD INSTALL pbcmc_1.6.0.zip && rm pbcmc_1.6.0.tar.gz pbcmc_1.6.0.zip |
| StartedAt: 2018-04-11 18:41:23 -0400 (Wed, 11 Apr 2018) |
| EndedAt: 2018-04-11 18:42:07 -0400 (Wed, 11 Apr 2018) |
| EllapsedTime: 43.5 seconds |
| RetCode: 0 |
| Status: OK |
##############################################################################
##############################################################################
###
### Running command:
###
### rm -rf pbcmc.buildbin-libdir && mkdir pbcmc.buildbin-libdir && C:\cygwin\bin\curl.exe -O https://malbec1.bioconductor.org/BBS/3.6/bioc/src/contrib/pbcmc_1.6.0.tar.gz && C:\Users\biocbuild\bbs-3.6-bioc\R\bin\R.exe CMD INSTALL --build --library=pbcmc.buildbin-libdir --merge-multiarch pbcmc_1.6.0.tar.gz && C:\Users\biocbuild\bbs-3.6-bioc\R\bin\R.exe CMD INSTALL pbcmc_1.6.0.zip && rm pbcmc_1.6.0.tar.gz pbcmc_1.6.0.zip
###
##############################################################################
##############################################################################
% Total % Received % Xferd Average Speed Time Time Time Current
Dload Upload Total Spent Left Speed
0 0 0 0 0 0 0 0 --:--:-- --:--:-- --:--:-- 0
0 555k 0 0 0 0 0 0 --:--:-- --:--:-- --:--:-- 0
100 555k 100 555k 0 0 2231k 0 --:--:-- --:--:-- --:--:-- 2257k
install for i386
* installing *source* package 'pbcmc' ...
** R
** data
** inst
** preparing package for lazy loading
No methods found in package 'BiocGenerics' for request: 'unlist' when loading 'pbcmc'
** help
*** installing help indices
converting help for package 'pbcmc'
finding HTML links ... done
MolecularPermutationClassifier-class html
MolecularPermutationClassifierConstructor
html
MolecularPermutationClassifierGenerics
html
MolecularPermutationClassifierGetseters
html
MolecularPermutationClassifierShow html
PAM50-class html
PAM50Classify html
PAM50Constructor html
finding level-2 HTML links ... done
PAM50Filtrate html
PAM50Permutate html
PAM50SubjectReport html
PAM50Subtype html
pbcmcData html
pbcmcPackage html
** building package indices
** installing vignettes
** testing if installed package can be loaded
No methods found in package 'BiocGenerics' for request: 'unlist' when loading 'pbcmc'
In R CMD INSTALL
install for x64
* installing *source* package 'pbcmc' ...
** testing if installed package can be loaded
No methods found in package 'BiocGenerics' for request: 'unlist' when loading 'pbcmc'
* MD5 sums
packaged installation of 'pbcmc' as pbcmc_1.6.0.zip
* DONE (pbcmc)
In R CMD INSTALL
In R CMD INSTALL
* installing to library 'C:/Users/biocbuild/bbs-3.6-bioc/R/library'
package 'pbcmc' successfully unpacked and MD5 sums checked
In R CMD INSTALL