| Back to Multiple platform build/check report for BioC 3.6 |
|
This page was generated on 2018-04-12 13:29:31 -0400 (Thu, 12 Apr 2018).
| Package 1006/1472 | Hostname | OS / Arch | INSTALL | BUILD | CHECK | BUILD BIN | ||||||
| pathprint 1.6.0 Sokratis Kariotis
| malbec1 | Linux (Ubuntu 16.04.1 LTS) / x86_64 | OK | OK | OK | |||||||
| tokay1 | Windows Server 2012 R2 Standard / x64 | [ OK ] | OK | OK | OK | |||||||
| veracruz1 | OS X 10.11.6 El Capitan / x86_64 | OK | OK | OK | OK |
| Package: pathprint |
| Version: 1.6.0 |
| Command: rm -rf pathprint.buildbin-libdir && mkdir pathprint.buildbin-libdir && C:\cygwin\bin\curl.exe -O https://malbec1.bioconductor.org/BBS/3.6/bioc/src/contrib/pathprint_1.6.0.tar.gz && C:\Users\biocbuild\bbs-3.6-bioc\R\bin\R.exe CMD INSTALL --build --library=pathprint.buildbin-libdir --merge-multiarch pathprint_1.6.0.tar.gz && C:\Users\biocbuild\bbs-3.6-bioc\R\bin\R.exe CMD INSTALL pathprint_1.6.0.zip && rm pathprint_1.6.0.tar.gz pathprint_1.6.0.zip |
| StartedAt: 2018-04-11 18:13:42 -0400 (Wed, 11 Apr 2018) |
| EndedAt: 2018-04-11 18:14:42 -0400 (Wed, 11 Apr 2018) |
| EllapsedTime: 59.3 seconds |
| RetCode: 0 |
| Status: OK |
##############################################################################
##############################################################################
###
### Running command:
###
### rm -rf pathprint.buildbin-libdir && mkdir pathprint.buildbin-libdir && C:\cygwin\bin\curl.exe -O https://malbec1.bioconductor.org/BBS/3.6/bioc/src/contrib/pathprint_1.6.0.tar.gz && C:\Users\biocbuild\bbs-3.6-bioc\R\bin\R.exe CMD INSTALL --build --library=pathprint.buildbin-libdir --merge-multiarch pathprint_1.6.0.tar.gz && C:\Users\biocbuild\bbs-3.6-bioc\R\bin\R.exe CMD INSTALL pathprint_1.6.0.zip && rm pathprint_1.6.0.tar.gz pathprint_1.6.0.zip
###
##############################################################################
##############################################################################
% Total % Received % Xferd Average Speed Time Time Time Current
Dload Upload Total Spent Left Speed
0 0 0 0 0 0 0 0 --:--:-- --:--:-- --:--:-- 0
100 2992k 100 2992k 0 0 59.4M 0 --:--:-- --:--:-- --:--:-- 64.9M
install for i386
* installing *source* package 'pathprint' ...
** R
** data
** inst
** preparing package for lazy loading
** help
*** installing help indices
converting help for package 'pathprint'
finding HTML links ... done
chipframe html
consensusDistance html
consensusFingerprint html
customCDFAnn html
diffPathways html
exprs2fingerprint html
genesets html
pathprint-package html
pathprint.Ce.gs html
pathprint.Dm.gs html
pathprint.Dr.gs html
pathprint.Hs.gs html
pathprint.Mm.gs html
pathprint.Rn.gs html
platform.thresholds html
pluripotents.frame html
single.chip.enrichment html
thresholdFingerprint html
** building package indices
** installing vignettes
** testing if installed package can be loaded
In R CMD INSTALL
install for x64
* installing *source* package 'pathprint' ...
** testing if installed package can be loaded
* MD5 sums
packaged installation of 'pathprint' as pathprint_1.6.0.zip
* DONE (pathprint)
In R CMD INSTALL
In R CMD INSTALL
* installing to library 'C:/Users/biocbuild/bbs-3.6-bioc/R/library'
package 'pathprint' successfully unpacked and MD5 sums checked
In R CMD INSTALL