| Back to Multiple platform build/check report for BioC 3.6 |
|
This page was generated on 2018-04-12 13:23:28 -0400 (Thu, 12 Apr 2018).
| Package 976/1472 | Hostname | OS / Arch | INSTALL | BUILD | CHECK | BUILD BIN | ||||||
| openCyto 1.16.1 Mike Jiang
| malbec1 | Linux (Ubuntu 16.04.1 LTS) / x86_64 | OK | OK | WARNINGS | |||||||
| tokay1 | Windows Server 2012 R2 Standard / x64 | [ OK ] | OK | WARNINGS | OK | |||||||
| veracruz1 | OS X 10.11.6 El Capitan / x86_64 | OK | OK | WARNINGS | OK |
| Package: openCyto |
| Version: 1.16.1 |
| Command: rm -rf openCyto.buildbin-libdir && mkdir openCyto.buildbin-libdir && C:\cygwin\bin\curl.exe -O https://malbec1.bioconductor.org/BBS/3.6/bioc/src/contrib/openCyto_1.16.1.tar.gz && C:\Users\biocbuild\bbs-3.6-bioc\R\bin\R.exe CMD INSTALL --build --library=openCyto.buildbin-libdir --merge-multiarch openCyto_1.16.1.tar.gz && C:\Users\biocbuild\bbs-3.6-bioc\R\bin\R.exe CMD INSTALL openCyto_1.16.1.zip && rm openCyto_1.16.1.tar.gz openCyto_1.16.1.zip |
| StartedAt: 2018-04-11 18:48:11 -0400 (Wed, 11 Apr 2018) |
| EndedAt: 2018-04-11 18:49:48 -0400 (Wed, 11 Apr 2018) |
| EllapsedTime: 97.6 seconds |
| RetCode: 0 |
| Status: OK |
##############################################################################
##############################################################################
###
### Running command:
###
### rm -rf openCyto.buildbin-libdir && mkdir openCyto.buildbin-libdir && C:\cygwin\bin\curl.exe -O https://malbec1.bioconductor.org/BBS/3.6/bioc/src/contrib/openCyto_1.16.1.tar.gz && C:\Users\biocbuild\bbs-3.6-bioc\R\bin\R.exe CMD INSTALL --build --library=openCyto.buildbin-libdir --merge-multiarch openCyto_1.16.1.tar.gz && C:\Users\biocbuild\bbs-3.6-bioc\R\bin\R.exe CMD INSTALL openCyto_1.16.1.zip && rm openCyto_1.16.1.tar.gz openCyto_1.16.1.zip
###
##############################################################################
##############################################################################
% Total % Received % Xferd Average Speed Time Time Time Current
Dload Upload Total Spent Left Speed
0 0 0 0 0 0 0 0 --:--:-- --:--:-- --:--:-- 0
100 332k 100 332k 0 0 7525k 0 --:--:-- --:--:-- --:--:-- 8304k
install for i386
* installing *source* package 'openCyto' ...
** libs
C:/Rtools/mingw_32/bin/g++ -I"C:/Users/BIOCBU˜1/BBS-3˜1.6-B/R/include" -DNDEBUG -I"C:/Users/biocbuild/bbs-3.6-bioc/R/library/Rcpp/include" -I"C:/local323/include" -O2 -Wall -mtune=generic -c RcppExports.cpp -o RcppExports.o
C:/Rtools/mingw_32/bin/g++ -I"C:/Users/BIOCBU˜1/BBS-3˜1.6-B/R/include" -DNDEBUG -I"C:/Users/biocbuild/bbs-3.6-bioc/R/library/Rcpp/include" -I"C:/local323/include" -O2 -Wall -mtune=generic -c misc.cpp -o misc.o
misc.cpp: In function 'Rcpp::NumericMatrix collapseData(Rcpp::List, Rcpp::StringVector)':
misc.cpp:10:24: warning: comparison between signed and unsigned integer expressions [-Wsign-compare]
for(unsigned i = 0; i < mat_list.size(); i++){
^
misc.cpp:21:31: warning: comparison between signed and unsigned integer expressions [-Wsign-compare]
for(unsigned ind = 0; ind < mat_list.size(); ind++){
^
C:/Rtools/mingw_32/bin/gcc -I"C:/Users/BIOCBU˜1/BBS-3˜1.6-B/R/include" -DNDEBUG -I"C:/Users/biocbuild/bbs-3.6-bioc/R/library/Rcpp/include" -I"C:/local323/include" -O3 -Wall -std=gnu99 -mtune=generic -c unlockNamespace.c -o unlockNamespace.o
C:/Rtools/mingw_32/bin/g++ -shared -s -static-libgcc -o openCyto.dll tmp.def RcppExports.o misc.o unlockNamespace.o -LC:/local323/lib/i386 -LC:/local323/lib -LC:/Users/BIOCBU˜1/BBS-3˜1.6-B/R/bin/i386 -lR
installing to C:/Users/biocbuild/bbs-3.6-bioc/meat/openCyto.buildbin-libdir/openCyto/libs/i386
** R
** inst
** preparing package for lazy loading
** help
*** installing help indices
converting help for package 'openCyto'
finding HTML links ... done
add html
add_pop html
as.data.table.gatingTemplate html
boolMethod-class html
dims-gtMethod-method html
dummyMethod-class html
fcEllipsoidGate-class html
fcEllipsoidGate html
fcFilter-class html
fcFilterList-class html
fcFilterList html
fcPolygonGate-class html
fcPolygonGate html
fcRectangleGate-class html
fcRectangleGate html
fcTree-class html
fcTree html
flowClust1d html
finding level-2 HTML links ... done
flowClust2d html
gate_mindensity html
gate_mindensity2 html
gate_quad_sequential html
gate_quad_tmix html
gate_quantile html
gate_tail html
gating-gtMethod-GatingSet-method html
gating-methods html
gatingTemplate-class html
getChildren-gatingTemplate-character-method
html
getGate-fcTree-character-method html
getGate-gatingTemplate-character-method
html
getNodes-fcTree-method html
getNodes html
getParent-gatingTemplate-character-method
html
groupBy-gtMethod-method html
gtMethod-class html
gtPopulation-class html
gtSubsets-class html
isCollapse-gtMethod-method html
isPolyfunctional html
listgtMethods html
names-gtMethod-method html
names-gtPopulation-method html
ocRectRefGate-class html
ocRectRefGate html
ocRectangleGate-class html
openCyto html
openCyto.options html
parameters-gtMethod-method html
plot-fcFilterList-ANY-method html
plot-fcTree-character-method html
plot-gatingTemplate-missing-method html
polyFunctions-class html
posteriors-fcFilter-ANY-method html
ppMethod-class html
ppMethod-gatingTemplate-character-method
html
preprocessing-ppMethod-GatingSet-method
html
prior_flowClust html
prior_flowClust1d html
prior_kmeans html
priors-fcFilter-ANY-method html
refGate-class html
registerPlugins html
show-boolMethod-method html
show-fcFilter-method html
show-gatingTemplate-method html
show-gtMethod-method html
templateGen html
toggle.helperGates html
** building package indices
** installing vignettes
** testing if installed package can be loaded
In R CMD INSTALL
install for x64
* installing *source* package 'openCyto' ...
** libs
C:/Rtools/mingw_64/bin/g++ -I"C:/Users/BIOCBU˜1/BBS-3˜1.6-B/R/include" -DNDEBUG -I"C:/Users/biocbuild/bbs-3.6-bioc/R/library/Rcpp/include" -I"C:/local323/include" -O2 -Wall -mtune=generic -c RcppExports.cpp -o RcppExports.o
C:/Rtools/mingw_64/bin/g++ -I"C:/Users/BIOCBU˜1/BBS-3˜1.6-B/R/include" -DNDEBUG -I"C:/Users/biocbuild/bbs-3.6-bioc/R/library/Rcpp/include" -I"C:/local323/include" -O2 -Wall -mtune=generic -c misc.cpp -o misc.o
C:/Rtools/mingw_64/bin/gcc -I"C:/Users/BIOCBU˜1/BBS-3˜1.6-B/R/include" -DNDEBUG -I"C:/Users/biocbuild/bbs-3.6-bioc/R/library/Rcpp/include" -I"C:/local323/include" -O2 -Wall -std=gnu99 -mtune=generic -c unlockNamespace.c -o unlockNamespace.o
C:/Rtools/mingw_64/bin/g++ -shared -s -static-libgcc -o openCyto.dll tmp.def RcppExports.o misc.o unlockNamespace.o -LC:/local323/lib/x64 -LC:/local323/lib -LC:/Users/BIOCBU˜1/BBS-3˜1.6-B/R/bin/x64 -lR
installing to C:/Users/biocbuild/bbs-3.6-bioc/meat/openCyto.buildbin-libdir/openCyto/libs/x64
** testing if installed package can be loaded
* MD5 sums
packaged installation of 'openCyto' as openCyto_1.16.1.zip
* DONE (openCyto)
In R CMD INSTALL
In R CMD INSTALL
* installing to library 'C:/Users/biocbuild/bbs-3.6-bioc/R/library'
package 'openCyto' successfully unpacked and MD5 sums checked
In R CMD INSTALL