| Back to Multiple platform build/check report for BioC 3.6 |
|
This page was generated on 2018-04-12 13:27:38 -0400 (Thu, 12 Apr 2018).
| Package 952/1472 | Hostname | OS / Arch | INSTALL | BUILD | CHECK | BUILD BIN | ||||||
| nucleoSim 1.6.0 Astrid Deschenes
| malbec1 | Linux (Ubuntu 16.04.1 LTS) / x86_64 | OK | OK | OK | |||||||
| tokay1 | Windows Server 2012 R2 Standard / x64 | [ OK ] | OK | OK | OK | |||||||
| veracruz1 | OS X 10.11.6 El Capitan / x86_64 | OK | OK | OK | OK |
| Package: nucleoSim |
| Version: 1.6.0 |
| Command: rm -rf nucleoSim.buildbin-libdir && mkdir nucleoSim.buildbin-libdir && C:\cygwin\bin\curl.exe -O https://malbec1.bioconductor.org/BBS/3.6/bioc/src/contrib/nucleoSim_1.6.0.tar.gz && C:\Users\biocbuild\bbs-3.6-bioc\R\bin\R.exe CMD INSTALL --build --library=nucleoSim.buildbin-libdir --merge-multiarch nucleoSim_1.6.0.tar.gz && C:\Users\biocbuild\bbs-3.6-bioc\R\bin\R.exe CMD INSTALL nucleoSim_1.6.0.zip && rm nucleoSim_1.6.0.tar.gz nucleoSim_1.6.0.zip |
| StartedAt: 2018-04-11 18:23:40 -0400 (Wed, 11 Apr 2018) |
| EndedAt: 2018-04-11 18:24:26 -0400 (Wed, 11 Apr 2018) |
| EllapsedTime: 46.7 seconds |
| RetCode: 0 |
| Status: OK |
##############################################################################
##############################################################################
###
### Running command:
###
### rm -rf nucleoSim.buildbin-libdir && mkdir nucleoSim.buildbin-libdir && C:\cygwin\bin\curl.exe -O https://malbec1.bioconductor.org/BBS/3.6/bioc/src/contrib/nucleoSim_1.6.0.tar.gz && C:\Users\biocbuild\bbs-3.6-bioc\R\bin\R.exe CMD INSTALL --build --library=nucleoSim.buildbin-libdir --merge-multiarch nucleoSim_1.6.0.tar.gz && C:\Users\biocbuild\bbs-3.6-bioc\R\bin\R.exe CMD INSTALL nucleoSim_1.6.0.zip && rm nucleoSim_1.6.0.tar.gz nucleoSim_1.6.0.zip
###
##############################################################################
##############################################################################
% Total % Received % Xferd Average Speed Time Time Time Current
Dload Upload Total Spent Left Speed
0 0 0 0 0 0 0 0 --:--:-- --:--:-- --:--:-- 0
100 22431 100 22431 0 0 919k 0 --:--:-- --:--:-- --:--:-- 1095k
install for i386
* installing *source* package 'nucleoSim' ...
** R
** inst
** preparing package for lazy loading
** help
*** installing help indices
converting help for package 'nucleoSim'
finding HTML links ... done
createNucReadsFromNucMap html
nucleoSim-package html
plot.syntheticNucMap html
plot.syntheticNucReads html
syntheticNucMapFromDist html
syntheticNucMapFromDistValidation html
syntheticNucReadsFromDist html
syntheticNucReadsFromMap html
syntheticNucReadsValidation html
** building package indices
** installing vignettes
** testing if installed package can be loaded
In R CMD INSTALL
install for x64
* installing *source* package 'nucleoSim' ...
** testing if installed package can be loaded
* MD5 sums
packaged installation of 'nucleoSim' as nucleoSim_1.6.0.zip
* DONE (nucleoSim)
In R CMD INSTALL
In R CMD INSTALL
* installing to library 'C:/Users/biocbuild/bbs-3.6-bioc/R/library'
package 'nucleoSim' successfully unpacked and MD5 sums checked
In R CMD INSTALL