| Back to Multiple platform build/check report for BioC 3.6 |
|
This page was generated on 2018-04-12 13:23:16 -0400 (Thu, 12 Apr 2018).
| Package 924/1472 | Hostname | OS / Arch | INSTALL | BUILD | CHECK | BUILD BIN | ||||||
| mzID 1.16.0 Thomas Lin Pedersen
| malbec1 | Linux (Ubuntu 16.04.1 LTS) / x86_64 | OK | OK | OK | |||||||
| tokay1 | Windows Server 2012 R2 Standard / x64 | [ OK ] | OK | WARNINGS | OK | |||||||
| veracruz1 | OS X 10.11.6 El Capitan / x86_64 | OK | OK | OK | OK |
| Package: mzID |
| Version: 1.16.0 |
| Command: rm -rf mzID.buildbin-libdir && mkdir mzID.buildbin-libdir && C:\cygwin\bin\curl.exe -O https://malbec1.bioconductor.org/BBS/3.6/bioc/src/contrib/mzID_1.16.0.tar.gz && C:\Users\biocbuild\bbs-3.6-bioc\R\bin\R.exe CMD INSTALL --build --library=mzID.buildbin-libdir --merge-multiarch mzID_1.16.0.tar.gz && C:\Users\biocbuild\bbs-3.6-bioc\R\bin\R.exe CMD INSTALL mzID_1.16.0.zip && rm mzID_1.16.0.tar.gz mzID_1.16.0.zip |
| StartedAt: 2018-04-11 18:12:31 -0400 (Wed, 11 Apr 2018) |
| EndedAt: 2018-04-11 18:13:41 -0400 (Wed, 11 Apr 2018) |
| EllapsedTime: 70.2 seconds |
| RetCode: 0 |
| Status: OK |
##############################################################################
##############################################################################
###
### Running command:
###
### rm -rf mzID.buildbin-libdir && mkdir mzID.buildbin-libdir && C:\cygwin\bin\curl.exe -O https://malbec1.bioconductor.org/BBS/3.6/bioc/src/contrib/mzID_1.16.0.tar.gz && C:\Users\biocbuild\bbs-3.6-bioc\R\bin\R.exe CMD INSTALL --build --library=mzID.buildbin-libdir --merge-multiarch mzID_1.16.0.tar.gz && C:\Users\biocbuild\bbs-3.6-bioc\R\bin\R.exe CMD INSTALL mzID_1.16.0.zip && rm mzID_1.16.0.tar.gz mzID_1.16.0.zip
###
##############################################################################
##############################################################################
% Total % Received % Xferd Average Speed Time Time Time Current
Dload Upload Total Spent Left Speed
0 0 0 0 0 0 0 0 --:--:-- --:--:-- --:--:-- 0
100 485k 100 485k 0 0 1869k 0 --:--:-- --:--:-- --:--:-- 1890k
install for i386
* installing *source* package 'mzID' ...
** R
** inst
** preparing package for lazy loading
** help
*** installing help indices
converting help for package 'mzID'
finding HTML links ... done
flatten html
increment html
keyFor html
mzID-class html
mzID-getters html
mzID-package html
mzID html
mzIDCollection-class html
mzIDCollection html
mzIDdatabase-class html
mzIDdatabase html
Rd warning: C:/Users/biocbuild/bbs-3.6-bioc/tmpdir/Rtmpw7Li9H/R.INSTALL10642d8b104f/mzID/man/mzIDdatabase.Rd:11: missing file link 'xmlInternalTreeParse'
mzIDevidence-class html
mzIDevidence html
Rd warning: C:/Users/biocbuild/bbs-3.6-bioc/tmpdir/Rtmpw7Li9H/R.INSTALL10642d8b104f/mzID/man/mzIDevidence.Rd:11: missing file link 'xmlInternalTreeParse'
mzIDparameters-class html
mzIDparameters html
Rd warning: C:/Users/biocbuild/bbs-3.6-bioc/tmpdir/Rtmpw7Li9H/R.INSTALL10642d8b104f/mzID/man/mzIDparameters.Rd:11: missing file link 'xmlInternalTreeParse'
mzIDpeptides-class html
mzIDpeptides html
Rd warning: C:/Users/biocbuild/bbs-3.6-bioc/tmpdir/Rtmpw7Li9H/R.INSTALL10642d8b104f/mzID/man/mzIDpeptides.Rd:11: missing file link 'xmlInternalTreeParse'
mzIDpsm-class html
mzIDpsm html
Rd warning: C:/Users/biocbuild/bbs-3.6-bioc/tmpdir/Rtmpw7Li9H/R.INSTALL10642d8b104f/mzID/man/mzIDpsm.Rd:11: missing file link 'xmlInternalTreeParse'
removeDecoy html
** building package indices
** installing vignettes
** testing if installed package can be loaded
In R CMD INSTALL
install for x64
* installing *source* package 'mzID' ...
** testing if installed package can be loaded
* MD5 sums
packaged installation of 'mzID' as mzID_1.16.0.zip
* DONE (mzID)
In R CMD INSTALL
In R CMD INSTALL
* installing to library 'C:/Users/biocbuild/bbs-3.6-bioc/R/library'
package 'mzID' successfully unpacked and MD5 sums checked
In R CMD INSTALL