| Back to Multiple platform build/check report for BioC 3.6 |
|
This page was generated on 2018-04-12 13:35:02 -0400 (Thu, 12 Apr 2018).
| Package 859/1472 | Hostname | OS / Arch | INSTALL | BUILD | CHECK | BUILD BIN | ||||||
| minfi 1.24.0 Kasper Daniel Hansen
| malbec1 | Linux (Ubuntu 16.04.1 LTS) / x86_64 | OK | OK | OK | |||||||
| tokay1 | Windows Server 2012 R2 Standard / x64 | OK | OK | WARNINGS | OK | |||||||
| veracruz1 | OS X 10.11.6 El Capitan / x86_64 | OK | OK | [ OK ] | OK |
| Package: minfi |
| Version: 1.24.0 |
| Command: /Library/Frameworks/R.framework/Versions/Current/Resources/bin/R CMD check --no-vignettes --timings minfi_1.24.0.tar.gz |
| StartedAt: 2018-04-12 06:27:49 -0400 (Thu, 12 Apr 2018) |
| EndedAt: 2018-04-12 06:38:59 -0400 (Thu, 12 Apr 2018) |
| EllapsedTime: 670.1 seconds |
| RetCode: 0 |
| Status: OK |
| CheckDir: minfi.Rcheck |
| Warnings: 0 |
##############################################################################
##############################################################################
###
### Running command:
###
### /Library/Frameworks/R.framework/Versions/Current/Resources/bin/R CMD check --no-vignettes --timings minfi_1.24.0.tar.gz
###
##############################################################################
##############################################################################
* using log directory ‘/Users/biocbuild/bbs-3.6-bioc/meat/minfi.Rcheck’
* using R version 3.4.4 (2018-03-15)
* using platform: x86_64-apple-darwin15.6.0 (64-bit)
* using session charset: UTF-8
* using option ‘--no-vignettes’
* checking for file ‘minfi/DESCRIPTION’ ... OK
* this is package ‘minfi’ version ‘1.24.0’
* checking package namespace information ... OK
* checking package dependencies ... OK
* checking if this is a source package ... OK
* checking if there is a namespace ... OK
* checking for hidden files and directories ... OK
* checking for portable file names ... OK
* checking for sufficient/correct file permissions ... OK
* checking whether package ‘minfi’ can be installed ... OK
* checking installed package size ... OK
* checking package directory ... OK
* checking ‘build’ directory ... OK
* checking DESCRIPTION meta-information ... OK
* checking top-level files ... OK
* checking for left-over files ... OK
* checking index information ... OK
* checking package subdirectories ... OK
* checking R files for non-ASCII characters ... OK
* checking R files for syntax errors ... OK
* checking whether the package can be loaded ... OK
* checking whether the package can be loaded with stated dependencies ... OK
* checking whether the package can be unloaded cleanly ... OK
* checking whether the namespace can be loaded with stated dependencies ... OK
* checking whether the namespace can be unloaded cleanly ... OK
* checking dependencies in R code ... NOTE
Unexported object imported by a ':::' call: ‘bumphunter:::.getEstimate’
See the note in ?`:::` about the use of this operator.
* checking S3 generic/method consistency ... OK
* checking replacement functions ... OK
* checking foreign function calls ... OK
* checking R code for possible problems ... OK
* checking Rd files ... OK
* checking Rd metadata ... OK
* checking Rd cross-references ... OK
* checking for missing documentation entries ... OK
* checking for code/documentation mismatches ... OK
* checking Rd \usage sections ... OK
* checking Rd contents ... OK
* checking for unstated dependencies in examples ... OK
* checking sizes of PDF files under ‘inst/doc’ ... OK
* checking installed files from ‘inst/doc’ ... OK
* checking files in ‘vignettes’ ... OK
* checking examples ... OK
Examples with CPU or elapsed time > 5s
user system elapsed
combineArrays 60.239 3.454 65.051
bumphunter 31.824 7.276 39.910
preprocessIllumina 7.790 0.725 8.686
read.metharray.exp 7.837 0.388 8.406
compartments 5.722 0.833 6.704
densityPlot 5.731 0.735 6.548
densityBeanPlot 4.922 0.609 5.619
read.metharray 5.093 0.289 5.568
minfiQC 4.297 0.694 5.087
preprocessFunnorm 4.619 0.287 5.025
* checking for unstated dependencies in ‘tests’ ... OK
* checking tests ...
Running ‘runTests.R’
OK
* checking for unstated dependencies in vignettes ... OK
* checking package vignettes in ‘inst/doc’ ... OK
* checking running R code from vignettes ... SKIPPED
* checking re-building of vignette outputs ... SKIPPED
* checking PDF version of manual ... OK
* DONE
Status: 1 NOTE
See
‘/Users/biocbuild/bbs-3.6-bioc/meat/minfi.Rcheck/00check.log’
for details.
minfi.Rcheck/00install.out
* installing *source* package ‘minfi’ ... ** R ** inst ** preparing package for lazy loading ** help *** installing help indices ** building package indices ** installing vignettes ** testing if installed package can be loaded * DONE (minfi)
minfi.Rcheck/tests/runTests.Rout
R version 3.4.4 (2018-03-15) -- "Someone to Lean On"
Copyright (C) 2018 The R Foundation for Statistical Computing
Platform: x86_64-apple-darwin15.6.0 (64-bit)
R is free software and comes with ABSOLUTELY NO WARRANTY.
You are welcome to redistribute it under certain conditions.
Type 'license()' or 'licence()' for distribution details.
R is a collaborative project with many contributors.
Type 'contributors()' for more information and
'citation()' on how to cite R or R packages in publications.
Type 'demo()' for some demos, 'help()' for on-line help, or
'help.start()' for an HTML browser interface to help.
Type 'q()' to quit R.
> require("minfi") || stop("unable to load minfi")
Loading required package: minfi
Loading required package: BiocGenerics
Loading required package: parallel
Attaching package: 'BiocGenerics'
The following objects are masked from 'package:parallel':
clusterApply, clusterApplyLB, clusterCall, clusterEvalQ,
clusterExport, clusterMap, parApply, parCapply, parLapply,
parLapplyLB, parRapply, parSapply, parSapplyLB
The following objects are masked from 'package:stats':
IQR, mad, sd, var, xtabs
The following objects are masked from 'package:base':
Filter, Find, Map, Position, Reduce, anyDuplicated, append,
as.data.frame, cbind, colMeans, colSums, colnames, do.call,
duplicated, eval, evalq, get, grep, grepl, intersect, is.unsorted,
lapply, lengths, mapply, match, mget, order, paste, pmax, pmax.int,
pmin, pmin.int, rank, rbind, rowMeans, rowSums, rownames, sapply,
setdiff, sort, table, tapply, union, unique, unsplit, which,
which.max, which.min
Loading required package: GenomicRanges
Loading required package: stats4
Loading required package: S4Vectors
Attaching package: 'S4Vectors'
The following object is masked from 'package:base':
expand.grid
Loading required package: IRanges
Loading required package: GenomeInfoDb
Loading required package: SummarizedExperiment
Loading required package: Biobase
Welcome to Bioconductor
Vignettes contain introductory material; view with
'browseVignettes()'. To cite Bioconductor, see
'citation("Biobase")', and for packages 'citation("pkgname")'.
Loading required package: DelayedArray
Loading required package: matrixStats
Attaching package: 'matrixStats'
The following objects are masked from 'package:Biobase':
anyMissing, rowMedians
Attaching package: 'DelayedArray'
The following objects are masked from 'package:matrixStats':
colMaxs, colMins, colRanges, rowMaxs, rowMins, rowRanges
The following object is masked from 'package:base':
apply
Loading required package: Biostrings
Loading required package: XVector
Attaching package: 'Biostrings'
The following object is masked from 'package:DelayedArray':
type
The following object is masked from 'package:base':
strsplit
Loading required package: bumphunter
Loading required package: foreach
Loading required package: iterators
Loading required package: locfit
locfit 1.5-9.1 2013-03-22
Setting options('download.file.method.GEOquery'='auto')
Setting options('GEOquery.inmemory.gpl'=FALSE)
[1] TRUE
> BiocGenerics:::testPackage("minfi")
Loading required package: minfiData
Loading required package: IlluminaHumanMethylation450kmanifest
Loading required package: IlluminaHumanMethylation450kanno.ilmn12.hg19
Loading required package: digest
[preprocessFunnorm] Background and dye bias correction with noob
[preprocessNoob] Applying R/G ratio flip to fix dye bias...
[preprocessFunnorm] Mapping to genome
[preprocessFunnorm] Quantile extraction
[preprocessFunnorm] Normalization
[preprocessNoob] Applying R/G ratio flip to fix dye bias...
[preprocessQuantile] Mapping to genome.
[preprocessQuantile] Fixing outliers.
[preprocessQuantile] Quantile normalizing.
[preprocessNoob] Applying R/G ratio flip to fix dye bias...
[preprocessFunnorm] Background and dye bias correction with noob
[preprocessNoob] Applying R/G ratio flip to fix dye bias...
[preprocessFunnorm] Mapping to genome
[preprocessFunnorm] Quantile extraction
[preprocessFunnorm] Normalization
RUNIT TEST PROTOCOL -- Thu Apr 12 06:38:53 2018
***********************************************
Number of test functions: 10
Number of errors: 0
Number of failures: 0
1 Test Suite :
minfi RUnit Tests - 10 test functions, 0 errors, 0 failures
Number of test functions: 10
Number of errors: 0
Number of failures: 0
>
> proc.time()
user system elapsed
213.802 25.092 244.373
minfi.Rcheck/minfi-Ex.timings
| name | user | system | elapsed | |
| GenomicMethylSet-class | 0.003 | 0.001 | 0.004 | |
| GenomicRatioSet-class | 0.001 | 0.000 | 0.001 | |
| IlluminaMethylationManifest-class | 2.610 | 0.141 | 2.812 | |
| MethylSet-class | 0.001 | 0.000 | 0.002 | |
| RGChannelSet-class | 0.001 | 0.000 | 0.002 | |
| RatioSet-class | 0.002 | 0.001 | 0.002 | |
| bumphunter | 31.824 | 7.276 | 39.910 | |
| combineArrays | 60.239 | 3.454 | 65.051 | |
| compartments | 5.722 | 0.833 | 6.704 | |
| controlStripPlot | 3.232 | 0.264 | 3.583 | |
| convertArray | 1.589 | 0.100 | 1.722 | |
| densityBeanPlot | 4.922 | 0.609 | 5.619 | |
| densityPlot | 5.731 | 0.735 | 6.548 | |
| detectionP | 0.303 | 0.022 | 0.329 | |
| dmpFinder | 0.418 | 0.027 | 0.456 | |
| estimateCellCounts | 0.001 | 0.000 | 0.001 | |
| fixMethOutliers | 1.760 | 0.277 | 2.072 | |
| gaphunter | 0.127 | 0.003 | 0.131 | |
| getAnnotation | 2.563 | 0.239 | 2.855 | |
| getGenomicRatioSetFromGEO | 0.001 | 0.001 | 0.000 | |
| getQC | 0.221 | 0.048 | 0.286 | |
| getSex | 2.583 | 0.338 | 2.994 | |
| logit2 | 0.001 | 0.000 | 0.000 | |
| makeGenomicRatioSetFromMatrix | 0.631 | 0.073 | 0.707 | |
| mapToGenome-methods | 0.354 | 0.018 | 0.374 | |
| mdsPlot | 1.204 | 0.200 | 1.435 | |
| minfiQC | 4.297 | 0.694 | 5.087 | |
| plotBetasByType | 0.001 | 0.000 | 0.001 | |
| plotCpg | 0.138 | 0.003 | 0.143 | |
| preprocessFunnorm | 4.619 | 0.287 | 5.025 | |
| preprocessIllumina | 7.790 | 0.725 | 8.686 | |
| preprocessNoob | 1.120 | 0.085 | 1.224 | |
| preprocessQuantile | 0.641 | 0.032 | 0.700 | |
| preprocessRaw | 4.126 | 0.620 | 4.893 | |
| preprocessSwan | 0.566 | 0.034 | 0.605 | |
| qcReport | 0.062 | 0.002 | 0.064 | |
| ratioConvert-methods | 0.076 | 0.002 | 0.080 | |
| read.metharray | 5.093 | 0.289 | 5.568 | |
| read.metharray.exp | 7.837 | 0.388 | 8.406 | |
| read.metharray.sheet | 0.063 | 0.002 | 0.070 | |
| readGEORawFile | 0.000 | 0.000 | 0.001 | |
| readTCGA | 0.001 | 0.000 | 0.001 | |
| subsetByLoci | 0.453 | 0.031 | 0.505 | |
| utils | 0.200 | 0.108 | 0.321 | |