| Back to Multiple platform build/check report for BioC 3.6 |
|
This page was generated on 2018-04-12 13:08:24 -0400 (Thu, 12 Apr 2018).
| Package 870/1472 | Hostname | OS / Arch | INSTALL | BUILD | CHECK | BUILD BIN | ||||||
| miRNApath 1.38.0 James M. Ward
| malbec1 | Linux (Ubuntu 16.04.1 LTS) / x86_64 | OK | OK | [ OK ] | |||||||
| tokay1 | Windows Server 2012 R2 Standard / x64 | OK | OK | OK | OK | |||||||
| veracruz1 | OS X 10.11.6 El Capitan / x86_64 | OK | OK | OK | OK |
| Package: miRNApath |
| Version: 1.38.0 |
| Command: /home/biocbuild/bbs-3.6-bioc/R/bin/R CMD check --no-vignettes --timings miRNApath_1.38.0.tar.gz |
| StartedAt: 2018-04-12 01:10:31 -0400 (Thu, 12 Apr 2018) |
| EndedAt: 2018-04-12 01:11:00 -0400 (Thu, 12 Apr 2018) |
| EllapsedTime: 28.6 seconds |
| RetCode: 0 |
| Status: OK |
| CheckDir: miRNApath.Rcheck |
| Warnings: 0 |
##############################################################################
##############################################################################
###
### Running command:
###
### /home/biocbuild/bbs-3.6-bioc/R/bin/R CMD check --no-vignettes --timings miRNApath_1.38.0.tar.gz
###
##############################################################################
##############################################################################
* using log directory ‘/home/biocbuild/bbs-3.6-bioc/meat/miRNApath.Rcheck’
* using R version 3.4.4 (2018-03-15)
* using platform: x86_64-pc-linux-gnu (64-bit)
* using session charset: UTF-8
* using option ‘--no-vignettes’
* checking for file ‘miRNApath/DESCRIPTION’ ... OK
* checking extension type ... Package
* this is package ‘miRNApath’ version ‘1.38.0’
* checking package namespace information ... OK
* checking package dependencies ... OK
* checking if this is a source package ... OK
* checking if there is a namespace ... OK
* checking for hidden files and directories ... OK
* checking for portable file names ... OK
* checking for sufficient/correct file permissions ... OK
* checking whether package ‘miRNApath’ can be installed ... OK
* checking installed package size ... OK
* checking package directory ... OK
* checking ‘build’ directory ... OK
* checking DESCRIPTION meta-information ... OK
* checking top-level files ... OK
* checking for left-over files ... OK
* checking index information ... OK
* checking package subdirectories ... OK
* checking R files for non-ASCII characters ... OK
* checking R files for syntax errors ... OK
* checking whether the package can be loaded ... OK
* checking whether the package can be loaded with stated dependencies ... OK
* checking whether the package can be unloaded cleanly ... OK
* checking whether the namespace can be loaded with stated dependencies ... NOTE
Warning: no function found corresponding to methods exports from ‘miRNApath’ for: ‘show’
A namespace must be able to be loaded with just the base namespace
loaded: otherwise if the namespace gets loaded by a saved object, the
session will be unable to start.
Probably some imports need to be declared in the NAMESPACE file.
* checking whether the namespace can be unloaded cleanly ... OK
* checking dependencies in R code ... NOTE
Package in Depends field not imported from: ‘methods’
These packages need to be imported from (in the NAMESPACE file)
for when this namespace is loaded but not attached.
* checking S3 generic/method consistency ... OK
* checking replacement functions ... OK
* checking foreign function calls ... OK
* checking R code for possible problems ... NOTE
loadmirnapath: no visible global function definition for ‘read.table’
loadmirnapath: no visible global function definition for ‘new’
loadmirnapathways: no visible global function definition for
‘read.table’
loadmirnatogene: no visible global function definition for ‘read.table’
mirnaTable: no visible global function definition for ‘reshape’
runEnrichment : <anonymous> : <anonymous>: no visible global function
definition for ‘phyper’
runEnrichment: no visible global function definition for ‘slotNames’
Undefined global functions or variables:
new phyper read.table reshape slotNames
Consider adding
importFrom("methods", "new", "slotNames")
importFrom("stats", "phyper", "reshape")
importFrom("utils", "read.table")
to your NAMESPACE file (and ensure that your DESCRIPTION Imports field
contains 'methods').
* checking Rd files ... OK
* checking Rd metadata ... OK
* checking Rd cross-references ... OK
* checking for missing documentation entries ... OK
* checking for code/documentation mismatches ... OK
* checking Rd \usage sections ... OK
* checking Rd contents ... OK
* checking for unstated dependencies in examples ... OK
* checking contents of ‘data’ directory ... OK
* checking data for non-ASCII characters ... OK
* checking data for ASCII and uncompressed saves ... OK
* checking installed files from ‘inst/doc’ ... OK
* checking files in ‘vignettes’ ... OK
* checking examples ... OK
Examples with CPU or elapsed time > 5s
user system elapsed
mirnaTable 8.872 0.008 8.884
* checking for unstated dependencies in vignettes ... OK
* checking package vignettes in ‘inst/doc’ ... OK
* checking running R code from vignettes ... SKIPPED
* checking re-building of vignette outputs ... SKIPPED
* checking PDF version of manual ... OK
* DONE
Status: 3 NOTEs
See
‘/home/biocbuild/bbs-3.6-bioc/meat/miRNApath.Rcheck/00check.log’
for details.
miRNApath.Rcheck/00install.out
* installing *source* package ‘miRNApath’ ... ** R ** data ** inst ** preparing package for lazy loading ** help *** installing help indices ** building package indices ** installing vignettes ** testing if installed package can be loaded * DONE (miRNApath)
miRNApath.Rcheck/miRNApath-Ex.timings
| name | user | system | elapsed | |
| checkColumns | 0 | 0 | 0 | |
| convertFoldChange | 0 | 0 | 0 | |
| filtermirnapath | 0.068 | 0.000 | 0.068 | |
| loadmirnapath | 0.080 | 0.004 | 0.083 | |
| loadmirnapathways | 0.088 | 0.004 | 0.088 | |
| loadmirnatogene | 0.144 | 0.000 | 0.145 | |
| miRNApath-package | 0.004 | 0.000 | 0.003 | |
| mirnaTable | 8.872 | 0.008 | 8.884 | |
| mirnaobj | 0.02 | 0.00 | 0.02 | |
| mirnapath-class | 0.020 | 0.000 | 0.019 | |
| runEnrichment | 0 | 0 | 0 | |